Workbook

Sheet 후원금(시설)
A1: 2. 2024년 밝은언덕노인요양원 후원금 수입 · 지출 내역
A2: ( 단위 : 원 )
A3: 시설명 | B3: 후원금 수입 | L3: 후원금 지출 | AC3: 비고(잔액)
B4: 계 | C4: 지정후원금 이월금 | D4: 비지정후원금 이월금 | E4: 결연후원금 | F4: 지정후원금 | G4: 비지정후원금 | H4: 예금이자 | J4: 입금오류 | K4: 기타 (법인전입금) | L4: 계 | M4: 결연후원금 | N4: 지정후원금 | O4: 비지정후원금 | AB4: 지정후원금
I5: 결산이자 | O5: 계 | P5: 직접비 | Z5: 간접비 | AB5: 직접비
P6: 소계 | Q6: 인건비 | R6: 운영비 | S6: 주식비 | T6: 부식비 | U6: 난방비 | V6: 차량비 | W6: 입금오류 | X6: 수용기관경비 | Y6: 기타 | Z6: 소계 | AA6: 기타 | AB6: 지정후원금
A7: 밝은언덕노인요양원 | B7: =SUM(C7:K7) -> 102682252 | C7: ='후원금(시설)세부내역'!C13 -> 15357252 | D7: ='후원금(시설)세부내역'!C12 -> 4361324 | F7: ='후원금(시설)세부내역'!C6 -> 13513000 | G7: ='후원금(시설)세부내역'!C5 -> 69426000 | H7: ='후원금(시설)세부내역'!C7 -> 22576 | I7: ='후원금(시설)세부내역'!C8 -> 2100 | J7: ='후원금(시설)세부내역'!C9 -> 0 | K7: ='후원금(시설)세부내역'!C10 -> 0 | L7: =O7+AB7 -> 67923730 | O7: =P7 -> 57527430 | P7: =SUM(Q7:Y7) -> 57527430 | Q7: ='후원금(시설)세부내역'!C17 -> 0 | R7: ='후원금(시설)세부내역'!C19 -> 1149430 | S7: ='후원금(시설)세부내역'!C24 -> 0 | T7: ='후원금(시설)세부내역'!C26 -> 0 | U7: ='후원금(시설)세부내역'!C29 -> 0 | V7: ='후원금(시설)세부내역'!C27 -> 0 | W7: ='후원금(시설)세부내역'!C31 -> 0 | X7: ='후원금(시설)세부내역'!C32 -> 56378000 | AB7: ='후원금(시설)세부내역'!C34 -> 10396300 | AC7: =B8-Q8 -> 34758522
A8: 후원금수입총계 | B8: =B7 -> 102682252 | L8: 후원금지출총계 | Q8: =L7 -> 67923730 | AC8: =B8-Q8 -> 34758522
A27: 1. 2011년 사회복지법인 밝은언덕 후원금 수입 · 지출 내역
A30: ( 단위 : 원 )
A31: 법인명 | B31: 후원금 수입 | G31: 비지정후원금 | L31: 후원금 지출 | AC31: 비고(잔액)
B32: 계 | C32: 이월금 | E32: 결연후원금 | F32: 지정후원금 | K32: 기타 | L32: 계 | M32: 결연후원금 | N32: 지정후원금 | O32: 비지정후원금 | AB32: 기타
O33: 계 | P33: 직접비 | Z33: 간접비
G34: 2859927 | P34: 소계 | Q34: 인건비 | R34: 운영비 | S34: 주식비 | T34: 부식비 | U34: 교육비 | V34: 기타사업비 | Y34: 시설전출금 | Z34: 소계 | AA34: 기타
A35: 사회복지법인 밝은언덕 | B35: =C35+G34 -> 2859927 | L35: =O35 -> 66770 | O35: =P35+Z35 -> 66770 | P35: =SUM(Q35:Y35) -> 66770 | Q35: 0 | R35: 66770 | AC35: =B35-L35 -> 2793157
A36: 후원금수입총계 | B36: =B35 -> 2859927 | L36: 후원금지출총계 | Q36: =L35 -> 66770 | AC36: =B36-Q36 -> 2793157
O38: 2011 지정, 비지정 후원금 차기이월금 계 | AC38: =#REF!+AC36 -> #REF!
O41: 2011 지정, 비지정 후원금 차기이월금 계 | AC41: =#REF!+#REF! -> #REF!

Sheet 후원금(시설)세부내역
A1: 2-1. 2024년 밝은언덕 노인요양원 후원금 월별정산
A2: 수 입 | O2: (단위 : 원)
A3: 구 분 | C3: 계 | D3: 1 | E3: 2 | F3: 3 | G3: 4 | H3: 5 | I3: 6 | J3: 7 | K3: 8 | L3: 9 | M3: 10 | N3: 11 | O3: 12
A4: 2024년 | B4: 합계 | C4: =SUM(C5:C10) -> 82963676 | D4: =SUM(D5:D10) -> 4610000 | E4: =SUM(E5:E10) -> 4675000 | F4: =SUM(F5:F10) -> 4205000 | G4: =SUM(G5:G10) -> 5425000 | H4: =SUM(H5:H10) -> 17828000 | I4: =SUM(I5:I10) -> 4165123 | J4: =SUM(J5:J10) -> 9376000 | ... O4: =SUM(O5:O10) -> 14484553
B5: 비지정 | C5: =SUM(D5:O5) -> 69426000 | D5: 4610000 | E5: 4675000 | F5: 4205000 | G5: 5425000 | H5: 4315000 | I5: 4155000 | J5: 9376000 | K5: 5175000 | L5: 4245000 | M5: 4425000 | N5: 4350000 | O5: 14470000
B6: 지정 | C6: =SUM(D6:O6) -> 13513000 | H6: 13513000
B7: 예금이자 | C7: =SUM(D7:O7) -> 22576 | I7: 9749 | O7: 12827
B8: 결산이자 | C8: =SUM(D8:O8) -> 2100 | I8: 374 | O8: 1726
B9: 입금오류 | C9: =SUM(D9:O9) -> 0
B10: 법인전입금 | C10: =SUM(D10:O10) -> 0
A11: 2023년 이월금 | B11: 합계 | C11: =SUM(C12:C13) -> 19718576
B12: 비지정 | C12: 4361324
B13: 지정 | C13: 15357252
A14: 총 계 | C14: =SUM(C4,C11) -> 102682252
A15: 지 출 | O15: (단위 : 원)
A16: 구 분 | C16: 계 | D16: 1 | E16: 2 | F16: 3 | G16: 4 | H16: 5 | I16: 6 | J16: 7 | K16: 8 | L16: 9 | M16: 10 | N16: 11 | O16: 12
A17: 인건비 | C17: =SUM(D17:O17) -> 0 | D17: =D18 -> 0 | E17: =E18 -> 0 | F17: =F18 -> 0 | G17: =G18 -> 0 | H17: =H18 -> 0 | I17: =I18 -> 0 | J17: =J18 -> 0 | K17: =K18 -> 0 | ... O17: =O18 -> 0
B18: 인건비
A19: 사무운영비 | C19: =SUM(D19:O19) -> 1149430 | D19: =SUM(D20:D23) -> 98120 | E19: =SUM(E20:E23) -> 95480 | F19: =SUM(F20:F23) -> 96470 | G19: =SUM(G20:G23) -> 95315 | H19: =SUM(H20:H23) -> 96030 | I19: =SUM(I20:I23) -> 95815 | J19: =SUM(J20:J23) -> 95810 | K19: =SUM(K20:K23) -> 94545 | ... O19: =SUM(O20:O23) -> 96615
B20: 운영비 | I20: 1490 | O20: 1960
B21: cms사용료 | D21: 55550 | E21: 55660 | F21: 55110 | G21: 55000 | H21: 55000 | I21: 55000 | J21: 55000 | K21: 55000 | L21: 55000 | M21: 55110 | N21: 55220 | O21: 55000
B22: cms수수료 | D22: 42570 | E22: 39820 | F22: 41360 | G22: 40315 | H22: 41030 | I22: 39325 | J22: 40810 | K22: 39545 | L22: 39050 | M22: 40645 | N22: 40205 | O22: 39655
B23: 수용비및수수료
A24: 사업운영비 | C24: =SUM(D24:O24) -> 0 | D24: =SUM(D25:D31) -> 0 | E24: =SUM(E25:E31) -> 0 | F24: =SUM(F25:F31) -> 0 | G24: =SUM(G25:G31) -> 0 | H24: =SUM(H25:H31) -> 0 | I24: =SUM(I25:I31) -> 0 | J24: =SUM(J25:J31) -> 0 | K24: =SUM(K25:K31) -> 0 | ... O24: =SUM(O25:O31) -> 0
B25: 주식비 | C25: =G25 -> 0
B26: 부식비 | C26: =G26 -> 0
B27: 차량비 | C27: =G27 -> 0
B28: 의료비 | C28: =G28 -> 0
B29: 난방비 | C29: =G29 -> 0
B30: 수도광열비 | C30: =G30 -> 0
B31: 입금오류환불금 | C31: =G31 -> 0
A32: 입소자수용경비 | C32: =SUM(D32:O32) -> 56378000 | D32: =D33 -> 4000000 | E32: =E33 -> 4000000 | F32: =F33 -> 4000000 | G32: =G33 -> 5405000 | H32: =H33 -> 4500000 | I32: =I33 -> 5000000 | J32: =J33 -> 4000000 | K32: =K33 -> 5300000 | ... O32: =O33 -> 4000000
B33: 수용기관경비 | D33: 4000000 | E33: 4000000 | F33: 4000000 | G33: 5405000 | H33: 4500000 | I33: 5000000 | J33: 4000000 | K33: 5300000 | L33: 7173000 | M33: 4000000 | N33: 5000000 | O33: 4000000
A34: 지정후원금 | C34: =SUM(D34:O34) -> 10396300 | D34: =D35 -> 1068000 | E34: =E35 -> 0 | F34: =F35 -> 0 | G34: =G35 -> 302000 | H34: =H35 -> 0 | I34: =I35 -> 0 | J34: =J35 -> 1006800 | K34: =K35 -> 6886000 | ... O34: =O35 -> 393000
B35: 지정후원금 | D35: 1068000 | G35: 302000 | J35: 1006800 | K35: 6886000 | N35: 740500 | O35: 393000
A36: 총 계 | C36: =SUM(C17,C19,C24,C32,C34) -> 67923730 | D36: =SUM(D17,D19,D24,D32,D34) -> 5166120 | E36: =SUM(E17,E19,E24,E32,E34) -> 4095480 | F36: =SUM(F17,F19,F24,F32,F34) -> 4096470 | G36: =SUM(G17,G19,G24,G32,G34) -> 5802315 | H36: =SUM(H17,H19,H24,H32,H34) -> 4596030 | I36: =SUM(I17,I19,I24,I32,I34) -> 5095815 | J36: =SUM(J17,J19,J24,J32,J34) -> 5102610 | ... O36: =SUM(O17,O19,O24,O32,O34) -> 4489615
A37: 잔 액 | C37: =C14-C36 -> 34758522 | O37: =A1:O37 -> 0

Sheet 비지정후원금(시설)세입.세출
A1: 2-2. 2024년 밝은언덕노인요양원 후원금 세입 계정 별 세출 계정
A2: 1) 비지정후원금 | F2: (단위 : 원) | G2: (단위 : 원) | H2: (단위 : 원)
A3: 년월일 | B3: 세출계정 | C3: 수입금액 | D3: 지출금액 | E3: 차인금액 | F3: 적요 | G3: 원본 | H3: 예외목록
B4: 전년이월금 | C4: 4361324 | D4: 0 | E4: =C4-D4 -> 4361324
A5: 44562 | B5: 비지정후원금 | C5: 30000 | D5: 0 | E5: =E4+C5 -> 4391324 | F5: 권* | G5: 권열
A6: 44564 | B6: 비지정후원금 | C6: 60000 | D6: 0 | E6: =E5+C6-D6 -> 4451324 | F6: CMS집금 | G6: CMS집금
A7: 44565 | B7: 비지정후원금 | C7: 10000 | D7: 0 | E7: =E6+C7-D7 -> 4461324 | F7: 유*남 | G7: 유순남
A8: 44566 | B8: 비지정후원금 | C8: 100000 | D8: 0 | E8: =E7+C8-D8 -> 4561324 | F8: 주석진레미콘 | G8: 주석진레미콘
A9: 44566 | B9: 비지정후원금 | C9: 100000 | D9: 0 | E9: =E8+C9-D9 -> 4661324 | F9: 0*0*김*태 | G9: 020-김홍태
A10: 44566 | B10: 비지정후원금 | C10: 260000 | D10: 0 | E10: =E9+C10-D10 -> 4921324 | F10: CMS집금 | G10: CMS집금
A11: 44566 | B11: 수용비및수수료 | D11: 55000 | E11: =E10+C11-D11 -> 4866324 | F11: ＣＭＳ사용료 | G11: ＣＭＳ사용료
A12: 44567 | B12: 비지정후원금 | C12: 40000 | D12: 0 | E12: =E11+C12-D12 -> 4906324 | F12: CMS집금 | G12: CMS집금
A13: 44568 | B13: 비지정후원금 | C13: 345000 | D13: 0 | E13: =E12+C13-D13 -> 5251324 | F13: CMS집금 | G13: CMS집금
A14: 44571 | B14: 비지정후원금 | C14: 50000 | D14: 0 | E14: =E13+C14-D14 -> 5301324 | F14: 김*옥 | G14: 김명옥
A15: 44571 | B15: 비지정후원금 | C15: 10000 | D15: 0 | E15: =E14+C15-D15 -> 5311324 | F15: 배*열 | G15: 배정열
A16: 44571 | B16: 비지정후원금 | C16: 10000 | D16: 0 | E16: =E15+C16-D16 -> 5321324 | F16: 정*후*나*용 | G16: 정기후원나형용
A17: 44571 | B17: 비지정후원금 | C17: 20000 | D17: 0 | E17: =E16+C17-D17 -> 5341324 | F17: 배*달 | G17: 배경달
A18: 44571 | B18: 비지정후원금 | C18: 10000 | D18: 0 | E18: =E17+C18-D18 -> 5351324 | F18: 임*빈 | G18: 임만빈
A19: 44571 | B19: 비지정후원금 | C19: 50000 | D19: 0 | E19: =E18+C19-D19 -> 5401324 | F19: CMS집금 | G19: CMS집금
A20: 44573 | B20: 비지정후원금 | C20: 80000 | D20: 0 | E20: =E19+C20-D20 -> 5481324 | F20: CMS집금 | G20: CMS집금
A21: 44574 | B21: 비지정후원금 | C21: 30000 | D21: 0 | E21: =E20+C21-D21 -> 5511324 | F21: CMS집금 | G21: CMS집금
A22: 44575 | B22: 비지정후원금 | C22: 35000 | D22: 0 | E22: =E21+C22-D22 -> 5546324 | F22: 장*순 | G22: 장교순
A23: 44578 | B23: 수용기관경비 | D23: 500000 | E23: =E22+C23-D23 -> 5046324 | F23: 덕인당쌍화탕 | G23: 덕인당쌍화탕
A24: 44580 | B24: 비지정후원금 | C24: 1285000 | D24: 0 | E24: =E23+C24-D24 -> 6331324 | F24: CMS집금 | G24: CMS집금
A25: 44581 | B25: 비지정후원금 | C25: 20000 | D25: 0 | E25: =E24+C25-D25 -> 6351324 | F25: 한*희 | G25: 한경희
A26: 44581 | B26: 비지정후원금 | C26: 20000 | D26: 0 | E26: =E25+C26-D26 -> 6371324 | F26: 이*오 | G26: 이계오
A27: 44581 | B27: 비지정후원금 | C27: 20000 | D27: 0 | E27: =E26+C27-D27 -> 6391324 | F27: 김*례 | G27: 김분례
A28: 44582 | B28: 비지정후원금 | C28: 100000 | D28: 0 | E28: =E27+C28-D28 -> 6491324 | F28: 임*재 | G28: 임광재
A29: 44583 | B29: 비지정후원금 | C29: 20000 | D29: 0 | E29: =E28+C29-D29 -> 6511324 | F29: 이*우 | G29: 이진우
A30: 44585 | B30: 비지정후원금 | C30: 340000 | D30: 0 | E30: =E29+C30-D30 -> 6851324 | F30: CMS집금 | G30: CMS집금
A31: 44587 | B31: 비지정후원금 | C31: 500000 | D31: 0 | E31: =E30+C31-D31 -> 7351324 | F31: 대*주*회* | G31: 대흥주식회사
A32: 44587 | B32: 비지정후원금 | C32: 100000 | D32: 0 | E32: =E31+C32-D32 -> 7451324 | F32: 박*병 | G32: 박한병
A33: 44587 | B33: 비지정후원금 | C33: 30000 | D33: 0 | E33: =E32+C33-D33 -> 7481324 | F33: 최*섭 | G33: 최광섭
A34: 44587 | B34: 비지정후원금 | C34: 30000 | D34: 0 | E34: =E33+C34-D34 -> 7511324 | F34: CMS집금 | G34: CMS집금
A35: 44587 | B35: 수용기관경비 | D35: 3236000 | E35: =E34+C35-D35 -> 4275324 | F35: 조인푸드기저귀 | G35: 조인푸드기저귀
A36: 44587 | B36: 수용기관경비 | D36: 3290000 | E36: =E35+C36-D36 -> 985324 | F36: 조인푸드 두유 | G36: 조인푸드 두유 | H36: 조인푸드 두유
A37: 44587 | B37: 비지정후원금 | C37: 10000 | D37: 0 | E37: =E36+C37-D37 -> 995324 | F37: 최*옥 | G37: 최은옥
A38: 44588 | B38: 비지정후원금 | C38: 1185000 | D38: 0 | E38: =E37+C38-D38 -> 2180324 | F38: CMS집금 | G38: CMS집금
A39: 44588 | B39: 비지정후원금 | C39: 30000 | D39: 0 | E39: =E38+C39-D39 -> 2210324 | F39: 홍*영 | G39: 홍순영
A40: 44589 | B40: 비지정후원금 | C40: 10000 | D40: 0 | E40: =E39+C40-D40 -> 2220324 | F40: 장*미 | G40: 장한미
A41: 44589 | B41: 비지정후원금 | C41: 50000 | D41: 0 | E41: =E40+C41-D41 -> 2270324 | F41: CMS집금 | G41: CMS집금
A42: 44589 | B42: 비지정후원금 | C42: 20000 | D42: 0 | E42: =E41+C42-D42 -> 2290324 | F42: 휴대전화집금 | G42: 휴대전화집금
A43: 44589 | B43: 수용비및수수료 | D43: 44990 | E43: =E42+C43-D43 -> 2245334 | F43: ＣＭＳ수수료 | G43: ＣＭＳ수수료
B44: 월 계 | C44: =SUM(C5:C42) -> 5010000 | D44: =SUM(D5:D43) -> 7125990
A45: 44593 | C45: 30000 | D45: 0 | E45: =E43+C45-D45 -> 2275334 | F45: 권* | G45: 권열
A46: 44595 | C46: 10000 | D46: 0 | E46: =E45+C46-D46 -> 2285334 | F46: 김*영 | G46: 김우영
A47: 44595 | C47: 100000 | D47: 0 | E47: =E46+C47-D47 -> 2385334 | F47: 김*태 | G47: 김홍태
A48: 44595 | C48: 50000 | D48: 0 | E48: =E47+C48-D48 -> 2435334 | F48: 강*용 | G48: 강성용
A49: 44595 | C49: 10000 | D49: 0 | E49: =E48+C49-D49 -> 2445334 | F49: 이*기 | G49: 이경기
A50: 44595 | C50: 10000 | D50: 0 | E50: =E49+C50-D50 -> 2455334 | F50: 정*숙 | G50: 정인숙
A51: 44595 | C51: 20000 | D51: 0 | E51: =E50+C51-D51 -> 2475334 | F51: CMS집금 | G51: CMS집금
A52: 44595 | C52: 20000 | D52: 0 | E52: =E51+C52-D52 -> 2495334 | F52: 정*후*서*석 | G52: 정기후원서승석
A53: 44596 | C53: 500000 | D53: 0 | E53: =E52+C53-D53 -> 2995334 | F53: 나*숙 | G53: 나정숙
A54: 44596 | C54: 20000 | D54: 0 | E54: =E53+C54-D54 -> 3015334 | F54: 이*남 | G54: 이영남
A55: 44599 | C55: 100000 | D55: 0 | E55: =E54+C55-D55 -> 3115334 | F55: 주석진레미콘 | G55: 주석진레미콘
A56: 44599 | C56: 360000 | D56: 0 | E56: =E55+C56-D56 -> 3475334 | F56: CMS집금 | G56: CMS집금
A57: 44599 | D57: 55220 | E57: =E56+C57-D57 -> 3420114 | F57: ＣＭＳ사용료 | G57: ＣＭＳ사용료
A58: 44600 | C58: 10000 | D58: 0 | E58: =E57+C58-D58 -> 3430114 | F58: 유*남 | G58: 유순남
A59: 44601 | C59: 515000 | D59: 0 | E59: =E58+C59-D59 -> 3945114 | F59: CMS집금 | G59: CMS집금
A60: 44601 | C60: 50000 | D60: 0 | E60: =E59+C60-D60 -> 3995114 | F60: 최*영 | G60: 최진영
A61: 44601 | C61: 50000 | D61: 0 | E61: =E60+C61-D61 -> 4045114 | F61: 최*웅 | G61: 최서웅
A62: 44602 | C62: 10000 | D62: 0 | E62: =E61+C62-D62 -> 4055114 | F62: 배*열 | G62: 배정열
A63: 44602 | C63: 50000 | D63: 0 | E63: =E62+C63-D63 -> 4105114 | F63: 김*옥 | G63: 김명옥
A64: 44602 | C64: 10000 | D64: 0 | E64: =E63+C64-D64 -> 4115114 | F64: 정*후*나*용 | G64: 정기후원나형용
A65: 44602 | C65: 20000 | D65: 0 | E65: =E64+C65-D65 -> 4135114 | F65: 배*달 | G65: 배경달
A66: 44602 | C66: 10000 | D66: 0 | E66: =E65+C66-D66 -> 4145114 | F66: 임*빈 | G66: 임만빈
A67: 44606 | C67: 10000 | D67: 0 | E67: =E66+C67-D67 -> 4155114 | F67: 이*우 | G67: 이진우
A68: 44606 | C68: 80000 | D68: 0 | E68: =E67+C68-D68 -> 4235114 | F68: CMS집금 | G68: CMS집금
A69: 44609 | C69: 1285000 | D69: 0 | E69: =E68+C69-D69 -> 5520114 | F69: CMS집금 | G69: CMS집금
... A86: 44620 | C86: 0 | D86: 44770 | E86: =E85+C86-D86 -> 7400344 | F86: ＣＭＳ수수료 | G86: ＣＭＳ수수료
B87: 월 계 | C87: =SUM(C45:C86) -> 5255000 | D87: =SUM(D45:D86) -> 99990
A88: 44621 | B88: 비지정후원금 | C88: 30000 | D88: 0 | E88: =E86+C88*D88 -> 7400344 | F88: 권* | G88: 권열
A89: 44621 | B89: 비지정후원금 | C89: 10000 | D89: 0 | E89: =E88+C89-D89 -> 7410344 | F89: 장*미 | G89: 장한미
A90: 44622 | B90: 비지정후원금 | C90: 70000 | D90: 0 | E90: =E89+C90-D90 -> 7480344 | F90: CMS집금 | G90: CMS집금
A91: 44623 | B91: 비지정후원금 | C91: 10000 | D91: 0 | E91: =E90+C91-D91 -> 7490344 | F91: 장*돌 | G91: 장한돌
A92: 44624 | B92: 비지정후원금 | C92: 100000 | D92: 0 | E92: =E91+C92-D92 -> 7590344 | F92: 0*0*김*태 | G92: 020-김홍태
A93: 44624 | B93: 비지정후원금 | C93: 320000 | D93: 0 | E93: =E92+C93-D93 -> 7910344 | F93: CMS집금 | G93: CMS집금
A94: 44624 | B94: 비지정후원금 | C94: 10000 | D94: 0 | E94: =E93+C94-D94 -> 7920344 | F94: 유*남 | G94: 유순남
A95: 44625 | B95: 비지정후원금 | C95: 30000 | D95: 0 | E95: =E94+C95-D95 -> 7950344 | F95: 홍*영 | G95: 홍순영
A96: 44627 | B96: 비지정후원금 | C96: 100000 | D96: 0 | E96: =E95+C96-D96 -> 8050344 | F96: 주석진레미콘 | G96: 주석진레미콘
A97: 44627 | B97: 수용비및수수료 | C97: 0 | D97: 4188000 | E97: =E96+C97-D97 -> 3862344 | F97: 조인푸드기저귀 | G97: 조인푸드기저귀
A98: 44627 | B98: 비지정후원금 | C98: 10000 | D98: 0 | E98: =E97+C98-D98 -> 3872344 | F98: 장*돌 | G98: 장한돌
A99: 44627 | B99: 비지정후원금 | C99: 40000 | D99: 0 | E99: =E98+C99-D99 -> 3912344 | F99: CMS집금 | G99: CMS집금
A100: 44627 | B100: 수용비및수수료 | C100: 0 | D100: 55000 | E100: =E99+C100-D100 -> 3857344 | F100: ＣＭＳ사용료 | G100: ＣＭＳ사용료
... A135: 44651 | B135: 수용비및수수료 | C135: 0 | D135: 48015 | E135: =E134+C135-D135 -> 10054329 | F135: ＣＭＳ수수료 | G135: ＣＭＳ수수료
B136: 월 계 | C136: =SUM(C88:C135) -> 7975000 | D136: =SUM(D88:D135) -> 5291015
A137: 44652 | B137: 비지정후원금 | C137: 30000 | D137: 0 | E137: =E135+C137-D137 -> 10084329 | F137: 권* | G137: 권열
A138: 44652 | B138: 비지정후원금 | C138: 60000 | D138: 0 | E138: =E137+C138-D138 -> 10144329 | F138: CMS집금 | G138: CMS집금
A139: 44655 | B139: 비지정후원금 | C139: 260000 | D139: 0 | E139: =E138+C139-D139 -> 10404329 | F139: CMS집금 | G139: CMS집금
A140: 44655 | B140: 수용기관경비 | C140: 0 | D140: 6320000 | E140: =E139+C140-D140 -> 4084329 | F140: 조인푸드기저귀 | G140: 조인푸드기저귀
A141: 44655 | B141: 비지정후원금 | C141: 500000 | D141: 0 | E141: =E140+C141-D141 -> 4584329 | F141: 박*철 | G141: 박성철
A142: 44656 | B142: 비지정후원금 | C142: 100000 | D142: 0 | E142: =E141+C142-D142 -> 4684329 | F142: 주석진레미콘 | G142: 주석진레미콘
A143: 44656 | B143: 수용비및수수료 | C143: 0 | D143: 55770 | E143: =E142+C143-D143 -> 4628559 | F143: ＣＭＳ사용료 | G143: ＣＭＳ사용료
A144: 44657 | B144: 비지정후원금 | C144: 10000 | D144: 0 | E144: =E143+C144-D144 -> 4638559 | F144: 장*돌 | G144: 장한돌
A145: 44657 | B145: 비지정후원금 | C145: 40000 | D145: 0 | E145: =E144+C145-D145 -> 4678559 | F145: CMS집금 | G145: CMS집금
A146: 44658 | B146: 비지정후원금 | C146: 10000 | D146: 0 | E146: =E145+C146-D146 -> 4688559 | F146: 엄*동 | G146: 엄주동
A147: 44658 | B147: 비지정후원금 | C147: 475000 | D147: 0 | E147: =E146+C147-D147 -> 5163559 | F147: CMS집금 | G147: CMS집금
A148: 44659 | B148: 비지정후원금 | C148: 20000 | D148: 0 | E148: =E147+C148-D148 -> 5183559 | F148: CMS집금 | G148: CMS집금
A149: 44660 | B149: 비지정후원금 | C149: 10000 | D149: 0 | E149: =E148+C149-D149 -> 5193559 | F149: 김*영 | G149: 김우영
... A175: 44681 | B175: 수용비및수수료 | C175: 0 | D175: 45870 | E175: =E174+C175-D175 -> 3527689 | F175: cms수수료 | G175: cms수수료
...

Sheet 후원금(시설)사용결과
B1: 2-3. 후원금 수입 및 사용결과 보고서
B2: 1) 비지정후원금(금전) 수입 명세서 (단위 : 원)
B3: 일 자 | C3: 후원금종류 | D3: 후원자 | E3: 내역 | F3: 금액 | G3: 비고
B4: 43832 | C4: 기타후원 | E4: 밝은언덕의 발전과 가족을 위해 | F4: 90000 | G4: 후원금수입(비지정)
B5: 43836 | C5: 기타후원 | E5: 밝은언덕의 발전과 가족을 위해 | F5: 100000 | G5: 후원금수입(비지정)
B6: 43836 | C6: 기타후원 | E6: 밝은언덕의 발전과 가족을 위해 | F6: 30000 | G6: 후원금수입(비지정)
B7: 43836 | C7: 기타후원 | E7: 밝은언덕의 발전과 가족을 위해 | F7: 10000 | G7: 후원금수입(비지정)
B8: 43836 | C8: 기타후원 | E8: 밝은언덕의 발전과 가족을 위해 | F8: 270000 | G8: 후원금수입(비지정)
B9: 43836 | C9: 기타후원 | E9: 밝은언덕의 발전과 가족을 위해 | F9: 400000 | G9: 후원금수입(비지정)
B10: 43836 | C10: 기타후원 | E10: 밝은언덕의 발전과 가족을 위해 | F10: 1000000 | G10: 후원금수입(비지정)
B11: 43838 | C11: 기타후원 | E11: 밝은언덕의 발전과 가족을 위해 | F11: 550000 | G11: 후원금수입(비지정)
B12: 43838 | C12: 기타후원 | E12: 밝은언덕의 발전과 가족을 위해 | F12: 1000000 | G12: 후원금수입(비지정)
B13: 43839 | C13: 기타후원 | E13: 밝은언덕의 발전과 가족을 위해 | F13: 10000 | G13: 후원금수입(비지정)
B14: 43839 | C14: 기타후원 | E14: 밝은언덕의 발전과 가족을 위해 | F14: 20000 | G14: 후원금수입(비지정)
B15: 43840 | C15: 기타후원 | E15: 밝은언덕의 발전과 가족을 위해 | F15: 10000 | G15: 후원금수입(비지정)
... B711: 44499 | C711: 기타후원 | E711: 밝은언덕의 발전과 가족을 위해 | F711: 100000 | G711: 후원금수입(비지정)
B712: 2021/11/01 | C712: 기타후원 | E712: 밝은언덕의 발전과 가족을 위해 | F712: 30000 | G712: 후원금수입(비지정)
B713: 2021/11/01 | C713: 기타후원 | E713: 밝은언덕의 발전과 가족을 위해 | F713: 10000 | G713: 후원금수입(비지정)
B714: 2021/11/01 | C714: 기타후원 | E714: 밝은언덕의 발전과 가족을 위해 | F714: 50000 | G714: 후원금수입(비지정)
B715: 2021/11/01 | C715: 기타후원 | E715: 밝은언덕의 발전과 가족을 위해 | F715: 14065 | G715: 후원금수입(비지정)
B716: 2021/11/01 | C716: 기타후원 | E716: 밝은언덕의 발전과 가족을 위해 | F716: 30000 | G716: 후원금수입(비지정)
B717: 2021/11/01 | C717: 기타후원 | E717: 밝은언덕의 발전과 가족을 위해 | F717: 10000 | G717: 후원금수입(비지정)
B718: 2021/11/01 | C718: 기타후원 | E718: 밝은언덕의 발전과 가족을 위해 | F718: 20000 | G718: 후원금수입(비지정)
B719: 2021/11/03 | C719: 기타후원 | E719: 밝은언덕의 발전과 가족을 위해 | F719: 325765 | G719: 후원금수입(비지정)
B720: 2021/11/05 | C720: 기타후원 | E720: 밝은언덕의 발전과 가족을 위해 | F720: 100000 | G720: 후원금수입(비지정)
B721: 2021/11/05 | C721: 기타후원 | E721: 밝은언덕의 발전과 가족을 위해 | F721: 100000 | G721: 후원금수입(비지정)
B722: 2021/11/06 | C722: 기타후원 | E722: 밝은언덕의 발전과 가족을 위해 | F722: 10000 | G722: 후원금수입(비지정)
B723: 2021/11/08 | C723: 기타후원 | E723: 밝은언덕의 발전과 가족을 위해 | F723: 489775 | G723: 후원금수입(비지정)
... B751: 2021/11/30 | C751: 기타후원 | E751: 밝은언덕의 발전과 가족을 위해 | F751: 30000 | G751: 후원금수입(비지정)
B752: 44531 | C752: 기타후원 | E752: 밝은언덕의 발전과 가족을 위해 | F752: 30000 | G752: 후원금수입(비지정)
B753: 44531 | C753: 기타후원 | E753: 밝은언덕의 발전과 가족을 위해 | F753: 68790 | G753: 후원금수입(비지정)
B754: 44532 | C754: 기타후원 | E754: 밝은언덕의 발전과 가족을 위해 | F754: 59175 | G754: 후원금수입(비지정)
B755: 44532 | C755: 기타후원 | E755: 밝은언덕의 발전과 가족을 위해 | F755: 10000 | G755: 후원금수입(비지정)
B756: 44533 | C756: 기타후원 | E756: 밝은언덕의 발전과 가족을 위해 | F756: 60000 | G756: 후원금수입(비지정)
B757: 44533 | C757: 기타후원 | E757: 밝은언덕의 발전과 가족을 위해 | F757: 10000 | G757: 후원금수입(비지정)
B758: 44533 | C758: 기타후원 | E758: 밝은언덕의 발전과 가족을 위해 | F758: 300000 | G758: 후원금수입(비지정)
B759: 44533 | C759: 기타후원 | E759: 밝은언덕의 발전과 가족을 위해 | F759: 291095 | G759: 후원금수입(비지정)
B760: 44535 | C760: 기타후원 | E760: 밝은언덕의 발전과 가족을 위해 | F760: 100000 | G760: 후원금수입(비지정)
B761: 44536 | C761: 기타후원 | E761: 밝은언덕의 발전과 가족을 위해 | F761: 10000 | G761: 후원금수입(비지정)
B762: 44536 | C762: 기타후원 | E762: 밝은언덕의 발전과 가족을 위해 | F762: 100000 | G762: 후원금수입(비지정)
B763: 44538 | C763: 기타후원 | E763: 밝은언덕의 발전과 가족을 위해 | F763: 489775 | G763: 후원금수입(비지정)
... B2209: 45657 | C2209: 비지정후원금 | E2209: 밝은언덕의 발전과 가족을 위해 | F2209: 10000 | G2209: 후원금수입(비지정)

Sheet 사용명세서
B1: 2-3. 후원금 수입 및 사용결과 보고서
B2: 1-1) 비지정후원금(금전) 사용명세서 (단위 : 원)
B3: 사용일자 | C3: 사용내역 | D3: 금액 | E3: 산출기준 | F3: 비고
B4: 43836 | C4: 수용비및수수료 | D4: 55000 | E4: 사무운영비 | F4: 후원금수입(비지정)
B5: 43861 | C5: 수용비및수수료 | D5: 51700 | E5: 사무운영비 | F5: 후원금수입(비지정)
B6: 43866 | C6: 수용비및수수료 | D6: 55000 | E6: 사무운영비 | F6: 후원금수입(비지정)
B7: 43867 | C7: 수용기관경비 | D7: 4784000 | E7: 입소자수용경비 | F7: 후원금수입(비지정)
B8: 43868 | C8: 수용기관경비 | D8: 891000 | E8: 입소자수용경비 | F8: 후원금수입(비지정)
B9: 43876 | C9: 수용기관경비 | D9: 150000 | E9: 입소자수용경비 | F9: 후원금수입(비지정)
B10: 43876 | C10: 수용기관경비 | D10: 300000 | E10: 입소자수용경비 | F10: 후원금수입(비지정)
B11: 43876 | C11: 수용기관경비 | D11: 360000 | E11: 입소자수용경비 | F11: 후원금수입(비지정)
B12: 43876 | C12: 수용기관경비 | D12: 150000 | E12: 입소자수용경비 | F12: 후원금수입(비지정)
B13: 43876 | C13: 수용기관경비 | D13: 300000 | E13: 입소자수용경비 | F13: 후원금수입(비지정)
B14: 43876 | C14: 수용기관경비 | D14: 360000 | E14: 입소자수용경비 | F14: 후원금수입(비지정)
B15: 43895 | C15: 수용비및수수료 | D15: 55000 | E15: 사무운영비 | F15: 후원금수입(비지정)
... B104: 44499 | C104: CMS수수료 | D104: 47410 | E104: 사무운영비 | F104: 후원금수입(비지정)
B105: 2021/11/05 | C105: 수용기관경비 | D105: 4000000 | E105: 수용기관경비 | F105: 후원금수입(비지정)
B106: 2021/11/05 | C106: 수용비및수수료 | D106: 55000 | E106: 사무운영비 | F106: 후원금수입(비지정)
B107: 2021/11/05 | C107: 수용기관경비 | D107: 365500 | E107: 수용기관경비 | F107: 후원금수입(비지정)
B108: 2021/11/12 | C108: 수용기관경비 | D108: 1471000 | E108: 수용기관경비 | F108: 후원금수입(비지정)
B109: 44536 | C109: 수용비및수수료 | D109: 55000 | E109: 사무운영비 | F109: 후원금수입(비지정)
B110: 44555 | C110: 수용비및수수료 | D110: 1210 | E110: 사무운영비 | F110: 후원금수입(비지정)
B111: 44555 | C111: 수용비및수수료 | D111: 120 | E111: 사무운영비 | F111: 후원금수입(비지정)
B112: 44566 | C112: 수용비및수수료 | D112: 55000 | E112: 사무운영비 | F112: 후원금수입(비지정)
B113: 44578 | C113: 입소자수용경비 | D113: 500000 | E113: 수용기관경비 | F113: 후원금수입(비지정)
B114: 44587 | C114: 입소자수용경비 | D114: 3236000 | E114: 수용기관경비 | F114: 후원금수입(비지정)
B115: 44587 | C115: 입소자수용경비 | D115: 3290000 | E115: 수용기관경비 | F115: 후원금수입(비지정)
B116: 44589 | C116: 수용비및수수료 | D116: 44990 | E116: 사무운영비 | F116: 후원금수입(비지정)
B117: 44599 | C117: 수용비및수수료 | D117: 55220 | E117: 사무운영비 | F117: 후원금수입(비지정)
B118: 44620 | C118: 수용비및수수료 | D118: 44770 | E118: 사무운영비 | F118: 후원금수입(비지정)
B119: 44627 | C119: 입소자수용경비 | D119: 4188000 | E119: 수용기관경비 | F119: 후원금수입(비지정)
B120: 44627 | C120: 수용비및수수료 | D120: 55000 | E120: 사무운영비 | F120: 후원금수입(비지정)
... B248: 45657 | C248: 수용비및수수료 | D248: 39655 | E248: 사무운용비 | F248: 후원금수입(비지정)

Sheet 지정후원금(시설)세입.세출
A1: 2-4. 2024년 밝은언덕노인요양원 후원금 세입 계정 별 세출 계정
A2: 1) 지정후원금 | F2: (단위 : 원) | G2: (단위 : 원) | H2: (단위 : 원)
A3: 년월일 | B3: 세출계정 | C3: 수입금액 | D3: 지출금액 | E3: 차인금액 | F3: 적요 | G3: 원본 | H3: 예외목록
B4: 전년이월금 | C4: 15357252 | D4: 0 | E4: =C4-D4 -> 15357252
A5: 44251 | B5: 지정후원금 | D5: 0
A6: 44349 | B6: 지정후원금 | D6: 1194000 | F6: 그린비코퍼레이션 | G6: 그린비코퍼레이션
A7: 44448 | B7: 지정후원금 | D7: 780000 | F7: 그린비코퍼레이션 | G7: 그린비코퍼레이션
B8: 월 계 | C8: =SUM(C5:C7) -> 0 | D8: =SUM(D5:D7) -> 1974000
A9: 44679 | B9: 지정후원금 | C9: 0 | D9: 10000000 | F9: 블루 | G9: 블루
A10: 44692 | B10: 지정후원금 | C10: 0 | D10: 1223000 | F10: 그린비 코퍼레이션 | G10: 그린비 코퍼레이션
A11: 44797 | B11: 지정후원금 | C11: 0 | D11: 1980000 | F11: 그린비 코퍼레이션 | G11: 그린비 코퍼레이션
B12: 월 계 | C12: =SUM(C9:C11) -> 0 | D12: =SUM(D9:D11) -> 13203000
A13: 44942 | B13: 지정후원금 | C13: 300000 | D13: 0 | F13: 힘* | G13: 힘스
A14: 44944 | B14: 지정후원금 | C14: 300000 | D14: 0 | F14: C*S*힘*) | G14: CMS(힘스)
B15: 월 계 | C15: =SUM(C13:C14) -> 600000 | D15: =SUM(D13:D14) -> 0
A16: 44965 | B16: 지정후원금 | C16: 0 | D16: 214000 | F16: 직원회식 | G16: 직원회식 | H16: 직원회식
A17: 44972 | B17: 지정후원금 | C17: 300000 | D17: 0 | F17: 힘* | G17: 힘스
B18: 월 계 | C18: =SUM(C16:C17) -> 300000 | D18: =SUM(D16:D17) -> 214000
A19: 45000 | B19: 지정후원금 | C19: 300000 | D19: 0 | F19: 힘* | G19: 힘스
B20: 월 계 | C20: =SUM(C19) -> 300000 | D20: =SUM(D19) -> 0
A21: 45033 | B21: 지정후원금 | C21: 300000 | D21: 0 | F21: 힘* | G21: 힘스
A22: 45035 | B22: 지정후원금 | C22: 16676252 | D22: 0 | F22: 무*스* | G22: 무진스님
B23: 월 계 | C23: =SUM(C21:C22) -> 16976252 | D23: =SUM(D21:D22) -> 0
A24: 45056 | B24: 지정후원금 | C24: 20000000 | D24: 0 | F24: 사*복*모*회 | G24: 사회복지모금회
A25: 45057 | B25: 지정후원금 | D25: 20000000 | F25: 침대구입 | G25: 침대구입 | H25: 침대구입
A26: 45061 | B26: 지정후원금 | C26: 300000 | D26: 0 | F26: 힘* | G26: 힘스
B27: 월 계 | C27: =SUM(C25:C26) -> 300000 | D27: =SUM(D24:D26) -> 20000000
A28: 45092 | B28: 지정후원금 | C28: 300000 | D28: 0 | F28: 힘* | G28: 힘스
B29: 월 계 | C29: =SUM(C28) -> 300000 | D29: =SUM(D28) -> 0
A30: 45124 | B30: 지정후원금 | C30: 300000 | D30: 0 | F30: 힘* | G30: 힘스
A31: 45132 | B31: 지정후원금 | D31: 337000 | F31: 직원회식 | G31: 직원회식 | H31: 직원회식
B32: 월 계 | C32: =SUM(C30:C31) -> 300000 | D32: =SUM(D30:D31) -> 337000
A33: 45154 | B33: 지정후원금 | C33: 300000 | F33: 힘* | G33: 힘스
A34: 45168 | B34: 지정후원금 | D34: 3432000 | F34: 침대구입 | G34: 침대구입 | H34: 침대구입
B35: 월 계 | C35: =SUM(C33:C34) -> 300000 | D35: =SUM(D33:D34) -> 3432000
A36: 45175 | B36: 지정후원금 | D36: 97600 | F36: 직원간식 | G36: 직원간식 | H36: 직원간식
A37: 45181 | B37: 지정후원금 | D37: 150000 | F37: 싱크대구입 | G37: 싱크대구입 | H37: 싱크대구입
A38: 45184 | B38: 지정후원금 | C38: 300000 | F38: 힘* | G38: 힘스
B39: 월 계 | C39: =SUM(C36:C38) -> 300000 | D39: =SUM(D36:D38) -> 247600
A40: 45309 | B40: 지정후원금 | D40: 608000 | F40: 침대수리 | G40: 침대수리 | H40: 침대수리
A41: 45315 | B41: 지정후원금 | D41: 460000 | F41: 직원회식 | G41: 직원회식 | H41: 직원회식
B42: 월 계 | C42: =SUM(C40:C41) -> 0 | D42: =SUM(D40:D41) -> 1068000
A43: 45405 | B43: 지정후원금 | D43: 302000 | F43: 직원회식(스완) | G43: 직원회식(스완) | H43: 직원회식(스완)
B44: 월 계 | C44: =SUM(C43:C43) -> 0 | D44: =SUM(D43:D43) -> 302000
A45: 45435 | B45: 지정후원금 | C45: 13513000 | F45: 무*스* | G45: 무진스님
B46: 월 계 | C46: =SUM(C45) -> 13513000 | D46: =SUM(D45) -> 0
A47: 45502 | B47: 지정후원금 | D47: 67800 | F47: 직원간식 (임실치즈피자) | G47: 직원간식 (임실치즈피자) | H47: 직원간식 (임실치즈피자)
A48: 45502 | B48: 지정후원금 | D48: 53000 | F48: 직원간식(BHC) | G48: 직원간식(BHC) | H48: 직원간식(BHC)
A49: 45502 | B49: 지정후원금 | D49: 886000 | F49: 침대수리 (그린비코퍼레이션) | G49: 침대수리 (그린비코퍼레이션) | H49: 침대수리 (그린비코퍼레이션)
B50: 월 계 | C50: =SUM(C47:C49) -> 0 | D50: =SUM(D47:D49) -> 1006800
A51: 45513 | B51: 지정후원금 | D51: 3850000 | F51: 캐노피(중부알미늄) | G51: 캐노피(중부알미늄) | H51: 캐노피(중부알미늄)
A52: 45521 | B52: 지정후원금 | D52: 1826000 | F52: 저장고콤푸(종합냉동) | G52: 저장고콤푸(종합냉동) | H52: 저장고콤푸(종합냉동)
A53: 45521 | B53: 지정후원금 | D53: 880000 | F53: 전원선포함(종합냉동) | G53: 전원선포함(종합냉동) | H53: 전원선포함(종합냉동)
A54: 45521 | B54: 지정후원금 | D54: 330000 | F54: 저장고수리(종합냉동) | G54: 저장고수리(종합냉동) | H54: 저장고수리(종합냉동)
B55: 월 계 | C55: =SUM(C51:C54) -> 0 | D55: =SUM(D51:D54) -> 6886000
A56: 45611 | B56: 지정후원금 | D56: 590000 | F56: 직원회식 (희경이네막창구이) | G56: 직원회식 (희경이네막창구이) | H56: 직원회식 (희경이네막창구이)
A57: 45621 | B57: 지정후원금 | D57: 150500 | F57: 직원간식 (임실치즈피자) | G57: 직원간식 (임실치즈피자) | H57: 직원간식 (임실치즈피자)
B58: 월 계 | C58: =SUM(C56:C57) -> 0 | D58: =SUM(D56:D57) -> 740500
A59: 45652 | B59: 지정후원금 | D59: 393000 | F59: 직원회식 (소소한숯불갈비) | G59: 직원회식 (소소한숯불갈비) | H59: 직원회식 (소소한숯불갈비)
B60: 월 계 | C60: =SUM(C58:C59) -> 0 | D60: =SUM(D59) -> 393000
B61: 소 계 | C61: =C4+C42+C44+C46+C55+C50+C58+C60 -> 28870252 | D61: =D4+D42+D44+D46+D55+D50+D58+D60 -> 10396300 | E61: =C61-D61 -> 18473952

Sheet 지정후원금(시설)사용결과
A1: 2-4. 후원금 수입 및 사용결과 보고서
A2: 1) 지정후원금(금전) 수입 명세서 (단위 : 원)
A3: 일 자 | B3: 후원금종류 | C3: 후원자 | D3: 내역 | E3: 금액 | F3: 비고 | G3: 원본
A4: 43865 | B4: 지정후원 | C4: 무*스* | D4: 밝은언덕의 발전과 가족을 위해 | E4: 17627000 | F4: 후원금수입(지정) | G4: 무진스님
A5: 44251 | B5: 지정후원 | C5: 무*스* | D5: 밝은언덕의 발전과 가족을 위해 | E5: 15388600 | F5: 후원금수입(지정) | G5: 무진스님
A6: 44942 | B6: 지정후원 | C6: 힘* | D6: 밝은언덕의 발전과 가족을 위해 | E6: 300000 | F6: 후원금수입(지정) | G6: 힘스
A7: 44944 | B7: 지정후원 | C7: 힘* | D7: 밝은언덕의 발전과 가족을 위해 | E7: 300000 | F7: 후원금수입(지정) | G7: 힘스
A8: 44972 | B8: 지정후원 | C8: 힘* | D8: 밝은언덕의 발전과 가족을 위해 | E8: 300000 | F8: 후원금수입(지정) | G8: 힘스
A9: 45000 | B9: 지정후원 | C9: 힘* | D9: 밝은언덕의 발전과 가족을 위해 | E9: 300000 | F9: 후원금수입(지정) | G9: 힘스
A10: 45033 | B10: 지정후원 | C10: 힘* | D10: 밝은언덕의 발전과 가족을 위해 | E10: 300000 | F10: 후원금수입(지정) | G10: 힘스
A11: 45035 | B11: 지정후원 | C11: 무*스* | D11: 밝은언덕의 발전과 가족을 위해 | E11: 16676252 | F11: 후원금수입(지정) | G11: 무진스님
A12: 45056 | B12: 지정후원 | C12: 사*복*모*회 | D12: 밝은언덕의 발전과 가족을 위해 | E12: 20000000 | F12: 후원금수입(지정) | G12: 사회복지모금회
A13: 45061 | B13: 지정후원 | C13: 힘* | D13: 밝은언덕의 발전과 가족을 위해 | E13: 300000 | F13: 후원금수입(지정) | G13: 힘스
A14: 45092 | B14: 지정후원 | C14: 힘* | D14: 밝은언덕의 발전과 가족을 위해 | E14: 300000 | F14: 후원금수입(지정) | G14: 힘스
A15: 45124 | B15: 지정후원 | C15: 힘* | D15: 밝은언덕의 발전과 가족을 위해 | E15: 300000 | F15: 후원금수입(지정) | G15: 힘스
... A18: 45435 | B18: 지정후원 | C18: 무*스* | D18: 밝은언덕의 발전과 가족을 위해 | E18: 13513000 | F18: 후원금수입(지정) | G18: 무진스님

Sheet 지정사용명세서
A1: 2-4. 후원금 수입 및 사용결과 보고서
A2: 1-1) 지정후원금(금전) 사용명세서 (단위 : 원)
A3: 사용일자 | B3: 사용내역 | C3: 금액 | D3: 산출기준 | E3: 비고
A4: 43551 | B4: 밝은언덕노인요양원 | C4: 10000000 | E4: 후원금수입(지정)
A5: 43577 | B5: 밝은언덕노인요양원 | C5: 6600000 | E5: 후원금수입(지정)
A6: 44187 | B6: 밝은언덕노인요양원 | C6: 21000000 | E6: 후원금수입(지정)
A7: 44349 | B7: 밝은언덕노인요양원 | C7: 1194000 | E7: 후원금수입(지정)
A8: 44448 | B8: 밝은언덕노인요양원 | C8: 780000 | E8: 후원금수입(지정)
A9: 44679 | B9: 밝은언덕노인요양원 | C9: 10000000 | E9: 후원금수입(지정)
A10: 44692 | B10: 밝은언덕노인요양원 | C10: 1223000 | E10: 후원금수입(지정)
A11: 44797 | B11: 밝은언덕노인요양원 | C11: 1980000 | E11: 후원금수입(지정)
A12: 44965 | B12: 밝은언덕노인요양원 | C12: 214000 | E12: 후원금수입(지정)
A13: 45057 | B13: 밝은언덕노인요양원 | C13: 20000000 | E13: 후원금수입(지정)
A14: 45132 | B14: 밝은언덕노인요양원 | C14: 337000 | E14: 후원금수입(지정)
A15: 45168 | B15: 밝은언덕노인요양원 | C15: 3432000 | E15: 후원금수입(지정)
... A30: 45652 | B30: 밝은언덕노인요양원 | C30: 393000 | E30: 후원금수입(지정)

Sheet 물품(시설)
B1: 3) 후원금(물품) 수입 명세서
B3: 연월 | C3: 후원물품의 종류 | D3: 후원자 | E3: 후원자 | F3: 내역 | G3: 품명 | H3: 수량 | I3: 단위 | J3: 비고(원) | K3: 원본
B4: 1월 | C4: 기타후원 | D4: 법농스님 | E4: 법*스* | F4: 간식 | G4: 보리빵 | H4: 150 | I4: box | J4: 1500000 | K4: 법농스님
C5: 기타후원 | D5: 법농스님 | E5: 법*스* | F5: 용품 | G5: 수건 | H5: 300 | I5: EA | J5: 300000 | K5: 법농스님
C6: 기타후원 | D6: 평화사 | E6: 평*사 | F6: 부식 | G6: 쌀 | H6: 6 | I6: 가마 | J6: 150000 | K6: 평화사
B7: 2월 | C7: 기타후원 | D7: 동심 | E7: 동* | F7: 주식 | G7: 김치 | H7: 400 | I7: kg | J7: 1200000 | K7: 동심
C8: 기타후원 | D8: 강식품 | E8: 강*품 | F8: 주식 | G8: 국수 8kg | H8: 10 | I8: box | J8: 30000 | K8: 강식품
C9: 기타후원 | D9: 중랑 건강 가정 · 다문화센터 | E9: 중* *강*가* * *문*센* | F9: 용품 | G9: 수건 | H9: 300 | I9: ea | J9: 300000 | K9: 중랑 건강 가정 · 다문화센터
C10: 기타후원 | D10: 동원떡집 (이명구) | E10: 동*떡* *이*구* | F10: 주식 | G10: 떡국 | H10: 10 | I10: box | J10: 100000 | K10: 동원떡집 (이명구)
C11: 기타후원 | D11: 평화사 | E11: 평*사 | F11: 주식 | G11: 쌀 | H11: 6 | I11: 가마 | J11: 150000 | K11: 평화사
C12: 기타후원 | D12: 미타사 | E12: 미*사 | F12: 주식 | G12: 쌀 | H12: 12 | I12: 가마 | J12: 300000 | K12: 미타사
C13: 기타후원 | D13: 법농스님 | E13: 법*스* | F13: 주식 | G13: 쌀 | H13: 6 | I13: 가마 | J13: 125000 | K13: 법농스님
C14: 기타후원 | D14: 로얄장 | E14: 로*장 | F14: 주식 | G14: 쌀밥 | H14: 3 | I14: 말 | J14: 50000 | K14: 로얄장
C15: 기타후원 | D15: 정우숙 어르신 사위 | E15: 정*숙*어*신*사* | F15: 부식 | G15: 상추 | H15: 3 | I15: 자루 | J15: 45000 | K15: 정우숙 어르신 사위
B16: 3월 | C16: 기타후원 | D16: 동심 | E16: 동* | F16: 주식 | G16: 김치 | H16: 400 | I16: kg | J16: 1200000 | K16: 동심
C17: 기타후원 | D17: 강식품 | E17: 강*품 | F17: 주식 | G17: 국수 7kg | H17: 10 | I17: box | J17: 30000 | K17: 강식품
C18: 기타후원 | D18: 다원 잔기지 떡 | E18: 다* *기* * | F18: 간식 | G18: 떡 | H18: 16 | I18: box | J18: 224000 | K18: 다원 잔기지 떡
C19: 기타후원 | D19: 장복화 | E19: 장*화 | F19: 부식 | G19: 케일 | H19: 7 | I19: box | J19: 70000 | K19: 장복화
B20: 4월 | C20: 기타후원 | D20: 동심 | E20: 동* | F20: 주식 | G20: 김치 | H20: 400 | I20: kg | J20: 1200000 | K20: 동심
C21: 기타후원 | D21: 강식품 | E21: 강*품 | F21: 주식 | G21: 국수 7kg | H21: 10 | I21: box | J21: 30000 | K21: 강식품
C22: 기타후원 | D22: 복덕화 | E22: 복*화 | F22: 부식 | G22: 케일 | H22: 10 | I22: box | J22: 50000 | K22: 복덕화
C23: 기타후원 | D23: 참사랑농장 | E23: 참*랑*장 | F23: 부식 | G23: 송로버섯 | H23: 10 | I23: box | J23: 1000000 | K23: 참사랑농장
B24: 5월 | C24: 기타후원 | D24: 동심 | E24: 동* | F24: 주식 | G24: 김치 | H24: 400 | I24: kg | J24: 1200000 | K24: 동심
C25: 기타후원 | D25: 강식품 | E25: 강*품 | F25: 주식 | G25: 국수 7kg | H25: 10 | I25: box | J25: 30000 | K25: 강식품
C26: 기타후원 | D26: 정수스님 | E26: 정*스* | F26: 간식 | G26: 바나나 | H26: 2 | I26: box | J26: 70000 | K26: 정수스님
C27: 기타후원 | D27: 강미자 | E27: 강*자 | F27: 부식 | G27: 상추 | H27: 10 | I27: box | J27: 100000 | K27: 강미자
C28: 기타후원 | D28: 복덕화 | E28: 복*화 | F28: 부식 | G28: 야채 | H28: 10 | I28: box | J28: 100000 | K28: 복덕화
C29: 기타후원 | D29: 다원잔기지떡 | E29: 다*잔*지* | F29: 간식 | G29: 잔기지떡 | H29: 8 | I29: box | J29: 112000 | K29: 다원잔기지떡
B30: 6월 | C30: 기타후원 | D30: 동심 | E30: 동* | F30: 주식 | G30: 김치 | H30: 400 | I30: kg | J30: 1200000 | K30: 동심
C31: 기타후원 | D31: 강식품 | E31: 강*품 | F31: 주식 | G31: 국수 7kg | H31: 10 | I31: box | J31: 30000 | K31: 강식품
C32: 기타후원 | D32: 권인숙 | E32: 권*숙 | F32: 간식 | G32: 떠먹는요구르트 | H32: 200 | I32: EA | J32: 200000 | K32: 권인숙
C33: 기타후원 | D33: 법농스님 | E33: 법*스* | F33: 간식 | G33: 바나나 | H33: 2 | I33: box | J33: 30000 | K33: 법농스님
C34: 기타후원 | D34: 복덕화 | E34: 복*화 | F34: 부식 | G34: 열무 오이 | H34: 10 | I34: box | J34: 100000 | K34: 복덕화
B35: 7월 | C35: 기타후원 | D35: 동심 | E35: 동* | F35: 주식 | G35: 김치 | H35: 400 | I35: kg | J35: 1200000 | K35: 동심
C36: 기타후원 | D36: 강식품 | E36: 강*품 | F36: 주식 | G36: 국수 7kg | H36: 10 | I36: box | J36: 30000 | K36: 강식품
C37: 기타후원 | D37: 다원잔기지떡 | E37: 다*잔*지* | F37: 간식 | G37: 잔기지떡 | H37: 10 | I37: box | J37: 140000 | K37: 다원잔기지떡
C38: 기타후원 | D38: 지영수 | E38: 지*수 | F38: 간식 | G38: 복숭아 | H38: 10 | I38: box | J38: 200000 | K38: 지영수
C39: 기타후원 | D39: 한마음산원 | E39: 한*음*원 | F39: 용품 | G39: EM소독약 | H39: 10 | I39: box | J39: 330000 | K39: 한마음산원
C40: 기타후원 | D40: 장차남어르신 보호자분 | E40: 장*남*르* *호*분 | F40: 간식 | G40: 방울토마토 | H40: 4 | I40: BOX | J40: 40000 | K40: 장차남어르신 보호자분
C41: 기타후원 | D41: 장복화 | E41: 장*화 | F41: 부식 | G41: 오이, 아욱 | H41: 20 | I41: BOX | J41: 200000 | K41: 장복화
C42: 기타후원 | D42: 장교순요양보호사선생님 지인 | E42: 장*순*양*호*선*님*지* | F42: 간식 | G42: 수박 | H42: 10 | I42: box | J42: 200000 | K42: 장교순요양보호사선생님 지인
C43: 기타후원 | D43: 이천분어르신 보호자분 | E43: 이*분*르* *호*분 | F43: 간식 | G43: 복숭아 | H43: 1 | I43: box | J43: 20000 | K43: 이천분어르신 보호자분
C44: 기타후원 | D44: 김영아 | E44: 김*아 | F44: 주식 | G44: 삼계탕 | H44: 200 | I44: EA | J44: 600000 | K44: 김영아
B45: 8월 | C45: 기타후원 | D45: 동심 | E45: 동* | F45: 주식 | G45: 김치 | H45: 400 | I45: kg | J45: 1200000 | K45: 동심
C46: 기타후원 | D46: 강식품 | E46: 강*품 | F46: 주식 | G46: 국수 7kg | H46: 10 | I46: box | J46: 30000 | K46: 강식품
C47: 기타후원 | D47: 다원잔기지떡 | E47: 다*잔*지* | F47: 간식 | G47: 잔기지떡 | H47: 10 | I47: box | J47: 140000 | K47: 다원잔기지떡
C48: 기타후원 | D48: 지영수 | E48: 지*수 | F48: 간식 | G48: 복숭아 | H48: 10 | I48: box | J48: 200000 | K48: 지영수
C49: 기타후원 | D49: 연광수 | E49: 연*수 | F49: 부식 | G49: 깻잎 | H49: 3 | I49: 자루 | J49: 60000 | K49: 연광수
B50: 9월 | C50: 기타후원 | D50: 동심 | E50: 동* | F50: 주식 | G50: 김치 | H50: 400 | I50: kg | J50: 1200000 | K50: 동심
C51: 기타후원 | D51: 강식품 | E51: 강*품 | F51: 주식 | G51: 국수 7kg | H51: 10 | I51: box | J51: 30000 | K51: 강식품
C52: 기타후원 | D52: 지영수 | E52: 지*수 | F52: 간식 | G52: 복숭아 | H52: 10 | I52: box | J52: 200000 | K52: 지영수
C53: 기타후원 | D53: 약산사 법정스님 | E53: 약*사*법*스* | F53: 주식 | G53: 쌀국수 300ea | H53: 25 | I53: box | J53: 1500000 | K53: 약산사 법정스님
C54: 기타후원 | D54: 태백청과 | E54: 태*청* | F54: 간식 | G54: 파인애플 | H54: 30 | I54: box | J54: 975000 | K54: 태백청과
B55: 10월 | C55: 기타후원 | D55: 동심 | E55: 동* | F55: 주식 | G55: 김치 | H55: 400 | I55: kg | J55: 1200000 | K55: 동심
C56: 기타후원 | D56: 강식품 | E56: 강*품 | F56: 주식 | G56: 국수 7kg | H56: 10 | I56: box | J56: 30000 | K56: 강식품
C57: 기타후원 | D57: 잔기지떡 | E57: 잔*지* | F57: 간식 | G57: 잔기지떡 | H57: 18 | I57: box | J57: 252000 | K57: 잔기지떡
C58: 기타후원 | D58: 메디웰아이엔씨 | E58: 메*웰*이*씨 | F58: 부식 | G58: 당뇨식 | H58: 41 | I58: box | J58: 1640000 | K58: 메디웰아이엔씨
C59: 기타후원 | G59: 프로틴 | H59: 6 | I59: box | J59: 203400
C60: 기타후원 | G60: 구수한맛 | H60: 5 | I60: box | J60: 124500
C61: 기타후원 | G61: 화이바 플러스 | H61: 5 | I61: box | J61: 124500
C62: 기타후원 | G62: 티에프 | H62: 31 | I62: box | J62: 1178000
B63: 11월 | C63: 기타후원 | D63: 동심 | E63: 동* | F63: 주식 | G63: 김치 | H63: 400 | I63: kg | J63: 1200000 | K63: 동심
C64: 기타후원 | D64: 강식품 | E64: 강*품 | F64: 주식 | G64: 국수 7kg | H64: 10 | I64: box | J64: 30000 | K64: 강식품
C65: 기타후원 | D65: 애터미 주식회사 | E65: 애*미*주*회* | F65: 부식 | G65: 두유 | H65: 6 | I65: box | J65: 90000 | K65: 애터미 주식회사
C66: 기타후원 | D66: 강미자 | E66: 강*자 | F66: 주식 | G66: 쌀 | H66: 1 | I66: 가마니 | J66: 50000 | K66: 강미자
F67: 부식 | G67: 표고버섯 | H67: 1 | I67: box | J67: 40000
C68: 기타후원 | D68: 도인순 | E68: 도*순 | F68: 부식 | G68: 배추 | H68: 10 | I68: box | J68: 100000 | K68: 도인순
G69: 무 | H69: 10 | I69: box | J69: 100000
C70: 기타후원 | D70: 장복화 | E70: 장*화 | F70: 부식 | G70: 열무 | H70: 10 | I70: 자루 | J70: 100000 | K70: 장복화
C71: 기타후원 | D71: 감곡연화보살 | E71: 감*연*보* | F71: 간식 | G71: 사과 | H71: 7 | I71: box | J71: 118300 | K71: 감곡연화보살
B72: 12월 | C72: 기타후원 | D72: 동심 | E72: 동* | F72: 주식 | G72: 김치 | H72: 400 | I72: kg | J72: 1200000 | K72: 동심
C73: 기타후원 | D73: 강식품 | E73: 강*품 | F73: 주식 | G73: 국수 7kg | H73: 10 | I73: box | J73: 30000 | K73: 강식품
C74: 기타후원 | D74: 동완모친 | E74: 동*모* | F74: 부식 | G74: 두부 | H74: 2 | I74: 말 | J74: 50000 | K74: 동완모친
F75: 부식 | G75: 비지 | H75: 10 | I75: kg | J75: 70000
C76: 기타후원 | D76: 연화보살 | E76: 연*보* | F76: 간식 | G76: 사과 | H76: 7 | I76: box | J76: 100000 | K76: 연화보살
C77: 기타후원 | D77: 이완우 | E77: 이*우 | F77: 주식 | G77: 쌀 | H77: 1 | I77: 포대 | J77: 30000 | K77: 이완우
C78: 기타후원 | D78: 제주도 보살님 | E78: 제*도*보*님 | F78: 간식 | G78: 귤 | H78: 8 | I78: box | J78: 80000 | K78: 제주도 보살님
B79: 1월 | C79: 기타후원 | D79: 동심 | E79: 동* | F79: 주식 | G79: 김치 | H79: 400 | I79: kg | J79: 1200000 | K79: 동심
C80: 기타후원 | D80: 강식품 | E80: 강*품 | F80: 주식 | G80: 국수 8kg | H80: 10 | I80: box | J80: 30000 | K80: 강식품
C81: 기타후원 | D81: 충북도청 후원품 | E81: 충*도* *원* | F81: 용품 | G81: 휴지 10롤 | H81: 115 | I81: ea | J81: 2250000 | K81: 충북도청 후원품
C82: 기타후원 | D82: 홍인표 | E82: 홍*표 | F82: 용품 | G82: 기저귀 | H82: 180 | I82: ea | J82: 300000 | K82: 홍인표
C83: 기타후원 | D83: 최홍식어르신보호자분 | E83: 최*식*르*보*자* | F83: 용품 | G83: 기저귀 | H83: 180 | I83: ea | J83: 300000 | K83: 최홍식어르신보호자분
C84: 기타후원 | D84: 더불어민주당 임호선 국회의원 | E84: 더*어*주* *호* *회*원 | F84: 주식 | G84: 쌀 | H84: 100 | I84: kg | J84: 500000 | K84: 더불어민주당 임호선 국회의원
B85: 2월 | C85: 기타후원 | D85: 동심 | E85: 동* | F85: 주식 | G85: 김치 | H85: 400 | I85: kg | J85: 1200000 | K85: 동심
C86: 기타후원 | D86: 강식품 | E86: 강*품 | F86: 주식 | G86: 국수 8kg | H86: 10 | I86: box | J86: 30000 | K86: 강식품
C87: 기타후원 | D87: 복덕화 | E87: 복*화 | F87: 부식 | G87: 시금치 | H87: 13 | I87: 자루 | J87: 130000 | K87: 복덕화
C88: 기타후원 | D88: 청주 평화사 | E88: 청* *화* | F88: 주식 | G88: 쌀 | H88: 6 | I88: 가마 | J88: 390000 | K88: 청주 평화사
C89: 기타후원 | D89: 형운스님 | E89: 형*스* | F89: 주식 | G89: 쌀 | H89: 1 | I89: 가마 | J89: 65000 | K89: 형운스님
G90: 찹쌀모찌 | H90: 5 | I90: 박스 | J90: 55000
C91: 기타후원 | D91: 사무장님 | E91: 사*장* | F91: 부식 | G91: 무 | H91: 5 | I91: 박스 | J91: 75000 | K91: 사무장님
C92: 기타후원 | D92: 완주 안심사 주지스님 | E92: 완* *심* *지*님 | F92: 주식 | G92: 쌀 | H92: 10 | I92: 가마 | J92: 650000 | K92: 완주 안심사 주지스님
B93: 3월 | C93: 기타후원 | D93: 동심 | E93: 동* | F93: 주식 | G93: 김치 | H93: 400 | I93: kg | J93: 1200000 | K93: 동심
C94: 기타후원 | D94: 강식품 | E94: 강*품 | F94: 주식 | G94: 국수 8kg | H94: 10 | I94: box | J94: 30000 | K94: 강식품
C95: 기타후원 | D95: 장복화 | E95: 장*화 | F95: 부식 | G95: 시금치 | H95: 10 | I95: kg | J95: 60000 | K95: 장복화
G96: 적근대 | H96: 10 | I96: kg | J96: 99000
G97: 상추 | H97: 10 | I97: kg | J97: 80000
B98: 4월 | C98: 기타후원 | D98: 동심 | E98: 동* | F98: 주식 | G98: 김치 | H98: 400 | I98: kg | J98: 1200000 | K98: 동심
C99: 기타후원 | D99: 강식품 | E99: 강*품 | F99: 주식 | G99: 국수 8kg | H99: 10 | I99: box | J99: 30000 | K99: 강식품
C100: 기타후원 | D100: 한벌리 2구 이장님 | E100: 한*리*2* *장* | F100: 부식 | G100: 콩나물 | H100: 3 | I100: box | J100: 30000 | K100: 한벌리 2구 이장님
C101: 기타후원 | D101: 김동진 어르신 보호자분 | E101: 김*진*어*신*보*자* | F101: 간식 | G101: 대추빵 | H101: 2 | I101: box | J101: 60000 | K101: 김동진 어르신 보호자분
...

Sheet 물품(시설)사용내역
A1: 4) 후원금(물품) 사용 명세서
A3: 사용 | B3: 사용내역 | C3: 사용처 | D3: 수량 | E3: 단위 | F3: 비고
A4: 1월 | B4: 바나나 | C4: 밝은언덕노인요양원 | D4: 5 | E4: box
B5: 귤 | C5: 밝은언덕노인요양원 | D5: 5 | E5: box
B6: 사탕 | C6: 밝은언덕노인요양원 | D6: 9 | E6: box
B7: 가래떡 | C7: 밝은언덕노인요양원 | D7: 1 | E7: box
B8: 귤 | C8: 밝은언덕노인요양원 | D8: 6 | E8: box
A9: 3월 | B9: 쌈채소 | C9: 밝은언덕노인요양원 | D9: 3 | E9: box
C10: 밝은언덕노인요양원 | D10: 6 | E10: EA
B11: 돈까스 | C11: 밝은언덕노인요양원 | D11: 7 | E11: Box
B12: 어묵 | C12: 밝은언덕노인요양원 | D12: 1 | E12: Box
B13: 숙주나물 | C13: 밝은언덕노인요양원 | D13: 7 | E13: Box
A14: 4월 | B14: 쌀 | C14: 밝은언덕노인요양원 | D14: 4 | E14: 가마
B15: 물티슈 | C15: 밝은언덕노인요양원 | D15: 10 | E15: BOX
B16: 손소독제 | C16: 밝은언덕노인요양원 | D16: 3 | E16: BOX
B17: 마스크 | C17: 밝은언덕노인요양원 | D17: 1 | E17: BOX
B18: 비타500 | C18: 밝은언덕노인요양원 | D18: 1 | E18: BOX
B19: 과자 | C19: 밝은언덕노인요양원 | D19: 1 | E19: BOX
B20: 요구르트 | C20: 밝은언덕노인요양원 | D20: 40 | E20: EA
A21: 5월 | B21: 바나나 | C21: 밝은언덕노인요양원 | D21: 3 | E21: box
B22: 국수 | C22: 밝은언덕노인요양원 | D22: 3 | E22: box
B23: 마시는 요구르트 | C23: 밝은언덕노인요양원 | D23: 8 | E23: box
B24: 참외 | C24: 밝은언덕노인요양원 | D24: 2 | E24: box
B25: 김치 | C25: 밝은언덕노인요양원 | D25: 400 | E25: kg
B26: 국수 7kg | C26: 밝은언덕노인요양원 | D26: 10 | E26: box
B27: 바나나 | C27: 밝은언덕노인요양원 | D27: 1 | E27: BOX
A28: 6월 | B28: 기저귀 | C28: 밝은언덕노인요양원 | D28: 3 | E28: box
B29: 김치 | C29: 밝은언덕노인요양원 | D29: 400 | E29: kg
B30: 국수 7kg | C30: 밝은언덕노인요양원 | D30: 10 | E30: box
B31: 블루베리 | C31: 밝은언덕노인요양원 | D31: 10 | E31: kg
A32: 7월 | B32: 김치 | C32: 밝은언덕노인요양원 | D32: 400 | E32: kg
B33: 국수 7kg | C33: 밝은언덕노인요양원 | D33: 10 | E33: box
B34: 복숭아 | C34: 밝은언덕노인요양원 | D34: 3 | E34: box
B35: 기저귀 | C35: 밝은언덕노인요양원 | D35: 3 | E35: box
A36: 8월 | B36: 김치 | C36: 밝은언덕노인요양원 | D36: 400 | E36: kg
B37: 국수 7kg | C37: 밝은언덕노인요양원 | D37: 10 | E37: box
B38: 삼계탕 | C38: 밝은언덕노인요양원 | D38: 20 | E38: box
A39: 9월 | B39: 김치 | C39: 밝은언덕노인요양원 | D39: 400 | E39: kg
B40: 국수 8kg | C40: 밝은언덕노인요양원 | D40: 10 | E40: box
B41: 복숭아 | C41: 밝은언덕노인요양원 | D41: 4 | E41: box
B42: 숙주나물 | C42: 밝은언덕노인요양원 | D42: 7 | E42: box
B43: 복숭아 | C43: 밝은언덕노인요양원 | D43: 4 | E43: box
B44: 쌀20kg | C44: 밝은언덕노인요양원 | D44: 5 | E44: 포대
A45: 10월 | B45: 김치 | C45: 밝은언덕노인요양원 | D45: 400 | E45: kg
B46: 국수 8kg | C46: 밝은언덕노인요양원 | D46: 10 | E46: box
B47: 떡 | C47: 밝은언덕노인요양원 | D47: 97 | E47: box
B48: 에어매트 | C48: 밝은언덕노인요양원 | D48: 2 | E48: ea
A49: 11월 | B49: 김치 | C49: 밝은언덕노인요양원 | D49: 400 | E49: kg
B50: 국수 8kg | C50: 밝은언덕노인요양원 | D50: 10 | E50: box
B51: 떡 | C51: 밝은언덕노인요양원 | D51: 13 | E51: box
B52: 마스크 | C52: 밝은언덕노인요양원 | D52: 2 | E52: box
B53: 쌀 | C53: 밝은언덕노인요양원 | D53: 20 | E53: kg
B54: 공진단 | C54: 밝은언덕노인요양원 | D54: 200 | E54: ea
B55: 파스 | C55: 밝은언덕노인요양원 | D55: 100 | E55: ea
B56: 소체환 | C56: 밝은언덕노인요양원 | D56: 30 | E56: ea
B57: 쌍패탕 | C57: 밝은언덕노인요양원 | D57: 60 | E57: ea
A58: 12월 | B58: 김치 | C58: 밝은언덕노인요양원 | D58: 400 | E58: kg
B59: 국수 8kg | C59: 밝은언덕노인요양원 | D59: 10 | E59: box
B60: 떡 | C60: 밝은언덕노인요양원 | D60: 7 | E60: box
B61: 소화기 받침대 | C61: 밝은언덕노인요양원 | D61: 50 | E61: ea
B62: 팥 | C62: 밝은언덕노인요양원 | D62: 2 | E62: 되
B63: 찹쌀 | C63: 밝은언덕노인요양원 | D63: 2 | E63: 되
B64: 나물 | C64: 밝은언덕노인요양원 | D64: 50 | E64: box
B65: 얼갈이 | C65: 밝은언덕노인요양원 | D65: 20 | E65: box
B66: 보리빵 | C66: 밝은언덕노인요양원 | D66: 150 | E66: ea
B67: 무 | C67: 밝은언덕노인요양원 | D67: 50 | E67: box
A68: 1월 | B68: 보리빵 | C68: 밝은언덕노인요양원 | D68: 150 | E68: box
B69: 수건 | C69: 밝은언덕노인요양원 | D69: 300 | E69: EA
B70: 쌀 | C70: 밝은언덕노인요양원 | D70: 6 | E70: 가마
A71: 2월 | B71: 김치 | C71: 밝은언덕노인요양원 | D71: 400 | E71: kg
B72: 국수 8kg | C72: 밝은언덕노인요양원 | D72: 10 | E72: box
B73: 수건 | C73: 밝은언덕노인요양원 | D73: 300 | E73: ea
B74: 떡국 | C74: 밝은언덕노인요양원 | D74: 10 | E74: box
B75: 쌀 | C75: 밝은언덕노인요양원 | D75: 6 | E75: 가마
B76: 쌀 | C76: 밝은언덕노인요양원 | D76: 12 | E76: 가마
B77: 쌀 | C77: 밝은언덕노인요양원 | D77: 6 | E77: 가마
B78: 쌀밥 | C78: 밝은언덕노인요양원 | D78: 3 | E78: 말
B79: 상추 | C79: 밝은언덕노인요양원 | D79: 3 | E79: 자루
A80: 3월 | B80: 김치 | C80: 밝은언덕노인요양원 | D80: 400 | E80: kg
B81: 국수 7kg | C81: 밝은언덕노인요양원 | D81: 10 | E81: box
B82: 떡 | C82: 밝은언덕노인요양원 | D82: 16 | E82: box
B83: 케일 | C83: 밝은언덕노인요양원 | D83: 7 | E83: box
A84: 4월 | B84: 김치 | C84: 밝은언덕노인요양원 | D84: 400 | E84: kg
B85: 국수 7kg | C85: 밝은언덕노인요양원 | D85: 10 | E85: box
B86: 케일 | C86: 밝은언덕노인요양원 | D86: 10 | E86: box
B87: 송로버섯 | C87: 밝은언덕노인요양원 | D87: 10 | E87: box
A88: 5월 | B88: 김치 | C88: 밝은언덕노인요양원 | D88: 400 | E88: kg
B89: 국수 7kg | C89: 밝은언덕노인요양원 | D89: 10 | E89: box
B90: 바나나 | C90: 밝은언덕노인요양원 | D90: 2 | E90: box
B91: 상추 | C91: 밝은언덕노인요양원 | D91: 10 | E91: box
B92: 야채 | C92: 밝은언덕노인요양원 | D92: 10 | E92: box
B93: 잔기지떡 | C93: 밝은언덕노인요양원 | D93: 8 | E93: box
A94: 6월 | B94: 김치 | C94: 밝은언덕노인요양원 | D94: 400 | E94: kg
B95: 국수 7kg | C95: 밝은언덕노인요양원 | D95: 10 | E95: box
B96: 바나나 | C96: 밝은언덕노인요양원 | D96: 2 | E96: box
B97: 수퍼백 | C97: 밝은언덕노인요양원 | D97: 200 | E97: EA
B98: 오이 열무 | C98: 밝은언덕노인요양원 | D98: 10 | E98: box
A99: 7월 | B99: 김치 | C99: 밝은언덕노인요양원 | D99: 400 | E99: kg
B100: 국수 7kg | C100: 밝은언덕노인요양원 | D100: 10 | E100: box
B101: 잔기지떡 | C101: 밝은언덕노인요양원 | D101: 10 | E101: box
...

Sheet 후원금(법인)
A1: 1. 2024년 사회복지법인 밝은언덕 후원금 수입 · 지출 내역
A2: ( 단위 : 원 )
A3: 법인명 | B3: 후원금 수입 | H3: 후원금 지출 | AK3: 비고(잔액)
B4: 계 | C4: 이월금 | D4: 결연후원금 | E4: 지정후원금 | F4: 비지정후원금 | G4: 예금이자 | H4: 계 | I4: 결연후원금 | J4: 지정후원금 | V4: 비지정후원금 | AJ4: 기타
J5: 계 | K5: 직접비 | U5: 간접비 | V5: 계 | W5: 직접비 | AH5: 간접비
K6: 소계 | L6: 운영비 | M6: 취득비 | N6: 주식비 | O6: 부식비 | P6: 피복비 | Q6: 의료비 | R6: 난방비 | S6: 운영비 | T6: 기타 | U6: 소계 | W6: 소계 | X6: 인건비 | Y6: 사무운영비 | Z6: 운영비 | AA6: 주식비 | AB6: 부식비 | AC6: 교육비 | AD6: 수용기관경비 | AE6: 시설전출금 | AF6: 재가센터전출금 | AG6: 입금오류출금 | AH6: 소계 | AI6: 기타
A7: 사회복지법인 밝은언덕 | B7: =SUM(C7:G7) -> 834594 | C7: ='후원금(법인)세부내역'!C9 -> 414123 | F7: ='후원금(법인)세부내역'!C5 -> 420000 | G7: ='후원금(법인)세부내역'!C7 -> 471 | H7: =V7+AH7 -> 514300 | J7: =SUM(K7) -> 0 | K7: =SUM(M7+S7) -> 0 | R7: 21862767 | V7: =W7 -> 514300 | W7: =Y7+Z7+AB7+AD7+AE7+AG7+AF7 -> 514300 | Y7: ='후원금(법인)세부내역'!C14 -> 514300 | Z7: ='후원금(법인)세부내역'!C19 -> 0 | AB7: 0 | AD7: 0 | AE7: 0 | AF7: ='후원금(법인)세부내역'!C27 -> 0 | AG7: ='후원금(법인)세부내역'!H30 -> 0 | AH7: 0 | AK7: =SUM(B7-H7) -> 320294
A8: 후원금수입총계 | B8: =B7 -> 834594 | H8: 후원금지출총계 | W8: =H7 -> 514300 | AK8: =B8-W8 -> 320294
A24: 3. 2012년 밝은언덕노인요양원 후원금 수입 · 지출 내역
A27: ( 단위 : 원 )
A28: 시설명 | B28: 후원금 수입 | H28: 후원금 지출 | AK28: 비고(잔액)
B29: 계 | C29: 이월금 | D29: 결연후원금 | E29: 지정후원금 | F29: 비지정후원금 | G29: 기타 (법인전입금) | H29: 계 | I29: 결연후원금 | J29: 지정후원금 | V29: 비지정후원금 | AJ29: 기타
V30: 계 | W30: 직접비 | AH30: 간접비
W31: 소계 | X31: 인건비 | Z31: 운영비 | AA31: 주식비 | AB31: 부식비 | AC31: 교육비 | AD31: 기타사업비 | AE31: 기타 | AH31: 소계 | AI31: 기타
A32: 밝은언덕노인요양원 | B32: =SUM(C32:G32) -> 46312167 | C32: 0 | F32: 27949400 | G32: 18362767 | H32: =V32 -> 41887767 | V32: =W32+AH32 -> 41887767 | W32: =SUM(X32:AD32) -> 41887767 | X32: 41362767 | AA32: 525000 | AK32: =B32-H32 -> 4424400
A33: 후원금수입총계 | B33: =B32 -> 46312167 | H33: 후원금지출총계 | X33: =H32 -> 41887767 | AK33: =B33-X33 -> 4424400
A52: 1. 2011년 사회복지법인 밝은언덕 후원금 수입 · 지출 내역
A55: ( 단위 : 원 )
A56: 법인명 | B56: 후원금 수입 | H56: 후원금 지출 | AK56: 비고(잔액)
B57: 계 | C57: 이월금 | D57: 결연후원금 | E57: 지정후원금 | F57: 비지정후원금 | G57: 기타 | H57: 계 | I57: 결연후원금 | J57: 지정후원금 | V57: 비지정후원금 | AJ57: 기타
V58: 계 | W58: 직접비 | AH58: 간접비
W59: 소계 | X59: 인건비 | Z59: 운영비 | AA59: 주식비 | AB59: 부식비 | AC59: 교육비 | AD59: 기타사업비 | AE59: 시설전출금 | AH59: 소계 | AI59: 기타
A60: 사회복지법인 밝은언덕 | B60: =C60+F60 -> 2859927 | F60: 2859927 | H60: =V60 -> 66770 | V60: =W60+AH60 -> 66770 | W60: =SUM(X60:AE60) -> 66770 | X60: 0 | Z60: 66770 | AK60: =B60-H60 -> 2793157
A61: 후원금수입총계 | B61: =B60 -> 2859927 | H61: 후원금지출총계 | X61: =H60 -> 66770 | AK61: =B61-X61 -> 2793157
V63: 2011 지정, 비지정 후원금 차기이월금 계 | AK63: =#REF!+AK61 -> #REF!
V66: 2011 지정, 비지정 후원금 차기이월금 계 | AK66: =#REF!+#REF! -> #REF!

Sheet 후원금(법인)세부내역
A1: 1-1. 2024년 사회복지법인 밝은언덕 후원금 월별정산
A2: 수 입 | M2: (단위 : 원)
A3: 구 분 | C3: 계 | D3: 1 | E3: 2 | F3: 3 | G3: 4 | H3: 5 | I3: 6 | J3: 7 | K3: 8 | L3: 9 | M3: 10 | N3: 11 | O3: 12
A4: 2024년 | B4: 합계 | C4: =SUM(D4:O4) -> 420471 | D4: =SUM(D5:D7) -> 35000 | E4: =SUM(E5:E7) -> 35000 | F4: =SUM(F5:F7) -> 35000 | G4: =SUM(G5:G7) -> 35000 | H4: =SUM(H5:H7) -> 35000 | I4: =SUM(I5:I7) -> 35252 | J4: =SUM(J5:J7) -> 35000 | K4: =SUM(K5:K7) -> 35000 | ... O4: =SUM(O5:O7) -> 35219
B5: 비지정 | C5: =SUM(D5:O5) -> 420000 | D5: 35000 | E5: 35000 | F5: 35000 | G5: 35000 | H5: 35000 | I5: 35000 | J5: 35000 | K5: 35000 | L5: 35000 | M5: 35000 | N5: 35000 | O5: 35000
B6: 지정
B7: 예금이자 | C7: =SUM(D7:O7) -> 471 | I7: 252 | O7: 219
A8: 2023년 이월금 | B8: 합계 | C8: =SUM(C9:C10) -> 414123
B9: 비지정 | C9: 414123
B10: 지정
A11: 총 계 | C11: =SUM(C4+C8) -> 834594
A12: 지 출 | M12: (단위 : 원)
A13: 구 분 | C13: 계 | D13: 1 | E13: 2 | F13: 3 | G13: 4 | H13: 5 | I13: 6 | J13: 7 | K13: 8 | L13: 9 | M13: 10 | N13: 11 | O13: 12
A14: 사무운영비 | C14: =SUM(D14:O14) -> 514300 | D14: =SUM(D15:D16) -> 0 | E14: =SUM(E15:E16) -> 0 | F14: =SUM(F15:F16) -> 0 | G14: =SUM(G15:G16) -> 0 | H14: =SUM(H15:H16) -> 14060 | I14: =SUM(I15:I16) -> 0 | J14: 0 | K14: =SUM(K15:K16) -> 0 | L14: =SUM(L15:L16) -> 500240 | M14: =SUM(M15:M16) -> 0 | N14: =SUM(N15:N16) -> 0 | O14: =SUM(O15:O16) -> 0
B15: 보험료
B16: 수수료 | H16: 14060 | L16: 500240
A17: 재산조성비 | C17: =SUM(D17:O17) -> 0 | D17: =D18 -> 0 | E17: =E18 -> 0 | F17: =F18 -> 0 | G17: =G18 -> 0 | H17: =H18 -> 0 | I17: =I18 -> 0 | J17: =J18 -> 0 | K17: =K18 -> 0 | ... O17: =O18 -> 0
B18: 자산취득비 | C18: =SUM(D18:O18) -> 0
A19: 사업운영비 | C19: =SUM(D19:O19) -> 0 | D19: =SUM(D20:D26) -> 0 | E19: =SUM(E20:E26) -> 0 | F19: =SUM(F20:F26) -> 0 | G19: =SUM(G20:G26) -> 0 | H19: =SUM(H20:H26) -> 0 | I19: =SUM(I20:I26) -> 0 | J19: =SUM(J20:J26) -> 0 | K19: =SUM(K20:K26) -> 0 | ... O19: =SUM(O20:O26) -> 0
B20: 주식비 | C20: =SUM(D20:O20) -> 0
B21: 부식비 | C21: =SUM(D21:O21) -> 0
B22: 피복비 | C22: =SUM(D22:O22) -> 0
B23: 의료비 | C23: =SUM(D23:O23) -> 0
B24: 난방비 | C24: =SUM(D24:O24) -> 0
B25: 수용기관경비 | C25: =SUM(D25:O25) -> 0
B26: 운영비 | C26: =SUM(D26:O26) -> 0
A27: 시설전출금 | C27: =SUM(C28:C29) -> 0 | D27: =SUM(D28:D29) -> 0 | E27: 0 | F27: =SUM(F28:F29) -> 0 | G27: =SUM(G28:G29) -> 0 | H27: =SUM(H28:H29) -> 0 | I27: =SUM(I28:I29) -> 0 | J27: =SUM(J28:J29) -> 0 | K27: =SUM(K28:K29) -> 0 | L27: =SUM(L28:L29) -> 0 | M27: =SUM(M28:M29) -> 0 | ... O27: =SUM(O28:O29) -> 0
A28: 시설전출금 | C28: =SUM(D28:O28) -> 0
A29: 재가센터전출금 | C29: =SUM(D29:O29) -> 0
A30: 입금오류출금 | C30: =SUM(D30:O30) -> 0 | D30: =D31 -> 0 | E30: =E31 -> 0 | F30: =F31 -> 0 | G30: =G31 -> 0 | H30: =H31 -> 0 | I30: =I31 -> 0 | J30: =J31 -> 0 | K30: =K31 -> 0 | ... O30: =O31 -> 0
A31: 입금오류출금 | C31: =SUM(D31:O31) -> 0 | D31: 0 | E31: 0 | F31: 0 | G31: 0 | I31: 0 | J31: 0 | L31: 0 | M31: 0 | N31: 0 | O31: 0
A32: 총 계 | C32: =C14+C17+C19+C27+C30 -> 514300 | D32: =SUM(D14,D17,D19,D27,D30) -> 0 | E32: =SUM(E14,E17,E19,E27,E30) -> 0 | F32: =SUM(F14,F17,F19,F27,F30) -> 0 | G32: =SUM(G14,G17,G19,G27,G30) -> 0 | H32: =SUM(H14,H17,H19,H27,H30) -> 14060 | I32: =SUM(I14,I17,I19,I27,I30) -> 0 | J32: =SUM(J14,J17,J19,J27,J30) -> 0 | K32: =SUM(K14,K17,K19,K27,K30) -> 0 | ... O32: =SUM(O14,O17,O19,O27,O30) -> 0
A33: 잔 액 | C33: =C11-C32 -> 320294

Sheet 후원금(법인)세입.세출
A1: 1-2. 2024년 사회복지법인 밝은언덕 후원금 세입 계정 별 세출 계정
A2: 1) 비지정후원금 | F2: (단위 : 원) | G2: (단위 : 원) | H2: (단위 : 원) | I2: (단위 : 원) | J2: (단위 : 원)
A3: 년월일 | B3: 세출계정 | C3: 수입금액 | D3: 지출금액 | E3: 차인금액 | F3: 적요 | G3: 원본 | H3: 예외목록 | I3: 원본 | J3: 예외
B4: 전년이월금 | C4: 414123 | D4: 0 | E4: =C4-D4 -> 414123
A5: 44936 | B5: 후원금수입(비지정) | C5: 20000 | F5: 신*수 | G5: 신동수 | I5: 신동수
A6: 44951 | B6: 후원금수입(비지정) | C6: 10000 | F6: 정*숙 | G6: 정정숙 | I6: 정정숙
A7: 44953 | B7: 후원금수입(비지정) | C7: 5000 | F7: 문*용 | G7: 문호용 | I7: 문호용
B8: 월 계 | C8: =SUM(C5:C7) -> 35000 | D8: =SUM(D5:D7) -> 0
A9: 44967 | B9: 후원금수입(비지정) | C9: 20000 | F9: 신*수 | G9: 신동수 | I9: 신동수
A10: 44984 | B10: 후원금수입(비지정) | C10: 10000 | F10: 정*숙 | G10: 정정숙 | I10: 정정숙
A11: 44984 | B11: 후원금수입(비지정) | C11: 5000 | F11: 문*용 | G11: 문호용 | I11: 문호용
B12: 월 계 | C12: =SUM(C9:C11) -> 35000 | D12: =SUM(D9:D11) -> 0
A13: 44995 | B13: 후원금수입(비지정) | C13: 20000 | F13: 신*수 | G13: 신동수 | I13: 신동수
A14: 45012 | B14: 후원금수입(비지정) | C14: 10000 | F14: 정*숙 | G14: 정정숙 | I14: 정정숙
A15: 45012 | B15: 후원금수입(비지정) | C15: 5000 | F15: 문*용 | G15: 문호용 | I15: 문호용
B16: 월 계 | C16: =SUM(C13:C15) -> 35000 | D16: =SUM(D13:D15) -> 0
A17: 45026 | B17: 후원금수입(비지정) | C17: 20000 | F17: 신*수 | G17: 신동수 | I17: 신동수
A18: 45041 | B18: 후원금수입(비지정) | C18: 10000 | F18: 정*숙 | G18: 정정숙 | I18: 정정숙
A19: 45043 | B19: 후원금수입(비지정) | C19: 5000 | F19: 문*용 | G19: 문호용 | I19: 문호용
B20: 월 계 | C20: =SUM(C17:C19) -> 35000 | D20: =SUM(D17:D19) -> 0
A21: 45056 | B21: 후원금수입(비지정) | C21: 20000 | F21: 신*수 | G21: 신동수 | I21: 신동수
A22: 45071 | B22: 후원금수입(비지정) | C22: 10000 | F22: 정*숙 | G22: 정정숙 | I22: 정정숙
A23: 45076 | B23: 후원금수입(비지정) | C23: 5000 | F23: 문*용 | G23: 문호용 | I23: 문호용
B24: 월 계 | C24: =SUM(C21:C23) -> 35000 | D24: =SUM(D21:D23) -> 0
A25: 45089 | B25: 후원금수입(비지정) | C25: 20000 | F25: 신*수 | G25: 신동수 | I25: 신동수
A26: 45093 | B26: 수수료 | D26: 560240 | F26: 법인이사연임등기 | G26: 법인이사연임등기 | I26: 법인이사연임등기 | J26: 법인이사연임등기
A27: 45102 | B27: 예금이자 | C27: 502 | F27: 예금이자 | G27: 예금이자 | I27: 예금이자 | J27: 예금이자
A28: 45103 | B28: 후원금수입(비지정) | C28: 10000 | F28: 정*숙 | G28: 정정숙 | I28: 정정숙
A29: 45104 | B29: 후원금수입(비지정) | C29: 5000 | F29: 문*용 | G29: 문호용 | I29: 문호용
B30: 월 계 | C30: =SUM(C25:C29) -> 35502 | D30: =SUM(D25:D29) -> 560240 | E30: =SUM(E25:E29) -> 0
A31: 45117 | B31: 후원금수입(비지정) | C31: 20000 | F31: 신*수 | G31: 신동수 | I31: 신동수
A32: 45132 | B32: 후원금수입(비지정) | C32: 10000 | F32: 정*숙 | G32: 정정숙 | I32: 정정숙
A33: 45134 | B33: 후원금수입(비지정) | C33: 5000 | F33: 문*용 | G33: 문호용 | I33: 문호용
B34: 월 계 | C34: =SUM(C31:C33) -> 35000 | D34: =SUM(D31:D33) -> 0
A35: 45148 | B35: 후원금수입(비지정) | C35: 20000 | F35: 신*수 | G35: 신동수 | I35: 신동수
A36: 45163 | B36: 후원금수입(비지정) | C36: 10000 | F36: 정*숙 | G36: 정정숙 | I36: 정정숙
A37: 45166 | B37: 후원금수입(비지정) | C37: 5000 | F37: 문*용 | G37: 문호용 | I37: 문호용
B38: 월 계 | C38: =SUM(C35:C37) -> 35000 | D38: =SUM(D35:D37) -> 0
A39: 45180 | B39: 후원금수입(비지정) | C39: 20000 | F39: 신*수 | G39: 신동수 | I39: 신동수
A40: 45187 | B40: 수수료 | D40: 380409 | F40: 밝은언덕간이체(재산세 | G40: 밝은언덕간이체(재산세 | I40: 밝은언덕간이체(재산세 | J40: 밝은언덕간이체(재산세
A41: 45194 | B41: 후원금수입(비지정) | C41: 10000 | F41: 정*숙 | G41: 정정숙 | I41: 정정숙
A42: 45104 | B42: 후원금수입(비지정) | C42: 5000 | F42: 문*용 | G42: 문호용 | I42: 문호용
B43: 월 계 | C43: =SUM(C39:C42) -> 35000 | D43: =SUM(D39:D42) -> 380409 | E43: =SUM(E39:E42) -> 0
A44: 45209 | B44: 후원금수입(비지정) | C44: 20000 | F44: 신*수 | G44: 신동수 | I44: 신동수
A45: 45212 | B45: 수수료 | D45: 4400 | F45: 인증수수료 | G45: 인증수수료 | I45: 인증수수료 | J45: 인증수수료
A46: 45224 | B46: 후원금수입(비지정) | C46: 10000 | F46: 정*숙 | G46: 정정숙 | I46: 정정숙
A47: 45226 | B47: 후원금수입(비지정) | C47: 5000 | F47: 문*용 | G47: 문호용 | I47: 문호용
B48: 월 계 | C48: =SUM(C44:C47) -> 35000 | D48: =SUM(D44:D47) -> 4400 | E48: =SUM(E44:E47) -> 0
A49: 45240 | B49: 후원금수입(비지정) | C49: 20000 | F49: 신*수 | G49: 신동수 | I49: 신동수
A50: 45257 | B50: 후원금수입(비지정) | C50: 10000 | F50: 정*숙 | G50: 정정숙 | I50: 정정숙
A51: 45257 | B51: 후원금수입(비지정) | C51: 5000 | F51: 문*용 | G51: 문호용 | I51: 문호용
B52: 월 계 | C52: =SUM(C49:C51) -> 35000 | D52: =SUM(D49:D51) -> 0
A53: 45271 | B53: 후원금수입(비지정) | C53: 20000 | F53: 신*수 | G53: 신동수 | I53: 신동수
A54: 45284 | B54: 예금이자 | C54: 239 | F54: 예금이자 | G54: 예금이자 | I54: 예금이자
A55: 45286 | B55: 후원금수입(비지정) | C55: 10000 | F55: 정*숙 | G55: 정정숙 | I55: 정정숙
A56: 45287 | B56: 후원금수입(비지정) | C56: 5000 | F56: 문*용 | G56: 문호용 | I56: 문호용
B57: 월 계 | C57: =SUM(C53:C56) -> 35239 | D57: =SUM(D53:D56) -> 0
A58: 45301 | B58: 후원금수입(비지정) | C58: 20000 | F58: 신*수 | G58: 신동수 | I58: 신동수
A59: 45316 | B59: 후원금수입(비지정) | C59: 10000 | F59: 정*숙 | G59: 정정숙 | I59: 정정숙
A60: 45320 | B60: 후원금수입(비지정) | C60: 5000 | F60: 문*용 | G60: 문호용 | I60: 문호용
B61: 월 계 | C61: =SUM(C58:C60) -> 35000 | D61: =SUM(D58:D60) -> 0
A62: 45335 | B62: 후원금수입(비지정) | C62: 20000 | F62: 신*수 | G62: 신동수 | I62: 신동수
A63: 45348 | B63: 후원금수입(비지정) | C63: 10000 | F63: 정*숙 | G63: 정정숙 | I63: 정정숙
A64: 45349 | B64: 후원금수입(비지정) | C64: 5000 | F64: 문*용 | G64: 문호용 | I64: 문호용
B65: 월 계 | C65: =SUM(C62:C64) -> 35000 | D65: =SUM(D62:D64) -> 0
A66: 45362 | B66: 후원금수입(비지정) | C66: 20000 | F66: 신*수 | G66: 신동수 | I66: 신동수
A67: 45376 | B67: 후원금수입(비지정) | C67: 10000 | F67: 정*숙 | G67: 정정숙 | I67: 정정숙
A68: 45378 | B68: 후원금수입(비지정) | C68: 5000 | F68: 문*용 | G68: 문호용 | I68: 문호용
B69: 월 계 | C69: =SUM(C66:C68) -> 35000 | D69: =SUM(D66:D68) -> 0
A70: 45393 | B70: 후원금수입(비지정) | C70: 20000 | F70: 신*수 | G70: 신동수 | I70: 신동수
A71: 45407 | B71: 후원금수입(비지정) | C71: 10000 | F71: 정*숙 | G71: 정정숙 | I71: 정정숙
A72: 45411 | B72: 후원금수입(비지정) | C72: 5000 | F72: 문*용 | G72: 문호용 | I72: 문호용
B73: 월 계 | C73: =SUM(C70:C72) -> 35000 | D73: =SUM(D70:D72) -> 0
A74: 45422 | B74: 후원금수입(비지정) | C74: 20000 | F74: 신*수 | G74: 신동수 | I74: 신동수
A75: 45433 | B75: 수수료 | D75: 14060 | F75: 법인지방소득세 | G75: 법인지방소득세 | H75: 법인지방소득세 | I75: 법인지방소득세 | J75: 법인지방소득세
A76: 45439 | B76: 후원금수입(비지정) | C76: 10000 | F76: 정*숙 | G76: 정정숙 | I76: 정정숙
A77: 45439 | B77: 후원금수입(비지정) | C77: 5000 | F77: 문*용 | G77: 문호용 | I77: 문호용
B78: 월 계 | C78: =SUM(C74:C77) -> 35000 | D78: =SUM(D74:D77) -> 14060
A79: 45453 | B79: 후원금수입(비지정) | C79: 20000 | F79: 신*수 | G79: 신동수 | I79: 신동수
A80: 45466 | B80: 예금이자 | C80: 252 | F80: 예금이자 | G80: 예금이자 | H80: 예금이자 | I80: 예금이자
A81: 45468 | B81: 후원금수입(비지정) | C81: 10000 | F81: 정*숙 | G81: 정정숙 | I81: 정정숙
A82: 45470 | B82: 후원금수입(비지정) | C82: 5000 | F82: 문*용 | G82: 문호용 | I82: 문호용
B83: 월 계 | C83: =SUM(C79:C82) -> 35252 | D83: =SUM(D79:D82) -> 0
A84: 45483 | B84: 후원금수입(비지정) | C84: 20000 | F84: 신*수 | G84: 신동수 | I84: 신동수
A85: 45498 | B85: 후원금수입(비지정) | C85: 10000 | F85: 정*숙 | G85: 정정숙 | I85: 정정숙
A86: 45502 | B86: 후원금수입(비지정) | C86: 5000 | F86: 문*용 | G86: 문호용 | I86: 문호용
B87: 월 계 | C87: =SUM(C84:C86) -> 35000 | D87: =SUM(D84:D86) -> 0
A88: 45516 | B88: 후원금수입(비지정) | C88: 20000 | F88: 신*수 | G88: 신동수 | I88: 신동수
A89: 45530 | B89: 후원금수입(비지정) | C89: 10000 | F89: 정*숙 | G89: 정정숙 | I89: 정정숙
A90: 45531 | B90: 후원금수입(비지정) | C90: 5000 | F90: 문*용 | G90: 문호용 | I90: 문호용
B91: 월 계 | C91: =SUM(C88:C90) -> 35000 | D91: =SUM(D88:D90) -> 0
A92: 45545 | B92: 후원금수입(비지정) | C92: 20000 | F92: 신*수 | G92: 신동수 | I92: 신동수
A93: 45548 | B93: 후원금수입(비지정) | D93: 500240 | F93: 이사등기수수료 (조윤식법무사사무소) | G93: 이사등기수수료 (조윤식법무사사무소) | H93: 이사등기수수료 (조윤식법무사사무소) | I93: 이사등기수수료 (조윤식법무사사무소) | J93: 이사등기수수료 (조윤식법무사사무소)
A94: 45560 | B94: 후원금수입(비지정) | C94: 10000 | F94: 정*숙 | G94: 정정숙 | I94: 정정숙
A95: 45562 | B95: 후원금수입(비지정) | C95: 5000 | F95: 문*용 | G95: 문호용 | I95: 문호용
B96: 월 계 | C96: =SUM(C92:C95) -> 35000 | D96: =SUM(D92:D95) -> 500240
A97: 45575 | B97: 후원금수입(비지정) | C97: 20000 | F97: 신*수 | G97: 신동수 | I97: 신동수
A98: 45590 | B98: 후원금수입(비지정) | C98: 10000 | F98: 정*숙 | G98: 정정숙 | I98: 정정숙
A99: 45593 | B99: 후원금수입(비지정) | C99: 5000 | F99: 문*용 | G99: 문호용 | I99: 문호용
B100: 월 계 | C100: =SUM(C97:C99) -> 35000 | D100: =SUM(D97:D99) -> 0
...

Sheet 후원금(법인)사용결과
B1: 2-4. 후원금 수입 및 사용결과 보고서
B2: (단위 : 원)
B3: 일 자 | C3: 후원금종류 | D3: 후원자 | E3: 내역 | F3: 금액 | G3: 비고
B4: 44571 | C4: 기타후원 | E4: 밝은언덕의 발전과 가족을 위해 | F4: 20000 | G4: 후원금수입(비지정)
B5: 44586 | C5: 기타후원 | E5: 밝은언덕의 발전과 가족을 위해 | F5: 10000 | G5: 후원금수입(비지정)
B6: 44588 | C6: 기타후원 | E6: 밝은언덕의 발전과 가족을 위해 | F6: 5000 | G6: 후원금수입(비지정)
B7: 44602 | C7: 기타후원 | E7: 밝은언덕의 발전과 가족을 위해 | F7: 20000 | G7: 후원금수입(비지정)
B8: 44617 | C8: 기타후원 | E8: 밝은언덕의 발전과 가족을 위해 | F8: 10000 | G8: 후원금수입(비지정)
B9: 44620 | C9: 기타후원 | E9: 밝은언덕의 발전과 가족을 위해 | F9: 5000 | G9: 후원금수입(비지정)
B10: 44630 | C10: 기타후원 | E10: 밝은언덕의 발전과 가족을 위해 | F10: 20000 | G10: 후원금수입(비지정)
B11: 44645 | C11: 기타후원 | E11: 밝은언덕의 발전과 가족을 위해 | F11: 10000 | G11: 후원금수입(비지정)
B12: 44648 | C12: 기타후원 | E12: 밝은언덕의 발전과 가족을 위해 | F12: 5000 | G12: 후원금수입(비지정)
B13: 44662 | C13: 기타후원 | E13: 밝은언덕의 발전과 가족을 위해 | F13: 20000 | G13: 후원금수입(비지정)
B14: 44665 | C14: 기타후원 | E14: 밝은언덕의 발전과 가족을 위해 | F14: 2000000 | G14: 후원금수입(비지정)
B15: 44676 | C15: 기타후원 | E15: 밝은언덕의 발전과 가족을 위해 | F15: 10000 | G15: 후원금수입(비지정)
... B117: 45655 | C117: 기타후원 | E117: 밝은언덕의 발전과 가족을 위해 | F117: 219 | G117: 후원금수입(비지정)
