Workbook

Sheet o후원금(시설)
A1: 2. 2023년 밝은언덕노인요양원 후원금 수입 · 지출 내역
A2: ( 단위 : 원 )
A3: 시설명 | B3: 후원금 수입 | L3: 후원금 지출 | AC3: 비고(잔액)
B4: 계 | C4: 지정후원금 이월금 | D4: 비지정후원금 이월금 | E4: 결연후원금 | F4: 지정후원금 | G4: 비지정후원금 | H4: 예금이자 | J4: 입금오류 | K4: 기타 (법인전입금) | L4: 계 | M4: 결연후원금 | N4: 지정후원금 | O4: 비지정후원금 | AB4: 지정후원금
I5: 결산이자 | O5: 계 | P5: 직접비 | Z5: 간접비 | AB5: 직접비
P6: 소계 | Q6: 인건비 | R6: 운영비 | S6: 주식비 | T6: 부식비 | U6: 난방비 | V6: 차량비 | W6: 입금오류 | X6: 수용기관경비 | Y6: 기타 | Z6: 소계 | AA6: 기타 | AB6: 지정후원금
A7: 밝은언덕노인요양원 | B7: =SUM(C7:K7) -> 123321677 | C7: ='o후원금(시설)세부내역'!C13 -> 225262 | D7: ='o후원금(시설)세부내역'!C12 -> 22356418 | F7: ='o후원금(시설)세부내역'!C6 -> 39676252 | G7: ='o후원금(시설)세부내역'!C5 -> 61040000 | H7: ='o후원금(시설)세부내역'!C7 -> 18460 | I7: ='o후원금(시설)세부내역'!C8 -> 5285 | J7: ='o후원금(시설)세부내역'!C9 -> 0 | K7: ='o후원금(시설)세부내역'!C10 -> 0 | L7: =O7+AB7 -> 103603042 | O7: =P7 -> 79358780 | P7: =SUM(Q7:Y7) -> 79358780 | Q7: ='o후원금(시설)세부내역'!C17 -> 0 | R7: ='o후원금(시설)세부내역'!C19 -> 1172680 | S7: ='o후원금(시설)세부내역'!C24 -> 5790000 | T7: ='o후원금(시설)세부내역'!C26 -> 0 | U7: ='o후원금(시설)세부내역'!C29 -> 0 | V7: ='o후원금(시설)세부내역'!C27 -> 0 | W7: ='o후원금(시설)세부내역'!C31 -> 0 | X7: ='o후원금(시설)세부내역'!C32 -> 72396100 | AB7: ='o후원금(시설)세부내역'!C34 -> 24244262 | AC7: =B8-Q8 -> 19718635
A8: 후원금수입총계 | B8: =B7 -> 123321677 | L8: 후원금지출총계 | Q8: =L7 -> 103603042 | AC8: =B8-Q8 -> 19718635
A27: 1. 2011년 사회복지법인 밝은언덕 후원금 수입 · 지출 내역
A30: ( 단위 : 원 )
A31: 법인명 | B31: 후원금 수입 | G31: 비지정후원금 | L31: 후원금 지출 | AC31: 비고(잔액)
B32: 계 | C32: 이월금 | E32: 결연후원금 | F32: 지정후원금 | K32: 기타 | L32: 계 | M32: 결연후원금 | N32: 지정후원금 | O32: 비지정후원금 | AB32: 기타
O33: 계 | P33: 직접비 | Z33: 간접비
G34: 2859927 | P34: 소계 | Q34: 인건비 | R34: 운영비 | S34: 주식비 | T34: 부식비 | U34: 교육비 | V34: 기타사업비 | Y34: 시설전출금 | Z34: 소계 | AA34: 기타
A35: 사회복지법인 밝은언덕 | B35: =C35+G34 -> 2859927 | L35: =O35 -> 66770 | O35: =P35+Z35 -> 66770 | P35: =SUM(Q35:Y35) -> 66770 | Q35: 0 | R35: 66770 | AC35: =B35-L35 -> 2793157
A36: 후원금수입총계 | B36: =B35 -> 2859927 | L36: 후원금지출총계 | Q36: =L35 -> 66770 | AC36: =B36-Q36 -> 2793157
O38: 2011 지정, 비지정 후원금 차기이월금 계 | AC38: =#REF!+AC36 -> #REF!
O41: 2011 지정, 비지정 후원금 차기이월금 계 | AC41: =#REF!+#REF! -> #REF!

Sheet o후원금(시설)세부내역
A1: 2-1. 2023년 밝은언덕 노인요양원 후원금 월별정산
A2: 수 입 | O2: (단위 : 원)
A3: 구 분 | C3: 계 | D3: 1 | E3: 2 | F3: 3 | G3: 4 | H3: 5 | I3: 6 | J3: 7 | K3: 8 | L3: 9 | M3: 10 | N3: 11 | O3: 12
A4: 2023년 | B4: 합계 | C4: =SUM(C5:C10) -> 100739997 | D4: =SUM(D5:D10) -> 7180000 | E4: =SUM(E5:E10) -> 3630000 | F4: =SUM(F5:F10) -> 6660000 | G4: =SUM(G5:G10) -> 21366252 | H4: =SUM(H5:H10) -> 25830000 | I4: =SUM(I5:I10) -> 4832091 | J4: =SUM(J5:J10) -> 6760000 | ... O4: =SUM(O5:O10) -> 4341654
B5: 비지정 | C5: =SUM(D5:O5) -> 61040000 | D5: 6580000 | E5: 3330000 | F5: 6360000 | G5: 4390000 | H5: 5530000 | I5: 4520000 | J5: 6460000 | K5: 5555000 | L5: 4445000 | M5: 4645000 | N5: 4895000 | O5: 4330000
B6: 지정 | C6: =SUM(D6:O6) -> 39676252 | D6: 600000 | E6: 300000 | F6: 300000 | G6: 16976252 | H6: 20300000 | I6: 300000 | J6: 300000 | K6: 300000 | L6: 300000
B7: 예금이자 | C7: =SUM(D7:O7) -> 18460 | I7: 8669 | O7: 9791
B8: 결산이자 | C8: =SUM(D8:O8) -> 5285 | I8: 3422 | O8: 1863
B9: 입금오류 | C9: =SUM(D9:O9) -> 0
B10: 법인전입금 | C10: =SUM(D10:O10) -> 0
A11: 2022년 이월금 | B11: 합계 | C11: =SUM(C12:C13) -> 22581680
B12: 비지정 | C12: 22356418
B13: 지정 | C13: 225262
A14: 총 계 | C14: =SUM(C4,C11) -> 123321677
A15: 지 출 | O15: (단위 : 원)
A16: 구 분 | C16: 계 | D16: 1 | E16: 2 | F16: 3 | G16: 4 | H16: 5 | I16: 6 | J16: 7 | K16: 8 | L16: 9 | M16: 10 | N16: 11 | O16: 12
A17: 인건비 | C17: =SUM(D17:O17) -> 0 | D17: =D18 -> 0 | E17: =E18 -> 0 | F17: =F18 -> 0 | G17: =G18 -> 0 | H17: =H18 -> 0 | I17: =I18 -> 0 | J17: =J18 -> 0 | K17: =K18 -> 0 | ... O17: =O18 -> 0
B18: 인건비
A19: 사무운영비 | C19: =SUM(D19:O19) -> 1172680 | D19: =SUM(D20:D23) -> 97955 | E19: =SUM(E20:E23) -> 80795 | F19: =SUM(F20:F23) -> 115005 | G19: =SUM(G20:G23) -> 97295 | H19: =SUM(H20:H23) -> 97845 | I19: =SUM(I20:I23) -> 99615 | J19: =SUM(J20:J23) -> 97460 | K19: =SUM(K20:K23) -> 97185 | ... O19: =SUM(O20:O23) -> 97970
B20: 운영비 | I20: 1330 | O20: 1500
B21: cms사용료 | D21: 55110 | E21: 55000 | F21: 55000 | G21: 55000 | H21: 55000 | I21: 55000 | J21: 55000 | K21: 55000 | L21: 55440 | M21: 55110 | N21: 55000 | O21: 55000
B22: cms수수료 | D22: 42845 | E22: 25795 | F22: 60005 | G22: 42295 | H22: 42845 | I22: 43285 | J22: 42460 | K22: 42185 | L22: 40260 | M22: 44330 | N22: 41415 | O22: 41470
B23: 수용비및수수료
A24: 사업운영비 | C24: =SUM(D24:O24) -> 5790000 | D24: =SUM(D25:D31) -> 5790000 | E24: =SUM(E25:E31) -> 0 | F24: =SUM(F25:F31) -> 0 | G24: =SUM(G25:G31) -> 0 | H24: =SUM(H25:H31) -> 0 | I24: =SUM(I25:I31) -> 0 | J24: =SUM(J25:J31) -> 0 | K24: =SUM(K25:K31) -> 0 | ... O24: =SUM(O25:O31) -> 0
B25: 주식비 | C25: =G25 -> 0 | D25: 5790000
B26: 부식비 | C26: =G26 -> 0
B27: 차량비 | C27: =G27 -> 0
B28: 의료비 | C28: =G28 -> 0
B29: 난방비 | C29: =G29 -> 0
B30: 수도광열비 | C30: =G30 -> 0
B31: 입금오류환불금 | C31: =G31 -> 0
A32: 입소자수용경비 | C32: =SUM(D32:O32) -> 72396100 | D32: =D33 -> 4175000 | E32: =E33 -> 4723000 | F32: =F33 -> 6634000 | G32: =G33 -> 6232500 | H32: =H33 -> 6494600 | I32: =I33 -> 5227000 | J32: =J33 -> 7856000 | K32: =K33 -> 6144000 | ... O32: =O33 -> 6000000
B33: 수용기관경비 | D33: 4175000 | E33: 4723000 | F33: 6634000 | G33: 6232500 | H33: 6494600 | I33: 5227000 | J33: 7856000 | K33: 6144000 | L33: 13552000 | N33: 5358000 | O33: 6000000
A34: 지정후원금 | C34: =SUM(D34:O34) -> 24244262 | D34: =D35 -> 0 | E34: =E35 -> 214000 | F34: =F35 -> 0 | G34: =G35 -> 13662 | H34: =H35 -> 20000000 | I34: =I35 -> 0 | J34: =J35 -> 337000 | K34: =K35 -> 3432000 | ... O34: =O35 -> 0
B35: 지정후원금 | E35: 214000 | G35: 13662 | H35: 20000000 | J35: 337000 | K35: 3432000 | L35: 247600
A36: 총 계 | C36: =SUM(C17,C19,C24,C32,C34) -> 103603042 | D36: =SUM(D17,D19,D24,D32,D34) -> 10062955 | E36: =SUM(E17,E19,E24,E32,E34) -> 5017795 | F36: =SUM(F17,F19,F24,F32,F34) -> 6749005 | G36: =SUM(G17,G19,G24,G32,G34) -> 6343457 | H36: =SUM(H17,H19,H24,H32,H34) -> 26592445 | I36: =SUM(I17,I19,I24,I32,I34) -> 5326615 | J36: =SUM(J17,J19,J24,J32,J34) -> 8290460 | ... O36: =SUM(O17,O19,O24,O32,O34) -> 6097970
A37: 잔 액 | C37: =C14-C36 -> 19718635 | O37: =A1:O37 -> 0

Sheet o비지정후원금(시설)세입.세출
A1: 2-2. 2023년 밝은언덕노인요양원 후원금 세입 계정 별 세출 계정
A2: 1) 비지정후원금 | F2: (단위 : 원)
A3: 년월일 | B3: 세출계정 | C3: 수입금액 | D3: 지출금액 | E3: 차인금액 | F3: 적요
B4: 전년이월금 | C4: 22356418 | D4: 0 | E4: =C4-D4 -> 22356418
A5: 44562 | B5: 비지정후원금 | C5: 30000 | D5: 0 | E5: =E4+C5 -> 22386418 | F5: 권열
A6: 44564 | B6: 비지정후원금 | C6: 60000 | D6: 0 | E6: =E5+C6-D6 -> 22446418 | F6: CMS집금
A7: 44565 | B7: 비지정후원금 | C7: 10000 | D7: 0 | E7: =E6+C7-D7 -> 22456418 | F7: 유순남
A8: 44566 | B8: 비지정후원금 | C8: 100000 | D8: 0 | E8: =E7+C8-D8 -> 22556418 | F8: 주석진레미콘
A9: 44566 | B9: 비지정후원금 | C9: 100000 | D9: 0 | E9: =E8+C9-D9 -> 22656418 | F9: 020-김홍태
A10: 44566 | B10: 비지정후원금 | C10: 260000 | D10: 0 | E10: =E9+C10-D10 -> 22916418 | F10: CMS집금
A11: 44566 | B11: 수용비및수수료 | D11: 55000 | E11: =E10+C11-D11 -> 22861418 | F11: ＣＭＳ사용료
A12: 44567 | B12: 비지정후원금 | C12: 40000 | D12: 0 | E12: =E11+C12-D12 -> 22901418 | F12: CMS집금
A13: 44568 | B13: 비지정후원금 | C13: 345000 | D13: 0 | E13: =E12+C13-D13 -> 23246418 | F13: CMS집금
A14: 44571 | B14: 비지정후원금 | C14: 50000 | D14: 0 | E14: =E13+C14-D14 -> 23296418 | F14: 김명옥
A15: 44571 | B15: 비지정후원금 | C15: 10000 | D15: 0 | E15: =E14+C15-D15 -> 23306418 | F15: 배정열
A16: 44571 | B16: 비지정후원금 | C16: 10000 | D16: 0 | E16: =E15+C16-D16 -> 23316418 | F16: 정기후원나형용
A17: 44571 | B17: 비지정후원금 | C17: 20000 | D17: 0 | E17: =E16+C17-D17 -> 23336418 | F17: 배경달
A18: 44571 | B18: 비지정후원금 | C18: 10000 | D18: 0 | E18: =E17+C18-D18 -> 23346418 | F18: 임만빈
A19: 44571 | B19: 비지정후원금 | C19: 50000 | D19: 0 | E19: =E18+C19-D19 -> 23396418 | F19: CMS집금
A20: 44573 | B20: 비지정후원금 | C20: 80000 | D20: 0 | E20: =E19+C20-D20 -> 23476418 | F20: CMS집금
A21: 44574 | B21: 비지정후원금 | C21: 30000 | D21: 0 | E21: =E20+C21-D21 -> 23506418 | F21: CMS집금
A22: 44575 | B22: 비지정후원금 | C22: 35000 | D22: 0 | E22: =E21+C22-D22 -> 23541418 | F22: 장교순
A23: 44578 | B23: 수용기관경비 | D23: 500000 | E23: =E22+C23-D23 -> 23041418 | F23: 덕인당쌍화탕
A24: 44580 | B24: 비지정후원금 | C24: 1285000 | D24: 0 | E24: =E23+C24-D24 -> 24326418 | F24: CMS집금
A25: 44581 | B25: 비지정후원금 | C25: 20000 | D25: 0 | E25: =E24+C25-D25 -> 24346418 | F25: 한경희
A26: 44581 | B26: 비지정후원금 | C26: 20000 | D26: 0 | E26: =E25+C26-D26 -> 24366418 | F26: 이계오
A27: 44581 | B27: 비지정후원금 | C27: 20000 | D27: 0 | E27: =E26+C27-D27 -> 24386418 | F27: 김분례
A28: 44582 | B28: 비지정후원금 | C28: 100000 | D28: 0 | E28: =E27+C28-D28 -> 24486418 | F28: 임광재
A29: 44583 | B29: 비지정후원금 | C29: 20000 | D29: 0 | E29: =E28+C29-D29 -> 24506418 | F29: 이진우
A30: 44585 | B30: 비지정후원금 | C30: 340000 | D30: 0 | E30: =E29+C30-D30 -> 24846418 | F30: CMS집금
A31: 44587 | B31: 비지정후원금 | C31: 500000 | D31: 0 | E31: =E30+C31-D31 -> 25346418 | F31: 대흥주식회사
A32: 44587 | B32: 비지정후원금 | C32: 100000 | D32: 0 | E32: =E31+C32-D32 -> 25446418 | F32: 박한병
A33: 44587 | B33: 비지정후원금 | C33: 30000 | D33: 0 | E33: =E32+C33-D33 -> 25476418 | F33: 최광섭 | I33: =SUM(D35:D36,D23) -> 7026000
A34: 44587 | B34: 비지정후원금 | C34: 30000 | D34: 0 | E34: =E33+C34-D34 -> 25506418 | F34: CMS집금
A35: 44587 | B35: 수용기관경비 | D35: 3236000 | E35: =E34+C35-D35 -> 22270418 | F35: 조인푸드기저귀
A36: 44587 | B36: 수용기관경비 | D36: 3290000 | E36: =E35+C36-D36 -> 18980418 | F36: 조인푸드 두유
A37: 44587 | B37: 비지정후원금 | C37: 10000 | D37: 0 | E37: =E36+C37-D37 -> 18990418 | F37: 최은옥
A38: 44588 | B38: 비지정후원금 | C38: 1185000 | D38: 0 | E38: =E37+C38-D38 -> 20175418 | F38: CMS집금
A39: 44588 | B39: 비지정후원금 | C39: 30000 | D39: 0 | E39: =E38+C39-D39 -> 20205418 | F39: 홍순영
A40: 44589 | B40: 비지정후원금 | C40: 10000 | D40: 0 | E40: =E39+C40-D40 -> 20215418 | F40: 장한미
...

Sheet o후원금(시설)사용결과
B1: 2-3. 후원금 수입 및 사용결과 보고서
B2: 1) 비지정후원금(금전) 수입 명세서 (단위 : 원)
B3: 일 자 | C3: 후원금종류 | D3: 후원자 | E3: 내역 | F3: 금액 | G3: 비고
B4: 43832 | C4: 기타후원 | E4: 밝은언덕의 발전과 가족을 위해 | F4: 90000 | G4: 후원금수입(비지정)
B5: 43836 | C5: 기타후원 | E5: 밝은언덕의 발전과 가족을 위해 | F5: 100000 | G5: 후원금수입(비지정)
B6: 43836 | C6: 기타후원 | E6: 밝은언덕의 발전과 가족을 위해 | F6: 30000 | G6: 후원금수입(비지정)
B7: 43836 | C7: 기타후원 | E7: 밝은언덕의 발전과 가족을 위해 | F7: 10000 | G7: 후원금수입(비지정)
B8: 43836 | C8: 기타후원 | E8: 밝은언덕의 발전과 가족을 위해 | F8: 270000 | G8: 후원금수입(비지정)
B9: 43836 | C9: 기타후원 | E9: 밝은언덕의 발전과 가족을 위해 | F9: 400000 | G9: 후원금수입(비지정)
B10: 43836 | C10: 기타후원 | E10: 밝은언덕의 발전과 가족을 위해 | F10: 1000000 | G10: 후원금수입(비지정)
B11: 43838 | C11: 기타후원 | E11: 밝은언덕의 발전과 가족을 위해 | F11: 550000 | G11: 후원금수입(비지정)
B12: 43838 | C12: 기타후원 | E12: 밝은언덕의 발전과 가족을 위해 | F12: 1000000 | G12: 후원금수입(비지정)
B13: 43839 | C13: 기타후원 | E13: 밝은언덕의 발전과 가족을 위해 | F13: 10000 | G13: 후원금수입(비지정)
B14: 43839 | C14: 기타후원 | E14: 밝은언덕의 발전과 가족을 위해 | F14: 20000 | G14: 후원금수입(비지정)
B15: 43840 | C15: 기타후원 | E15: 밝은언덕의 발전과 가족을 위해 | F15: 10000 | G15: 후원금수입(비지정)
... B711: 44499 | C711: 기타후원 | E711: 밝은언덕의 발전과 가족을 위해 | F711: 100000 | G711: 후원금수입(비지정)
B712: 2021/11/01 | C712: 기타후원 | E712: 밝은언덕의 발전과 가족을 위해 | F712: 30000 | G712: 후원금수입(비지정)
B713: 2021/11/01 | C713: 기타후원 | E713: 밝은언덕의 발전과 가족을 위해 | F713: 10000 | G713: 후원금수입(비지정)
B714: 2021/11/01 | C714: 기타후원 | E714: 밝은언덕의 발전과 가족을 위해 | F714: 50000 | G714: 후원금수입(비지정)
B715: 2021/11/01 | C715: 기타후원 | E715: 밝은언덕의 발전과 가족을 위해 | F715: 14065 | G715: 후원금수입(비지정)
B716: 2021/11/01 | C716: 기타후원 | E716: 밝은언덕의 발전과 가족을 위해 | F716: 30000 | G716: 후원금수입(비지정)
B717: 2021/11/01 | C717: 기타후원 | E717: 밝은언덕의 발전과 가족을 위해 | F717: 10000 | G717: 후원금수입(비지정)
B718: 2021/11/01 | C718: 기타후원 | E718: 밝은언덕의 발전과 가족을 위해 | F718: 20000 | G718: 후원금수입(비지정)
B719: 2021/11/03 | C719: 기타후원 | E719: 밝은언덕의 발전과 가족을 위해 | F719: 325765 | G719: 후원금수입(비지정)
B720: 2021/11/05 | C720: 기타후원 | E720: 밝은언덕의 발전과 가족을 위해 | F720: 100000 | G720: 후원금수입(비지정)
B721: 2021/11/05 | C721: 기타후원 | E721: 밝은언덕의 발전과 가족을 위해 | F721: 100000 | G721: 후원금수입(비지정)
B722: 2021/11/06 | C722: 기타후원 | E722: 밝은언덕의 발전과 가족을 위해 | F722: 10000 | G722: 후원금수입(비지정)
B723: 2021/11/08 | C723: 기타후원 | E723: 밝은언덕의 발전과 가족을 위해 | F723: 489775 | G723: 후원금수입(비지정)
... B751: 2021/11/30 | C751: 기타후원 | E751: 밝은언덕의 발전과 가족을 위해 | F751: 30000 | G751: 후원금수입(비지정)
B752: 44531 | C752: 기타후원 | E752: 밝은언덕의 발전과 가족을 위해 | F752: 30000 | G752: 후원금수입(비지정)
B753: 44531 | C753: 기타후원 | E753: 밝은언덕의 발전과 가족을 위해 | F753: 68790 | G753: 후원금수입(비지정)
B754: 44532 | C754: 기타후원 | E754: 밝은언덕의 발전과 가족을 위해 | F754: 59175 | G754: 후원금수입(비지정)
B755: 44532 | C755: 기타후원 | E755: 밝은언덕의 발전과 가족을 위해 | F755: 10000 | G755: 후원금수입(비지정)
B756: 44533 | C756: 기타후원 | E756: 밝은언덕의 발전과 가족을 위해 | F756: 60000 | G756: 후원금수입(비지정)
B757: 44533 | C757: 기타후원 | E757: 밝은언덕의 발전과 가족을 위해 | F757: 10000 | G757: 후원금수입(비지정)
B758: 44533 | C758: 기타후원 | E758: 밝은언덕의 발전과 가족을 위해 | F758: 300000 | G758: 후원금수입(비지정)
B759: 44533 | C759: 기타후원 | E759: 밝은언덕의 발전과 가족을 위해 | F759: 291095 | G759: 후원금수입(비지정)
B760: 44535 | C760: 기타후원 | E760: 밝은언덕의 발전과 가족을 위해 | F760: 100000 | G760: 후원금수입(비지정)
B761: 44536 | C761: 기타후원 | E761: 밝은언덕의 발전과 가족을 위해 | F761: 10000 | G761: 후원금수입(비지정)
B762: 44536 | C762: 기타후원 | E762: 밝은언덕의 발전과 가족을 위해 | F762: 100000 | G762: 후원금수입(비지정)
...

Sheet o사용명세서
B1: 2-3. 후원금 수입 및 사용결과 보고서
B2: 1-1) 비지정후원금(금전) 사용명세서 (단위 : 원)
B3: 사용일자 | C3: 사용내역 | D3: 금액 | E3: 산출기준 | F3: 비고
B4: 43836 | C4: 수용비및수수료 | D4: 55000 | E4: 사무운영비 | F4: 후원금수입(비지정)
B5: 43861 | C5: 수용비및수수료 | D5: 51700 | E5: 사무운영비 | F5: 후원금수입(비지정)
B6: 43866 | C6: 수용비및수수료 | D6: 55000 | E6: 사무운영비 | F6: 후원금수입(비지정)
B7: 43867 | C7: 수용기관경비 | D7: 4784000 | E7: 입소자수용경비 | F7: 후원금수입(비지정)
B8: 43868 | C8: 수용기관경비 | D8: 891000 | E8: 입소자수용경비 | F8: 후원금수입(비지정)
B9: 43876 | C9: 수용기관경비 | D9: 150000 | E9: 입소자수용경비 | F9: 후원금수입(비지정)
B10: 43876 | C10: 수용기관경비 | D10: 300000 | E10: 입소자수용경비 | F10: 후원금수입(비지정)
B11: 43876 | C11: 수용기관경비 | D11: 360000 | E11: 입소자수용경비 | F11: 후원금수입(비지정)
B12: 43876 | C12: 수용기관경비 | D12: 150000 | E12: 입소자수용경비 | F12: 후원금수입(비지정)
B13: 43876 | C13: 수용기관경비 | D13: 300000 | E13: 입소자수용경비 | F13: 후원금수입(비지정)
B14: 43876 | C14: 수용기관경비 | D14: 360000 | E14: 입소자수용경비 | F14: 후원금수입(비지정)
B15: 43895 | C15: 수용비및수수료 | D15: 55000 | E15: 사무운영비 | F15: 후원금수입(비지정)
... B104: 44499 | C104: CMS수수료 | D104: 47410 | E104: 사무운영비 | F104: 후원금수입(비지정)
B105: 2021/11/05 | C105: 수용기관경비 | D105: 4000000 | E105: 수용기관경비 | F105: 후원금수입(비지정)
B106: 2021/11/05 | C106: 수용비및수수료 | D106: 55000 | E106: 사무운영비 | F106: 후원금수입(비지정)
B107: 2021/11/05 | C107: 수용기관경비 | D107: 365500 | E107: 수용기관경비 | F107: 후원금수입(비지정)
B108: 2021/11/12 | C108: 수용기관경비 | D108: 1471000 | E108: 수용기관경비 | F108: 후원금수입(비지정)
B109: 44536 | C109: 수용비및수수료 | D109: 55000 | E109: 사무운영비 | F109: 후원금수입(비지정)
B110: 44555 | C110: 수용비및수수료 | D110: 1210 | E110: 사무운영비 | F110: 후원금수입(비지정)
B111: 44555 | C111: 수용비및수수료 | D111: 120 | E111: 사무운영비 | F111: 후원금수입(비지정)
B112: 44566 | C112: 수용비및수수료 | D112: 55000 | E112: 사무운영비 | F112: 후원금수입(비지정)
B113: 44578 | C113: 입소자수용경비 | D113: 500000 | E113: 수용기관경비 | F113: 후원금수입(비지정)
B114: 44587 | C114: 입소자수용경비 | D114: 3236000 | E114: 수용기관경비 | F114: 후원금수입(비지정)
B115: 44587 | C115: 입소자수용경비 | D115: 3290000 | E115: 수용기관경비 | F115: 후원금수입(비지정)
B116: 44589 | C116: 수용비및수수료 | D116: 44990 | E116: 사무운영비 | F116: 후원금수입(비지정)
B117: 44599 | C117: 수용비및수수료 | D117: 55220 | E117: 사무운영비 | F117: 후원금수입(비지정)
B118: 44620 | C118: 수용비및수수료 | D118: 44770 | E118: 사무운영비 | F118: 후원금수입(비지정)
B119: 44627 | C119: 입소자수용경비 | D119: 4188000 | E119: 수용기관경비 | F119: 후원금수입(비지정)
B120: 44627 | C120: 수용비및수수료 | D120: 55000 | E120: 사무운영비 | F120: 후원금수입(비지정)
... B205: 45291 | C205: 수용비및수수료 | D205: 41470 | E205: 사무운용비 | F205: 후원금수입(비지정)

Sheet o지정후원금(시설)세입.세출
A1: 2-4. 2023년 밝은언덕노인요양원 후원금 세입 계정 별 세출 계정
A2: 1) 지정후원금 | F2: (단위 : 원)
A3: 년월일 | B3: 세출계정 | C3: 수입금액 | D3: 지출금액 | E3: 차인금액 | F3: 적요
B4: 전년이월금 | C4: 211600 | D4: 0 | E4: =C4-D4 -> 211600
A5: 44251 | B5: 지정후원금 | D5: 0
A6: 44349 | B6: 지정후원금 | D6: 1194000 | F6: 그린비코퍼레이션
A7: 44448 | B7: 지정후원금 | D7: 780000 | F7: 그린비코퍼레이션
B8: 월 계 | C8: =SUM(C5:C7) -> 0 | D8: =SUM(D5:D7) -> 1974000
A9: 44679 | B9: 지정후원금 | C9: 0 | D9: 10000000 | F9: 블루
A10: 44692 | B10: 지정후원금 | C10: 0 | D10: 1223000 | F10: 그린비 코퍼레이션
A11: 44797 | B11: 지정후원금 | C11: 0 | D11: 1980000 | F11: 그린비 코퍼레이션
B12: 월 계 | C12: =SUM(C9:C11) -> 0 | D12: =SUM(D9:D11) -> 13203000
A13: 44942 | B13: 지정후원금 | C13: 300000 | D13: 0 | F13: 힘스
A14: 44944 | B14: 지정후원금 | C14: 300000 | D14: 0 | F14: CMS(힘스)
B15: 월 계 | C15: =SUM(C13:C14) -> 600000 | D15: =SUM(D13) -> 0
A16: 44965 | B16: 지정후원금 | C16: 0 | D16: 214000 | F16: 직원회식
A17: 44972 | B17: 지정후원금 | C17: 300000 | D17: 0 | F17: 힘스
B18: 월 계 | C18: =SUM(C16:C17) -> 300000 | D18: =SUM(D16:D17) -> 214000
A19: 45000 | B19: 지정후원금 | C19: 300000 | D19: 0 | F19: 힘스
B20: 월 계 | C20: =SUM(C19:C19) -> 300000 | D20: =SUM(D19:D19) -> 0
A21: 45029 | B21: 지정후원금 | D21: 1000 | F21: 사랑의열매이자반환
A22: 45033 | B22: 지정후원금 | C22: 300000 | D22: 0 | F22: 힘스
A23: 45035 | B23: 지정후원금 | D23: 12662 | F23: 사랑의열매잔액반납
A24: 45035 | B24: 지정후원금 | C24: 16676252 | D24: 0 | F24: 무진스님
B25: 월 계 | C25: =SUM(C21:C24) -> 16976252 | D25: =SUM(D21:D24) -> 13662
A26: 45056 | B26: 지정후원금 | C26: 20000000 | D26: 0 | F26: 사회복지모금회
A27: 45057 | B27: 지정후원금 | D27: 20000000 | F27: 침대구입
A28: 45061 | B28: 지정후원금 | C28: 300000 | D28: 0 | F28: 힘스
B29: 월 계 | C29: =SUM(C26:C28) -> 20300000 | D29: =SUM(D26:D28) -> 20000000
A30: 45092 | B30: 지정후원금 | C30: 300000 | D30: 0 | F30: 힘스
A31: 45094 | B31: 지정후원금 | C31: 55 | D31: 0 | F31: 결신이자
A32: 45094 | B32: 지정후원금 | C32: 4 | D32: 0 | F32: 결산이자
B33: 월 계 | C33: =SUM(C30:C32) -> 300059 | D33: =SUM(D30:D32) -> 0
A34: 45124 | B34: 지정후원금 | C34: 300000 | D34: 0 | F34: 힘스
A35: 45132 | B35: 지정후원금 | D35: 337000 | F35: 직원회식
B36: 월 계 | C36: =SUM(C34:C34) -> 300000 | D36: =SUM(D34:D34) -> 0
A37: 45154 | B37: 지정후원금 | C37: 300000 | F37: 힘스
A38: 45168 | B38: 지정후원금 | D38: 3432000 | F38: 침대구입
B39: 월 계 | C39: =SUM(C37:C38) -> 300000 | D39: =SUM(D37:D37) -> 0
A40: 45175 | B40: 지정후원금 | D40: 97600 | F40: 직원간식
...

Sheet o지정후원금(시설)사용결과
A1: 2-4. 후원금 수입 및 사용결과 보고서
A2: 1) 지정후원금(금전) 수입 명세서 (단위 : 원)
A3: 일 자 | B3: 후원금종류 | C3: 후원자 | D3: 내역 | E3: 금액 | F3: 비고
A4: 43865 | B4: 지정후원 | C4: DOUGLAS ACA | D4: 밝은언덕의 발전과 가족을 위해 | E4: 17627000 | F4: 후원금수입(지정)
A5: 44251 | B5: 지정후원 | C5: DOUGLAS ACA | D5: 밝은언덕의 발전과 가족을 위해 | E5: 15388600 | F5: 후원금수입(지정)
A6: 44942 | B6: 지정후원 | C6: 힘스 | D6: 밝은언덕의 발전과 가족을 위해 | E6: 300000 | F6: 후원금수입(지정)
A7: 44944 | B7: 지정후원 | C7: 힘스 | D7: 밝은언덕의 발전과 가족을 위해 | E7: 300000 | F7: 후원금수입(지정)
A8: 44972 | B8: 지정후원 | C8: 힘스 | D8: 밝은언덕의 발전과 가족을 위해 | E8: 300000 | F8: 후원금수입(지정)
A9: 45000 | B9: 지정후원 | C9: 힘스 | D9: 밝은언덕의 발전과 가족을 위해 | E9: 300000 | F9: 후원금수입(지정)
A10: 45033 | B10: 지정후원 | C10: 힘스 | D10: 밝은언덕의 발전과 가족을 위해 | E10: 300000 | F10: 후원금수입(지정)
A11: 45035 | B11: 지정후원 | C11: DOUGLAS ACA | D11: 밝은언덕의 발전과 가족을 위해 | E11: 16676252 | F11: 후원금수입(지정)
A12: 45056 | B12: 지정후원 | C12: 사회복지모금회 | D12: 밝은언덕의 발전과 가족을 위해 | E12: 20000000 | F12: 후원금수입(지정)
A13: 45061 | B13: 지정후원 | C13: 힘스 | D13: 밝은언덕의 발전과 가족을 위해 | E13: 300000 | F13: 후원금수입(지정)
A14: 45092 | B14: 지정후원 | C14: 힘스 | D14: 밝은언덕의 발전과 가족을 위해 | E14: 300000 | F14: 후원금수입(지정)
A15: 45094 | B15: 지정후원 | C15: 이자 | D15: 밝은언덕의 발전과 가족을 위해 | E15: 55 | F15: 후원금수입(지정)
... A19: 45184 | B19: 지정후원 | C19: 힘스 | D19: 밝은언덕의 발전과 가족을 위해 | E19: 300000 | F19: 후원금수입(지정)

Sheet o지정사용명세서
A1: 2-4. 후원금 수입 및 사용결과 보고서
A2: 1-1) 지정후원금(금전) 사용명세서 (단위 : 원)
A3: 사용일자 | B3: 사용내역 | C3: 금액 | D3: 산출기준 | E3: 비고
A4: 43551 | B4: 밝은언덕노인요양원 | C4: 10000000 | E4: 후원금수입(지정)
A5: 43577 | B5: 밝은언덕노인요양원 | C5: 6600000 | E5: 후원금수입(지정)
A6: 44187 | B6: 밝은언덕노인요양원 | C6: 21000000 | E6: 후원금수입(지정)
A7: 44349 | B7: 밝은언덕노인요양원 | C7: 1194000 | E7: 후원금수입(지정)
A8: 44679 | B8: 밝은언덕노인요양원 | C8: 10000000 | E8: 후원금수입(지정)
A9: 44692 | B9: 밝은언덕노인요양원 | C9: 1223000 | E9: 후원금수입(지정)
A10: 44797 | B10: 밝은언덕노인요양원 | C10: 1980000 | E10: 후원금수입(지정)
A11: 44965 | B11: 밝은언덕노인요양원 | C11: 214000 | E11: 후원금수입(지정)
A12: 45029 | B12: 밝은언덕노인요양원 | C12: 1000 | E12: 후원금수입(지정)
A13: 45035 | B13: 밝은언덕노인요양원 | C13: 12662 | E13: 후원금수입(지정)
A14: 45057 | B14: 밝은언덕노인요양원 | C14: 20000000 | E14: 후원금수입(지정)
A15: 45132 | B15: 밝은언덕노인요양원 | C15: 337000 | E15: 후원금수입(지정)
... A18: 45181 | B18: 밝은언덕노인요양원 | C18: 150000 | E18: 후원금수입(지정)

Sheet O물품(시설)
B1: 3) 후원금(물품) 수입 명세서
B3: 연월 | C3: 후원물품의 종류 | D3: 후원자 | E3: 내역 | F3: 품명 | G3: 수량 | H3: 단위 | I3: 비고(원)
B4: 1월 | C4: 기타후원 | D4: 법농스님 | E4: 간식 | F4: 보리빵 | G4: 150 | H4: box | I4: 1500000
C5: 기타후원 | D5: 법농스님 | E5: 용품 | F5: 수건 | G5: 300 | H5: EA | I5: 300000
C6: 기타후원 | D6: 평화사 | E6: 부식 | F6: 쌀 | G6: 6 | H6: 가마 | I6: 150000
B7: 2월 | C7: 기타후원 | D7: 동심 | E7: 주식 | F7: 김치 | G7: 400 | H7: kg | I7: 1200000
C8: 기타후원 | D8: 강식품 | E8: 주식 | F8: 국수 8kg | G8: 10 | H8: box | I8: 30000
C9: 기타후원 | D9: 중랑 건강 가정 · 다문화센터 | E9: 용품 | F9: 수건 | G9: 300 | H9: ea | I9: 300000
C10: 기타후원 | D10: 동원떡집 (이명구) | E10: 주식 | F10: 떡국 | G10: 10 | H10: box | I10: 100000
C11: 기타후원 | D11: 평화사 | E11: 주식 | F11: 쌀 | G11: 6 | H11: 가마 | I11: 150000
C12: 기타후원 | D12: 미타사 | E12: 주식 | F12: 쌀 | G12: 12 | H12: 가마 | I12: 300000
C13: 기타후원 | D13: 법농스님 | E13: 주식 | F13: 쌀 | G13: 6 | H13: 가마 | I13: 125000
C14: 기타후원 | D14: 로얄장 | E14: 주식 | F14: 쌀밥 | G14: 3 | H14: 말 | I14: 50000
C15: 기타후원 | D15: 정우숙 어르신 사위 | E15: 부식 | F15: 상추 | G15: 3 | H15: 자루 | I15: 45000
B16: 3월 | C16: 기타후원 | D16: 동심 | E16: 주식 | F16: 김치 | G16: 400 | H16: kg | I16: 1200000
C17: 기타후원 | D17: 강식품 | E17: 주식 | F17: 국수 7kg | G17: 10 | H17: box | I17: 30000
C18: 기타후원 | D18: 다원 잔기지 떡 | E18: 간식 | F18: 떡 | G18: 16 | H18: box | I18: 224000
C19: 기타후원 | D19: 장복화 | E19: 부식 | F19: 케일 | G19: 7 | H19: box | I19: 70000
B20: 4월 | C20: 기타후원 | D20: 동심 | E20: 주식 | F20: 김치 | G20: 400 | H20: kg | I20: 1200000
C21: 기타후원 | D21: 강식품 | E21: 주식 | F21: 국수 7kg | G21: 10 | H21: box | I21: 30000
C22: 기타후원 | D22: 복덕화 | E22: 부식 | F22: 케일 | G22: 10 | H22: box | I22: 50000
C23: 기타후원 | D23: 참사랑농장 | E23: 부식 | F23: 송로버섯 | G23: 10 | H23: box | I23: 1000000
B24: 5월 | C24: 기타후원 | D24: 동심 | E24: 주식 | F24: 김치 | G24: 400 | H24: kg | I24: 1200000
C25: 기타후원 | D25: 강식품 | E25: 주식 | F25: 국수 7kg | G25: 10 | H25: box | I25: 30000
C26: 기타후원 | D26: 정수스님 | E26: 간식 | F26: 바나나 | G26: 2 | H26: box | I26: 70000
C27: 기타후원 | D27: 강미자 | E27: 부식 | F27: 상추 | G27: 10 | H27: box | I27: 100000
C28: 기타후원 | D28: 복덕화 | E28: 부식 | F28: 야채 | G28: 10 | H28: box | I28: 100000
C29: 기타후원 | D29: 다원잔기지떡 | E29: 간식 | F29: 잔기지떡 | G29: 8 | H29: box | I29: 112000
B30: 6월 | C30: 기타후원 | D30: 동심 | E30: 주식 | F30: 김치 | G30: 400 | H30: kg | I30: 1200000
C31: 기타후원 | D31: 강식품 | E31: 주식 | F31: 국수 7kg | G31: 10 | H31: box | I31: 30000
C32: 기타후원 | D32: 권인숙 | E32: 간식 | F32: 떠먹는요구르트 | G32: 200 | H32: EA | I32: 200000
C33: 기타후원 | D33: 법농스님 | E33: 간식 | F33: 바나나 | G33: 2 | H33: box | I33: 30000
C34: 기타후원 | D34: 복덕화 | E34: 부식 | F34: 열무 오이 | G34: 10 | H34: box | I34: 100000
B35: 7월 | C35: 기타후원 | D35: 동심 | E35: 주식 | F35: 김치 | G35: 400 | H35: kg | I35: 1200000
C36: 기타후원 | D36: 강식품 | E36: 주식 | F36: 국수 7kg | G36: 10 | H36: box | I36: 30000
C37: 기타후원 | D37: 다원잔기지떡 | E37: 간식 | F37: 잔기지떡 | G37: 10 | H37: box | I37: 140000
C38: 기타후원 | D38: 지영수 | E38: 간식 | F38: 복숭아 | G38: 10 | H38: box | I38: 200000
C39: 기타후원 | D39: 한마음산원 | E39: 용품 | F39: EM소독약 | G39: 10 | H39: box | I39: 330000
C40: 기타후원 | D40: 장차남어르신 보호자분 | E40: 간식 | F40: 방울토마토 | G40: 4 | H40: BOX | I40: 40000
C41: 기타후원 | D41: 장복화 | E41: 부식 | F41: 오이, 아욱 | G41: 20 | H41: BOX | I41: 200000
...

Sheet O물품(시설)사용내역
A1: 4) 후원금(물품) 사용 명세서
A3: 사용 | B3: 사용내역 | C3: 사용처 | D3: 수량 | E3: 단위 | F3: 비고
A4: 1월 | B4: 바나나 | C4: 밝은언덕노인요양원 | D4: 5 | E4: box
B5: 귤 | C5: 밝은언덕노인요양원 | D5: 5 | E5: box
B6: 사탕 | C6: 밝은언덕노인요양원 | D6: 9 | E6: box
B7: 가래떡 | C7: 밝은언덕노인요양원 | D7: 1 | E7: box
B8: 귤 | C8: 밝은언덕노인요양원 | D8: 6 | E8: box
A9: 3월 | B9: 쌈채소 | C9: 밝은언덕노인요양원 | D9: 3 | E9: box
C10: 밝은언덕노인요양원 | D10: 6 | E10: EA
B11: 돈까스 | C11: 밝은언덕노인요양원 | D11: 7 | E11: Box
B12: 어묵 | C12: 밝은언덕노인요양원 | D12: 1 | E12: Box
B13: 숙주나물 | C13: 밝은언덕노인요양원 | D13: 7 | E13: Box
A14: 4월 | B14: 쌀 | C14: 밝은언덕노인요양원 | D14: 4 | E14: 가마
B15: 물티슈 | C15: 밝은언덕노인요양원 | D15: 10 | E15: BOX
B16: 손소독제 | C16: 밝은언덕노인요양원 | D16: 3 | E16: BOX
B17: 마스크 | C17: 밝은언덕노인요양원 | D17: 1 | E17: BOX
B18: 비타500 | C18: 밝은언덕노인요양원 | D18: 1 | E18: BOX
B19: 과자 | C19: 밝은언덕노인요양원 | D19: 1 | E19: BOX
B20: 요구르트 | C20: 밝은언덕노인요양원 | D20: 40 | E20: EA
A21: 5월 | B21: 바나나 | C21: 밝은언덕노인요양원 | D21: 3 | E21: box
B22: 국수 | C22: 밝은언덕노인요양원 | D22: 3 | E22: box
B23: 마시는 요구르트 | C23: 밝은언덕노인요양원 | D23: 8 | E23: box
B24: 참외 | C24: 밝은언덕노인요양원 | D24: 2 | E24: box
B25: 김치 | C25: 밝은언덕노인요양원 | D25: 400 | E25: kg
B26: 국수 7kg | C26: 밝은언덕노인요양원 | D26: 10 | E26: box
B27: 바나나 | C27: 밝은언덕노인요양원 | D27: 1 | E27: BOX
A28: 6월 | B28: 기저귀 | C28: 밝은언덕노인요양원 | D28: 3 | E28: box
B29: 김치 | C29: 밝은언덕노인요양원 | D29: 400 | E29: kg
B30: 국수 7kg | C30: 밝은언덕노인요양원 | D30: 10 | E30: box
B31: 블루베리 | C31: 밝은언덕노인요양원 | D31: 10 | E31: kg
A32: 7월 | B32: 김치 | C32: 밝은언덕노인요양원 | D32: 400 | E32: kg
B33: 국수 7kg | C33: 밝은언덕노인요양원 | D33: 10 | E33: box
B34: 복숭아 | C34: 밝은언덕노인요양원 | D34: 3 | E34: box
B35: 기저귀 | C35: 밝은언덕노인요양원 | D35: 3 | E35: box
A36: 8월 | B36: 김치 | C36: 밝은언덕노인요양원 | D36: 400 | E36: kg
B37: 국수 7kg | C37: 밝은언덕노인요양원 | D37: 10 | E37: box
B38: 삼계탕 | C38: 밝은언덕노인요양원 | D38: 20 | E38: box
A39: 9월 | B39: 김치 | C39: 밝은언덕노인요양원 | D39: 400 | E39: kg
B40: 국수 8kg | C40: 밝은언덕노인요양원 | D40: 10 | E40: box
B41: 복숭아 | C41: 밝은언덕노인요양원 | D41: 4 | E41: box
...

Sheet o후원금(법인)
A1: 1. 2023년 사회복지법인 밝은언덕 후원금 수입 · 지출 내역
A2: ( 단위 : 원 )
A3: 법인명 | B3: 후원금 수입 | H3: 후원금 지출 | AK3: 비고(잔액)
B4: 계 | C4: 이월금 | D4: 결연후원금 | E4: 지정후원금 | F4: 비지정후원금 | G4: 예금이자 | H4: 계 | I4: 결연후원금 | J4: 지정후원금 | V4: 비지정후원금 | AJ4: 기타
J5: 계 | K5: 직접비 | U5: 간접비 | V5: 계 | W5: 직접비 | AH5: 간접비
K6: 소계 | L6: 운영비 | M6: 취득비 | N6: 주식비 | O6: 부식비 | P6: 피복비 | Q6: 의료비 | R6: 난방비 | S6: 운영비 | T6: 기타 | U6: 소계 | W6: 소계 | X6: 인건비 | Y6: 사무운영비 | Z6: 운영비 | AA6: 주식비 | AB6: 부식비 | AC6: 교육비 | AD6: 수용기관경비 | AE6: 시설전출금 | AF6: 재가센터전출금 | AG6: 입금오류출금 | AH6: 소계 | AI6: 기타
A7: 사회복지법인 밝은언덕 | B7: =SUM(C7:G7) -> 1359172 | C7: ='o후원금(법인)세부내역'!C9 -> 938431 | F7: ='o후원금(법인)세부내역'!C5 -> 420000 | G7: ='o후원금(법인)세부내역'!C7 -> 741 | H7: =V7+AH7 -> 945049 | J7: =SUM(K7) -> 0 | K7: =SUM(M7+S7) -> 0 | R7: 21862767 | V7: =W7 -> 945049 | W7: =Y7+Z7+AB7+AD7+AE7+AG7+AF7 -> 945049 | Y7: ='o후원금(법인)세부내역'!C14 -> 945049 | Z7: ='o후원금(법인)세부내역'!C19 -> 0 | AB7: 0 | AD7: 0 | AE7: 0 | AF7: ='o후원금(법인)세부내역'!C27 -> 0 | AG7: ='o후원금(법인)세부내역'!H30 -> 0 | AH7: 0 | AK7: =SUM(B7-H7) -> 414123
A8: 후원금수입총계 | B8: =B7 -> 1359172 | H8: 후원금지출총계 | W8: =H7 -> 945049 | AK8: =B8-W8 -> 414123
A24: 3. 2012년 밝은언덕노인요양원 후원금 수입 · 지출 내역
A27: ( 단위 : 원 )
A28: 시설명 | B28: 후원금 수입 | H28: 후원금 지출 | AK28: 비고(잔액)
B29: 계 | C29: 이월금 | D29: 결연후원금 | E29: 지정후원금 | F29: 비지정후원금 | G29: 기타 (법인전입금) | H29: 계 | I29: 결연후원금 | J29: 지정후원금 | V29: 비지정후원금 | AJ29: 기타
V30: 계 | W30: 직접비 | AH30: 간접비
W31: 소계 | X31: 인건비 | Z31: 운영비 | AA31: 주식비 | AB31: 부식비 | AC31: 교육비 | AD31: 기타사업비 | AE31: 기타 | AH31: 소계 | AI31: 기타
A32: 밝은언덕노인요양원 | B32: =SUM(C32:G32) -> 46312167 | C32: 0 | F32: 27949400 | G32: 18362767 | H32: =V32 -> 41887767 | V32: =W32+AH32 -> 41887767 | W32: =SUM(X32:AD32) -> 41887767 | X32: 41362767 | AA32: 525000 | AK32: =B32-H32 -> 4424400
A33: 후원금수입총계 | B33: =B32 -> 46312167 | H33: 후원금지출총계 | X33: =H32 -> 41887767 | AK33: =B33-X33 -> 4424400
A52: 1. 2011년 사회복지법인 밝은언덕 후원금 수입 · 지출 내역
A55: ( 단위 : 원 )
A56: 법인명 | B56: 후원금 수입 | H56: 후원금 지출 | AK56: 비고(잔액)
B57: 계 | C57: 이월금 | D57: 결연후원금 | E57: 지정후원금 | F57: 비지정후원금 | G57: 기타 | H57: 계 | I57: 결연후원금 | J57: 지정후원금 | V57: 비지정후원금 | AJ57: 기타
V58: 계 | W58: 직접비 | AH58: 간접비
W59: 소계 | X59: 인건비 | Z59: 운영비 | AA59: 주식비 | AB59: 부식비 | AC59: 교육비 | AD59: 기타사업비 | AE59: 시설전출금 | AH59: 소계 | AI59: 기타
A60: 사회복지법인 밝은언덕 | B60: =C60+F60 -> 2859927 | F60: 2859927 | H60: =V60 -> 66770 | V60: =W60+AH60 -> 66770 | W60: =SUM(X60:AE60) -> 66770 | X60: 0 | Z60: 66770 | AK60: =B60-H60 -> 2793157
A61: 후원금수입총계 | B61: =B60 -> 2859927 | H61: 후원금지출총계 | X61: =H60 -> 66770 | AK61: =B61-X61 -> 2793157
V63: 2011 지정, 비지정 후원금 차기이월금 계 | AK63: =#REF!+AK61 -> #REF!
V66: 2011 지정, 비지정 후원금 차기이월금 계 | AK66: =#REF!+#REF! -> #REF!

Sheet o후원금(법인)세부내역
A1: 1-1. 2023년 사회복지법인 밝은언덕 후원금 월별정산
A2: 수 입 | M2: (단위 : 원)
A3: 구 분 | C3: 계 | D3: 1 | E3: 2 | F3: 3 | G3: 4 | H3: 5 | I3: 6 | J3: 7 | K3: 8 | L3: 9 | M3: 10 | N3: 11 | O3: 12
A4: 2023년 | B4: 합계 | C4: =SUM(D4:O4) -> 420741 | D4: =SUM(D5:D7) -> 35000 | E4: =SUM(E5:E7) -> 35000 | F4: =SUM(F5:F7) -> 35000 | G4: =SUM(G5:G7) -> 35000 | H4: =SUM(H5:H7) -> 35000 | I4: =SUM(I5:I7) -> 35502 | J4: =SUM(J5:J7) -> 35000 | K4: =SUM(K5:K7) -> 35000 | ... O4: =SUM(O5:O7) -> 35239
B5: 비지정 | C5: =SUM(D5:O5) -> 420000 | D5: 35000 | E5: 35000 | F5: 35000 | G5: 35000 | H5: 35000 | I5: 35000 | J5: 35000 | K5: 35000 | L5: 35000 | M5: 35000 | N5: 35000 | O5: 35000
B6: 지정
B7: 예금이자 | C7: =SUM(D7:O7) -> 741 | I7: 502 | O7: 239
A8: 2022년 이월금 | B8: 합계 | C8: =SUM(C9:C10) -> 938431
B9: 비지정 | C9: 938431
B10: 지정
A11: 총 계 | C11: =SUM(C4+C8) -> 1359172
A12: 지 출 | M12: (단위 : 원)
A13: 구 분 | C13: 계 | D13: 1 | E13: 2 | F13: 3 | G13: 4 | H13: 5 | I13: 6 | J13: 7 | K13: 8 | L13: 9 | M13: 10 | N13: 11 | O13: 12
A14: 사무운영비 | C14: =SUM(D14:O14) -> 945049 | D14: =SUM(D15:D16) -> 0 | E14: =SUM(E15:E16) -> 0 | F14: =SUM(F15:F16) -> 0 | G14: =SUM(G15:G16) -> 0 | H14: =SUM(H15:H16) -> 0 | I14: =SUM(I15:I16) -> 560240 | J14: 0 | K14: =SUM(K15:K16) -> 0 | L14: =SUM(L15:L16) -> 380409 | M14: =SUM(M15:M16) -> 4400 | N14: =SUM(N15:N16) -> 0 | O14: =SUM(O15:O16) -> 0
B15: 보험료
B16: 수수료 | I16: 560240 | J16: 0 | L16: 380409 | M16: 4400
A17: 재산조성비 | C17: =SUM(D17:O17) -> 0 | D17: =D18 -> 0 | E17: =E18 -> 0 | F17: =F18 -> 0 | G17: =G18 -> 0 | H17: =H18 -> 0 | I17: =I18 -> 0 | J17: =J18 -> 0 | K17: =K18 -> 0 | ... O17: =O18 -> 0
B18: 자산취득비 | C18: =SUM(D18:O18) -> 0
A19: 사업운영비 | C19: =SUM(D19:O19) -> 0 | D19: =SUM(D20:D26) -> 0 | E19: =SUM(E20:E26) -> 0 | F19: =SUM(F20:F26) -> 0 | G19: =SUM(G20:G26) -> 0 | H19: =SUM(H20:H26) -> 0 | I19: =SUM(I20:I26) -> 0 | J19: =SUM(J20:J26) -> 0 | K19: =SUM(K20:K26) -> 0 | ... O19: =SUM(O20:O26) -> 0
B20: 주식비 | C20: =SUM(D20:O20) -> 0
B21: 부식비 | C21: =SUM(D21:O21) -> 0
B22: 피복비 | C22: =SUM(D22:O22) -> 0
B23: 의료비 | C23: =SUM(D23:O23) -> 0
B24: 난방비 | C24: =SUM(D24:O24) -> 0
B25: 수용기관경비 | C25: =SUM(D25:O25) -> 0
B26: 운영비 | C26: =SUM(D26:O26) -> 0
A27: 시설전출금 | C27: =SUM(C28:C29) -> 0 | D27: =SUM(D28:D29) -> 0 | E27: 0 | F27: =SUM(F28:F29) -> 0 | G27: =SUM(G28:G29) -> 0 | H27: =SUM(H28:H29) -> 0 | I27: =SUM(I28:I29) -> 0 | J27: =SUM(J28:J29) -> 0 | K27: =SUM(K28:K29) -> 0 | L27: =SUM(L28:L29) -> 0 | M27: =SUM(M28:M29) -> 0 | ... O27: =SUM(O28:O29) -> 0
A28: 시설전출금 | C28: =SUM(D28:O28) -> 0
A29: 재가센터전출금 | C29: =SUM(D29:O29) -> 0
A30: 입금오류출금 | C30: =SUM(D30:O30) -> 0 | D30: =D31 -> 0 | E30: =E31 -> 0 | F30: =F31 -> 0 | G30: =G31 -> 0 | H30: =H31 -> 0 | I30: =I31 -> 0 | J30: =J31 -> 0 | K30: =K31 -> 0 | ... O30: =O31 -> 0
A31: 입금오류출금 | C31: =SUM(D31:O31) -> 0 | D31: 0 | E31: 0 | F31: 0 | G31: 0 | I31: 0 | J31: 0 | L31: 0 | M31: 0 | N31: 0 | O31: 0
A32: 총 계 | C32: =C14+C17+C19+C27+C30 -> 945049 | D32: =SUM(D14,D17,D19,D27,D30) -> 0 | E32: =SUM(E14,E17,E19,E27,E30) -> 0 | F32: =SUM(F14,F17,F19,F27,F30) -> 0 | G32: =SUM(G14,G17,G19,G27,G30) -> 0 | H32: =SUM(H14,H17,H19,H27,H30) -> 0 | I32: =SUM(I14,I17,I19,I27,I30) -> 560240 | J32: =SUM(J14,J17,J19,J27,J30) -> 0 | K32: =SUM(K14,K17,K19,K27,K30) -> 0 | ... O32: =SUM(O14,O17,O19,O27,O30) -> 0
A33: 잔 액 | C33: =C11-C32 -> 414123

Sheet o후원금(법인)세입.세출
A1: 1-2. 2023년 사회복지법인 밝은언덕 후원금 세입 계정 별 세출 계정
A2: 1) 비지정후원금 | F2: (단위 : 원)
A3: 년월일 | B3: 세출계정 | C3: 수입금액 | D3: 지출금액 | E3: 차인금액 | F3: 적요
B4: 전년이월금 | C4: 938431 | D4: 0 | E4: =C4-D4 -> 938431
A5: 44936 | B5: 후원금수입(비지정) | C5: 20000 | F5: 신동수
A6: 44951 | B6: 후원금수입(비지정) | C6: 10000 | F6: 정정숙
A7: 44953 | B7: 후원금수입(비지정) | C7: 5000 | F7: 문호용
B8: 월 계 | C8: =SUM(C5:C7) -> 35000 | D8: =SUM(D5:D7) -> 0
A9: 44967 | B9: 후원금수입(비지정) | C9: 20000 | F9: 신동수
A10: 44984 | B10: 후원금수입(비지정) | C10: 10000 | F10: 정정숙
A11: 44984 | B11: 후원금수입(비지정) | C11: 5000 | F11: 문호용
B12: 월 계 | C12: =SUM(C9:C11) -> 35000 | D12: =SUM(D9:D11) -> 0
A13: 44995 | B13: 후원금수입(비지정) | C13: 20000 | F13: 신동수
A14: 45012 | B14: 후원금수입(비지정) | C14: 10000 | F14: 정정숙
A15: 45012 | B15: 후원금수입(비지정) | C15: 5000 | F15: 문호용
B16: 월 계 | C16: =SUM(C13:C15) -> 35000 | D16: =SUM(D13:D15) -> 0
A17: 45026 | B17: 후원금수입(비지정) | C17: 20000 | F17: 신동수
A18: 45041 | B18: 후원금수입(비지정) | C18: 10000 | F18: 정정숙
A19: 45043 | B19: 후원금수입(비지정) | C19: 5000 | F19: 문호용
B20: 월 계 | C20: =SUM(C17:C19) -> 35000 | D20: =SUM(D17:D19) -> 0
A21: 45056 | B21: 후원금수입(비지정) | C21: 20000 | F21: 신동수
A22: 45071 | B22: 후원금수입(비지정) | C22: 10000 | F22: 정정숙
A23: 45076 | B23: 후원금수입(비지정) | C23: 5000 | F23: 문호용
B24: 월 계 | C24: =SUM(C21:C23) -> 35000 | D24: =SUM(D21:D23) -> 0
A25: 45089 | B25: 후원금수입(비지정) | C25: 20000 | F25: 신동수
A26: 45093 | B26: 수수료 | D26: 560240 | F26: 법인이사연임등기
A27: 45102 | B27: 예금이자 | C27: 502 | F27: 예금이자
A28: 45103 | B28: 후원금수입(비지정) | C28: 10000 | F28: 정정숙
A29: 45104 | B29: 후원금수입(비지정) | C29: 5000 | F29: 문호용
B30: 월 계 | C30: =SUM(C25:C29) -> 35502 | D30: =SUM(D25:D29) -> 560240 | E30: =SUM(E25:E29) -> 0
A31: 45117 | B31: 후원금수입(비지정) | C31: 20000 | F31: 신동수
A32: 45132 | B32: 후원금수입(비지정) | C32: 10000 | F32: 정정숙
A33: 45134 | B33: 후원금수입(비지정) | C33: 5000 | F33: 문호용
B34: 월 계 | C34: =SUM(C31:C33) -> 35000 | D34: =SUM(D31:D33) -> 0
A35: 45148 | B35: 후원금수입(비지정) | C35: 20000 | F35: 신동수
A36: 45163 | B36: 후원금수입(비지정) | C36: 10000 | F36: 정정숙
A37: 45166 | B37: 후원금수입(비지정) | C37: 5000 | F37: 문호용
B38: 월 계 | C38: =SUM(C35:C37) -> 35000 | D38: =SUM(D35:D37) -> 0
A39: 45180 | B39: 후원금수입(비지정) | C39: 20000 | F39: 신동수
A40: 45187 | B40: 수수료 | D40: 380409 | F40: 밝은언덕간이체(재산세
...

Sheet o후원금(법인)사용결과
B1: 2-4. 후원금 수입 및 사용결과 보고서
B2: (단위 : 원)
B3: 일 자 | C3: 후원금종류 | D3: 후원자 | E3: 내역 | F3: 금액 | G3: 비고
B4: 44571 | C4: 기타후원 | E4: 밝은언덕의 발전과 가족을 위해 | F4: 20000 | G4: 후원금수입(비지정)
B5: 44586 | C5: 기타후원 | E5: 밝은언덕의 발전과 가족을 위해 | F5: 10000 | G5: 후원금수입(비지정)
B6: 44588 | C6: 기타후원 | E6: 밝은언덕의 발전과 가족을 위해 | F6: 5000 | G6: 후원금수입(비지정)
B7: 44602 | C7: 기타후원 | E7: 밝은언덕의 발전과 가족을 위해 | F7: 20000 | G7: 후원금수입(비지정)
B8: 44617 | C8: 기타후원 | E8: 밝은언덕의 발전과 가족을 위해 | F8: 10000 | G8: 후원금수입(비지정)
B9: 44620 | C9: 기타후원 | E9: 밝은언덕의 발전과 가족을 위해 | F9: 5000 | G9: 후원금수입(비지정)
B10: 44630 | C10: 기타후원 | E10: 밝은언덕의 발전과 가족을 위해 | F10: 20000 | G10: 후원금수입(비지정)
B11: 44645 | C11: 기타후원 | E11: 밝은언덕의 발전과 가족을 위해 | F11: 10000 | G11: 후원금수입(비지정)
B12: 44648 | C12: 기타후원 | E12: 밝은언덕의 발전과 가족을 위해 | F12: 5000 | G12: 후원금수입(비지정)
B13: 44662 | C13: 기타후원 | E13: 밝은언덕의 발전과 가족을 위해 | F13: 20000 | G13: 후원금수입(비지정)
B14: 44665 | C14: 기타후원 | E14: 밝은언덕의 발전과 가족을 위해 | F14: 2000000 | G14: 후원금수입(비지정)
B15: 44676 | C15: 기타후원 | E15: 밝은언덕의 발전과 가족을 위해 | F15: 10000 | G15: 후원금수입(비지정)
... B80: 45287 | C80: 기타후원 | E80: 밝은언덕의 발전과 가족을 위해 | F80: 5000 | G80: 후원금수입(비지정)
