Workbook

Sheet 후원금(시설)
A1: 2. 2022년 밝은언덕노인요양원 후원금 수입 · 지출 내역
A2: ( 단위 : 원 )
A3: 시설명 | B3: 후원금 수입 | L3: 후원금 지출 | AC3: 비고(잔액)
B4: 계 | C4: 지정후원금 이월금 | D4: 비지정후원금 이월금 | E4: 결연후원금 | F4: 지정후원금 | G4: 비지정후원금 | H4: 예금이자 | J4: 입금오류 | K4: 기타 (법인전입금) | L4: 계 | M4: 결연후원금 | N4: 지정후원금 | O4: 비지정후원금 | AB4: 지정후원금
I5: 결산이자 | O5: 계 | P5: 직접비 | Z5: 간접비 | AB5: 직접비
P6: 소계 | Q6: 인건비 | R6: 운영비 | S6: 주식비 | T6: 부식비 | U6: 난방비 | V6: 차량비 | W6: 입금오류 | X6: 수용기관경비 | Y6: 기타 | Z6: 소계 | AA6: 기타 | AB6: 지정후원금
A7: 밝은언덕노인요양원 | B7: =SUM(C7:K7) -> 102455083 | C7: ='후원금(시설)세부내역'!C13 -> 16545313 | D7: ='후원금(시설)세부내역'!C12 -> 17589494 | F7: ='후원금(시설)세부내역'!C6 -> 0 | G7: ='후원금(시설)세부내역'!C5 -> 68295000 | H7: ='후원금(시설)세부내역'!C7 -> 20321 | I7: ='후원금(시설)세부내역'!C8 -> 4955 | J7: ='후원금(시설)세부내역'!C9 -> 0 | K7: ='후원금(시설)세부내역'!C10 -> 0 | L7: =O7+AB7 -> 79887065 | O7: =P7 -> 76684065 | P7: =SUM(Q7:Y7) -> 76684065 | Q7: ='후원금(시설)세부내역'!C17 -> 0 | R7: ='후원금(시설)세부내역'!C19 -> 1200885 | S7: ='후원금(시설)세부내역'!C24 -> 5100000 | T7: ='후원금(시설)세부내역'!C26 -> 0 | U7: ='후원금(시설)세부내역'!C29 -> 0 | V7: ='후원금(시설)세부내역'!C27 -> 0 | W7: ='후원금(시설)세부내역'!C31 -> 0 | X7: ='후원금(시설)세부내역'!C32 -> 70383180 | AB7: ='후원금(시설)세부내역'!C34 -> 3203000 | AC7: =B8-Q8 -> 22568018
A8: 후원금수입총계 | B8: =B7 -> 102455083 | L8: 후원금지출총계 | Q8: =L7 -> 79887065 | AC8: =B8-Q8 -> 22568018
A27: 1. 2011년 사회복지법인 밝은언덕 후원금 수입 · 지출 내역
A30: ( 단위 : 원 )
A31: 법인명 | B31: 후원금 수입 | G31: 비지정후원금 | L31: 후원금 지출 | AC31: 비고(잔액)
B32: 계 | C32: 이월금 | E32: 결연후원금 | F32: 지정후원금 | K32: 기타 | L32: 계 | M32: 결연후원금 | N32: 지정후원금 | O32: 비지정후원금 | AB32: 기타
O33: 계 | P33: 직접비 | Z33: 간접비
G34: 2859927 | P34: 소계 | Q34: 인건비 | R34: 운영비 | S34: 주식비 | T34: 부식비 | U34: 교육비 | V34: 기타사업비 | Y34: 시설전출금 | Z34: 소계 | AA34: 기타
A35: 사회복지법인 밝은언덕 | B35: =C35+G34 -> 2859927 | L35: =O35 -> 66770 | O35: =P35+Z35 -> 66770 | P35: =SUM(Q35:Y35) -> 66770 | Q35: 0 | R35: 66770 | AC35: =B35-L35 -> 2793157
A36: 후원금수입총계 | B36: =B35 -> 2859927 | L36: 후원금지출총계 | Q36: =L35 -> 66770 | AC36: =B36-Q36 -> 2793157
O38: 2011 지정, 비지정 후원금 차기이월금 계 | AC38: =#REF!+AC36 -> #REF!
O41: 2011 지정, 비지정 후원금 차기이월금 계 | AC41: =#REF!+#REF! -> #REF!

Sheet 후원금(시설)세부내역
A1: 2-1. 2022년 밝은언덕 노인요양원 후원금 월별정산
A2: 수 입 | O2: (단위 : 원)
A3: 구 분 | C3: 계 | D3: 1 | E3: 2 | F3: 3 | G3: 4 | H3: 5 | I3: 6 | J3: 7 | K3: 8 | L3: 9 | M3: 10 | N3: 11 | O3: 12
A4: 2022년 | B4: 합계 | C4: =SUM(C5:C10) -> 68320276 | D4: =SUM(D5:D10) -> 5010000 | E4: =SUM(E5:E10) -> 5255000 | F4: =SUM(F5:F10) -> 7975000 | G4: =SUM(G5:G10) -> 4895000 | H4: =SUM(H5:H10) -> 9525000 | I4: =SUM(I5:I10) -> 5770497 | J4: =SUM(J5:J10) -> 5610000 | ... O4: =SUM(O5:O10) -> 5449779
B5: 비지정 | C5: =SUM(D5:O5) -> 68295000 | D5: 5010000 | E5: 5255000 | F5: 7975000 | G5: 4895000 | H5: 9525000 | I5: 5755000 | J5: 5610000 | K5: 4910000 | L5: 4410000 | M5: 4760000 | N5: 4750000 | O5: 5440000
B6: 지정 | C6: =SUM(D6:O6) -> 0
B7: 예금이자 | C7: =SUM(D7:O7) -> 20321 | I7: 10542 | O7: 9779
B8: 결산이자 | C8: =SUM(D8:O8) -> 4955 | I8: 4955
B9: 입금오류 | C9: =SUM(D9:O9) -> 0
B10: 법인전입금 | C10: =SUM(D10:O10) -> 0
A11: 2021년 이월금 | B11: 합계 | C11: =SUM(C12:C13) -> 34134807
B12: 비지정 | C12: 17589494
B13: 지정 | C13: 16545313
A14: 총 계 | C14: =SUM(C4,C11) -> 102455083
A15: 지 출 | O15: (단위 : 원)
A16: 구 분 | C16: 계 | D16: 1 | E16: 2 | F16: 3 | G16: 4 | H16: 5 | I16: 6 | J16: 7 | K16: 8 | L16: 9 | M16: 10 | N16: 11 | O16: 12
A17: 인건비 | C17: =SUM(D17:O17) -> 0 | D17: =D18 -> 0 | E17: =E18 -> 0 | F17: =F18 -> 0 | G17: =G18 -> 0 | H17: =H18 -> 0 | I17: =I18 -> 0 | J17: =J18 -> 0 | K17: =K18 -> 0 | ... O17: =O18 -> 0
B18: 인건비
A19: 사무운영비 | C19: =SUM(D19:O19) -> 1200885 | D19: =SUM(D20:D23) -> 99990 | E19: =SUM(E20:E23) -> 99990 | F19: =SUM(F20:F23) -> 103015 | G19: =SUM(G20:G23) -> 101640 | H19: =SUM(H20:H23) -> 100650 | I19: =SUM(I20:I23) -> 101490 | J19: =SUM(J20:J23) -> 100595 | K19: =SUM(K20:K23) -> 99715 | ... O19: =SUM(O20:O23) -> 98890
B20: 운영비
B21: cms사용료 | D21: 55000 | E21: 55220 | F21: 55000 | G21: 55770 | H21: 55110 | I21: 55000 | J21: 55000 | K21: 55000 | L21: 55000 | M21: 55000 | N21: 55000 | O21: 55110
B22: cms수수료 | D22: 44990 | E22: 44770 | F22: 48015 | G22: 45870 | H22: 45540 | I22: 44880 | J22: 45595 | K22: 44715 | L22: 43725 | M22: 43340 | N22: 42845 | O22: 43780
B23: 수용비및수수료 | I23: 1610
A24: 사업운영비 | C24: =SUM(D24:O24) -> 5100000 | D24: =SUM(D25:D31) -> 0 | E24: =SUM(E25:E31) -> 0 | F24: =SUM(F25:F31) -> 0 | G24: =SUM(G25:G31) -> 5000000 | H24: =SUM(H25:H31) -> 0 | I24: =SUM(I25:I31) -> 100000 | J24: =SUM(J25:J31) -> 0 | K24: =SUM(K25:K31) -> 0 | ... O24: =SUM(O25:O31) -> 0
B25: 주식비 | C25: =G25 -> 5000000 | G25: 5000000
B26: 부식비 | C26: =G26 -> 0
B27: 차량비 | C27: =G27 -> 0
B28: 의료비 | C28: =G28 -> 0
B29: 난방비 | C29: =G29 -> 0
B30: 수도광열비 | C30: =G30 -> 0
B31: 입금오류환불금 | C31: =G31 -> 0 | I31: 100000
A32: 입소자수용경비 | C32: =SUM(D32:O32) -> 70383180 | D32: =D33 -> 7026000 | E32: =E33 -> 0 | F32: =F33 -> 5188000 | G32: =G33 -> 16320000 | H32: =H33 -> 4814000 | I32: =I33 -> 8765880 | J32: =J33 -> 4824000 | K32: =K33 -> 8089000 | ... O32: =O33 -> 4738800
B33: 수용기관경비 | D33: 7026000 | F33: 5188000 | G33: 16320000 | H33: 4814000 | I33: 8765880 | J33: 4824000 | K33: 8089000 | L33: 5798500 | M33: 3379000 | N33: 1440000 | O33: 4738800
A34: 지정후원금 | C34: =SUM(D34:O34) -> 3203000 | D34: =D35 -> 0 | E34: =E35 -> 0 | F34: =F35 -> 0 | G34: =G35 -> 0 | H34: =H35 -> 1223000 | I34: =I35 -> 0 | J34: =J35 -> 0 | K34: =K35 -> 1980000 | ... O34: =O35 -> 0
B35: 지정후원금 | H35: 1223000 | K35: 1980000
A36: 총 계 | C36: =SUM(C17,C19,C24,C32,C34) -> 79887065 | D36: =SUM(D17,D19,D24,D32,D34) -> 7125990 | E36: =SUM(E17,E19,E24,E32,E34) -> 99990 | F36: =SUM(F17,F19,F24,F32,F34) -> 5291015 | G36: =SUM(G17,G19,G24,G32,G34) -> 21421640 | H36: =SUM(H17,H19,H24,H32,H34) -> 6137650 | I36: =SUM(I17,I19,I24,I32,I34) -> 8967370 | J36: =SUM(J17,J19,J24,J32,J34) -> 4924595 | ... O36: =SUM(O17,O19,O24,O32,O34) -> 4837690
A37: 잔 액 | C37: =C14-C36 -> 22568018 | O37: =A1:O37 -> 0

Sheet 비지정후원금(시설)세입.세출
A1: 2-2. 2022년 밝은언덕노인요양원 후원금 세입 계정 별 세출 계정
A2: 1) 비지정후원금 | F2: (단위 : 원)
A3: 년월일 | B3: 세출계정 | C3: 수입금액 | D3: 지출금액 | E3: 차인금액 | F3: 적요
B4: 전년이월금 | C4: 8401474 | D4: 0 | E4: =C4-D4 -> 8401474
A5: 44198 | B5: 비지정후원금 | C5: 10000 | E5: =E4+C5-D5 -> 8411474 | F5: 김분례
A6: 44200 | B6: 비지정후원금 | C6: 40000 | E6: =E5+C6-D6 -> 8451474 | F6: CMS등록후원자
A7: 44201 | B7: 비지정후원금 | C7: 100000 | E7: =E6+C7-D7 -> 8551474 | F7: 주석진레미콘
A8: 44201 | B8: 비지정후원금 | C8: 100000 | E8: =E7+C8-D8 -> 8651474 | F8: 김홍태
A9: 44201 | B9: 비지정후원금 | C9: 50000 | E9: =E8+C9-D9 -> 8701474 | F9: 김명옥
A10: 44202 | B10: 비지정후원금 | C10: 325000 | E10: =E9+C10-D10 -> 9026474 | F10: CMS등록후원자
A11: 44203 | B11: 비지정후원금 | C11: 475000 | E11: =E10+C11-D11 -> 9501474 | F11: CMS등록후원자
A12: 44203 | B12: 수용비및수수료 | D12: 55000 | E12: =E11+C12-D12 -> 9446474 | F12: cms사용료
A13: 44204 | B13: 비지정후원금 | C13: 20000 | E13: =E12+C13-D13 -> 9466474 | F13: 배경달
A14: 44207 | B14: 비지정후원금 | C14: 10000 | E14: =E13+C14-D14 -> 9476474 | F14: 배정열
A15: 44207 | B15: 비지정후원금 | C15: 10000 | E15: =E14+C15-D15 -> 9486474 | F15: 임만빈
A16: 44207 | B16: 비지정후원금 | C16: 30000 | E16: =E15+C16-D16 -> 9516474 | F16: CMS등록후원자
A17: 44209 | B17: 비지정후원금 | C17: 80000 | E17: =E16+C17-D17 -> 9596474 | F17: CMS등록후원자
A18: 44210 | B18: 비지정후원금 | C18: 5000 | E18: =E17+C18-D18 -> 9601474 | F18: CMS등록후원자
A19: 44210 | B19: 비지정후원금 | C19: 633 | E19: =E18+C19-D19 -> 9602107 | F19: 밝은언덕노인요양원
A20: 44214 | B20: 비지정후원금 | C20: 1115000 | E20: =E19+C20-D20 -> 10717107 | F20: CMS등록후원자
A21: 44215 | B21: 비지정후원금 | C21: 100000 | E21: =E20+C21-D21 -> 10817107 | F21: 임광재
A22: 44216 | B22: 비지정후원금 | C22: 30000 | E22: =E21+C22-D22 -> 10847107 | F22: 김종욱
A23: 44216 | B23: 비지정후원금 | C23: 10000 | E23: =E22+C23-D23 -> 10857107 | F23: 한경희
A24: 44216 | B24: 비지정후원금 | C24: 10000 | E24: =E23+C24-D24 -> 10867107 | F24: CMS등록후원자
... A36: 44225 | B36: 비지정후원금 | C36: 10000 | E36: =E35+C36-D36 -> 15912107 | F36: CMS등록후원자
A37: 44225 | B37: 수용기관경비 | D37: 4648950 | E37: =E36+C37-D37 -> 11263157 | F37: 조인푸드기저귀
A38: 44227 | B38: 수용비및수수료 | D38: 47850 | E38: =E37+C38-D38 -> 11215307 | F38: CMS총수수료
B39: 월 계 | C39: =SUM(C5:C38) -> 7565633 | D39: =SUM(D5:D38) -> 4751800
A40: 44228 | B40: 비지정후원금 | C40: 30000 | E40: =E38+C40-D40 -> 11245307 | F40: 권열
A41: 44228 | B41: 비지정후원금 | C41: 50000 | E41: =E40+C41-D41 -> 11295307 | F41: 강성용
A42: 44228 | B42: 비지정후원금 | C42: 10000 | E42: =E41+C42-D42 -> 11305307 | F42: 이경기
A43: 44228 | B43: 비지정후원금 | C43: 10000 | E43: =E42+C43-D43 -> 11315307 | F43: CMS등록후원자
A44: 44228 | B44: 비지정후원금 | C44: 10000 | E44: =E43+C44-D44 -> 11325307 | F44: 김분례
A45: 44230 | B45: 비지정후원금 | C45: 310000 | E45: =E44+C45-D45 -> 11635307 | F45: CMS등록후원자
A46: 44232 | B46: 비지정후원금 | C46: 100000 | E46: =E45+C46-D46 -> 11735307 | F46: 주석진레미콘
A47: 44232 | B47: 비지정후원금 | C47: 100000 | E47: =E46+C47-D47 -> 11835307 | F47: 김홍태
A48: 44232 | B48: 수용비및수수료 | D48: 55110 | E48: =E47+C48-D48 -> 11780197 | F48: CMS사용료
A49: 44235 | B49: 비지정후원금 | C49: 495000 | E49: =E48+C49-D49 -> 12275197 | F49: CMS등록후원자
A50: 44237 | B50: 비지정후원금 | C50: 10000 | E50: =E49+C50-D50 -> 12285197 | F50: 배정열
A51: 44237 | B51: 비지정후원금 | C51: 50000 | E51: =E50+C51-D51 -> 12335197 | F51: 김명옥
...

Sheet 후원금(시설)사용결과
B1: 2-3. 후원금 수입 및 사용결과 보고서
B2: 1) 비지정후원금(금전) 수입 명세서 (단위 : 원)
B3: 일 자 | C3: 후원금종류 | D3: 후원자 | E3: 내역 | F3: 금액 | G3: 비고
B4: 43832 | C4: 기타후원 | E4: 밝은언덕의 발전과 가족을 위해 | F4: 90000 | G4: 후원금수입(비지정)
B5: 43836 | C5: 기타후원 | E5: 밝은언덕의 발전과 가족을 위해 | F5: 100000 | G5: 후원금수입(비지정)
B6: 43836 | C6: 기타후원 | E6: 밝은언덕의 발전과 가족을 위해 | F6: 30000 | G6: 후원금수입(비지정)
B7: 43836 | C7: 기타후원 | E7: 밝은언덕의 발전과 가족을 위해 | F7: 10000 | G7: 후원금수입(비지정)
B8: 43836 | C8: 기타후원 | E8: 밝은언덕의 발전과 가족을 위해 | F8: 270000 | G8: 후원금수입(비지정)
B9: 43836 | C9: 기타후원 | E9: 밝은언덕의 발전과 가족을 위해 | F9: 400000 | G9: 후원금수입(비지정)
B10: 43836 | C10: 기타후원 | E10: 밝은언덕의 발전과 가족을 위해 | F10: 1000000 | G10: 후원금수입(비지정)
B11: 43838 | C11: 기타후원 | E11: 밝은언덕의 발전과 가족을 위해 | F11: 550000 | G11: 후원금수입(비지정)
B12: 43838 | C12: 기타후원 | E12: 밝은언덕의 발전과 가족을 위해 | F12: 1000000 | G12: 후원금수입(비지정)
B13: 43839 | C13: 기타후원 | E13: 밝은언덕의 발전과 가족을 위해 | F13: 10000 | G13: 후원금수입(비지정)
B14: 43839 | C14: 기타후원 | E14: 밝은언덕의 발전과 가족을 위해 | F14: 20000 | G14: 후원금수입(비지정)
B15: 43840 | C15: 기타후원 | E15: 밝은언덕의 발전과 가족을 위해 | F15: 10000 | G15: 후원금수입(비지정)
... B711: 44499 | C711: 기타후원 | E711: 밝은언덕의 발전과 가족을 위해 | F711: 100000 | G711: 후원금수입(비지정)
B712: 2021/11/01 | C712: 기타후원 | E712: 밝은언덕의 발전과 가족을 위해 | F712: 30000 | G712: 후원금수입(비지정)
B713: 2021/11/01 | C713: 기타후원 | E713: 밝은언덕의 발전과 가족을 위해 | F713: 10000 | G713: 후원금수입(비지정)
B714: 2021/11/01 | C714: 기타후원 | E714: 밝은언덕의 발전과 가족을 위해 | F714: 50000 | G714: 후원금수입(비지정)
B715: 2021/11/01 | C715: 기타후원 | E715: 밝은언덕의 발전과 가족을 위해 | F715: 14065 | G715: 후원금수입(비지정)
B716: 2021/11/01 | C716: 기타후원 | E716: 밝은언덕의 발전과 가족을 위해 | F716: 30000 | G716: 후원금수입(비지정)
B717: 2021/11/01 | C717: 기타후원 | E717: 밝은언덕의 발전과 가족을 위해 | F717: 10000 | G717: 후원금수입(비지정)
B718: 2021/11/01 | C718: 기타후원 | E718: 밝은언덕의 발전과 가족을 위해 | F718: 20000 | G718: 후원금수입(비지정)
B719: 2021/11/03 | C719: 기타후원 | E719: 밝은언덕의 발전과 가족을 위해 | F719: 325765 | G719: 후원금수입(비지정)
B720: 2021/11/05 | C720: 기타후원 | E720: 밝은언덕의 발전과 가족을 위해 | F720: 100000 | G720: 후원금수입(비지정)
B721: 2021/11/05 | C721: 기타후원 | E721: 밝은언덕의 발전과 가족을 위해 | F721: 100000 | G721: 후원금수입(비지정)
B722: 2021/11/06 | C722: 기타후원 | E722: 밝은언덕의 발전과 가족을 위해 | F722: 10000 | G722: 후원금수입(비지정)
B723: 2021/11/08 | C723: 기타후원 | E723: 밝은언덕의 발전과 가족을 위해 | F723: 489775 | G723: 후원금수입(비지정)
... B751: 2021/11/30 | C751: 기타후원 | E751: 밝은언덕의 발전과 가족을 위해 | F751: 30000 | G751: 후원금수입(비지정)
B752: 44531 | C752: 기타후원 | E752: 밝은언덕의 발전과 가족을 위해 | F752: 30000 | G752: 후원금수입(비지정)
B753: 44531 | C753: 기타후원 | E753: 밝은언덕의 발전과 가족을 위해 | F753: 68790 | G753: 후원금수입(비지정)
B754: 44532 | C754: 기타후원 | E754: 밝은언덕의 발전과 가족을 위해 | F754: 59175 | G754: 후원금수입(비지정)
B755: 44532 | C755: 기타후원 | E755: 밝은언덕의 발전과 가족을 위해 | F755: 10000 | G755: 후원금수입(비지정)
B756: 44533 | C756: 기타후원 | E756: 밝은언덕의 발전과 가족을 위해 | F756: 60000 | G756: 후원금수입(비지정)
B757: 44533 | C757: 기타후원 | E757: 밝은언덕의 발전과 가족을 위해 | F757: 10000 | G757: 후원금수입(비지정)
B758: 44533 | C758: 기타후원 | E758: 밝은언덕의 발전과 가족을 위해 | F758: 300000 | G758: 후원금수입(비지정)
B759: 44533 | C759: 기타후원 | E759: 밝은언덕의 발전과 가족을 위해 | F759: 291095 | G759: 후원금수입(비지정)
B760: 44535 | C760: 기타후원 | E760: 밝은언덕의 발전과 가족을 위해 | F760: 100000 | G760: 후원금수입(비지정)
B761: 44536 | C761: 기타후원 | E761: 밝은언덕의 발전과 가족을 위해 | F761: 10000 | G761: 후원금수입(비지정)
B762: 44536 | C762: 기타후원 | E762: 밝은언덕의 발전과 가족을 위해 | F762: 100000 | G762: 후원금수입(비지정)
...

Sheet 사용명세서
B1: 2-3. 후원금 수입 및 사용결과 보고서
B2: 1-1) 비지정후원금(금전) 사용명세서 (단위 : 원)
B3: 사용일자 | C3: 사용내역 | D3: 금액 | E3: 산출기준 | F3: 비고
B4: 43836 | C4: 수용비및수수료 | D4: 55000 | E4: 사무운영비 | F4: 후원금수입(비지정)
B5: 43861 | C5: 수용비및수수료 | D5: 51700 | E5: 사무운영비 | F5: 후원금수입(비지정)
B6: 43866 | C6: 수용비및수수료 | D6: 55000 | E6: 사무운영비 | F6: 후원금수입(비지정)
B7: 43867 | C7: 수용기관경비 | D7: 4784000 | E7: 입소자수용경비 | F7: 후원금수입(비지정)
B8: 43868 | C8: 수용기관경비 | D8: 891000 | E8: 입소자수용경비 | F8: 후원금수입(비지정)
B9: 43876 | C9: 수용기관경비 | D9: 150000 | E9: 입소자수용경비 | F9: 후원금수입(비지정)
B10: 43876 | C10: 수용기관경비 | D10: 300000 | E10: 입소자수용경비 | F10: 후원금수입(비지정)
B11: 43876 | C11: 수용기관경비 | D11: 360000 | E11: 입소자수용경비 | F11: 후원금수입(비지정)
B12: 43876 | C12: 수용기관경비 | D12: 150000 | E12: 입소자수용경비 | F12: 후원금수입(비지정)
B13: 43876 | C13: 수용기관경비 | D13: 300000 | E13: 입소자수용경비 | F13: 후원금수입(비지정)
B14: 43876 | C14: 수용기관경비 | D14: 360000 | E14: 입소자수용경비 | F14: 후원금수입(비지정)
B15: 43895 | C15: 수용비및수수료 | D15: 55000 | E15: 사무운영비 | F15: 후원금수입(비지정)
... B106: 44499 | C106: CMS수수료 | D106: 47410 | E106: 사무운영비 | F106: 후원금수입(비지정)
B107: 2021/11/05 | C107: 수용기관경비 | D107: 4000000 | E107: 수용기관경비 | F107: 후원금수입(비지정)
B108: 2021/11/05 | C108: 수용비및수수료 | D108: 55000 | E108: 사무운영비 | F108: 후원금수입(비지정)
B109: 2021/11/05 | C109: 수용기관경비 | D109: 365500 | E109: 수용기관경비 | F109: 후원금수입(비지정)
B110: 2021/11/12 | C110: 수용기관경비 | D110: 1471000 | E110: 수용기관경비 | F110: 후원금수입(비지정)
B111: 44536 | C111: 수용비및수수료 | D111: 55000 | E111: 사무운영비 | F111: 후원금수입(비지정)
B112: 44555 | C112: 수용비및수수료 | D112: 1210 | E112: 사무운영비 | F112: 후원금수입(비지정)
B113: 44555 | C113: 수용비및수수료 | D113: 120 | E113: 사무운영비 | F113: 후원금수입(비지정)
B114: 44566 | C114: 수용비및수수료 | D114: 55000 | E114: 사무운영비 | F114: 후원금수입(비지정)
B115: 44578 | C115: 입소자수용경비 | D115: 500000 | E115: 수용기관경비 | F115: 후원금수입(비지정)
B116: 44587 | C116: 입소자수용경비 | D116: 3236000 | E116: 수용기관경비 | F116: 후원금수입(비지정)
B117: 44587 | C117: 입소자수용경비 | D117: 3290000 | E117: 수용기관경비 | F117: 후원금수입(비지정)
B118: 44589 | C118: 수용비및수수료 | D118: 44990 | E118: 사무운영비 | F118: 후원금수입(비지정)
B119: 44599 | C119: 수용비및수수료 | D119: 55220 | E119: 사무운영비 | F119: 후원금수입(비지정)
B120: 44620 | C120: 수용비및수수료 | D120: 44770 | E120: 사무운영비 | F120: 후원금수입(비지정)
B121: 44627 | C121: 입소자수용경비 | D121: 4188000 | E121: 수용기관경비 | F121: 후원금수입(비지정)
B122: 44627 | C122: 수용비및수수료 | D122: 55000 | E122: 사무운영비 | F122: 후원금수입(비지정)
... B161: 44926 | C161: 수용비및수수료 | D161: 43780 | E161: 사무운영비 | F161: 후원금수입(비지정)

Sheet 지정후원금(시설)사용결과
A1: 2-4. 후원금 수입 및 사용결과 보고서
A2: 1) 지정후원금(금전) 수입 명세서 (단위 : 원)
A3: 일 자 | B3: 후원금종류 | C3: 후원자 | D3: 내역 | E3: 금액 | F3: 비고
A4: 43865 | B4: 지정후원 | C4: DOUGLAS ACA | D4: 밝은언덕의 발전과 가족을 위해 | E4: 17627000 | F4: 후원금수입(지정)
A5: 44251 | B5: 지정후원 | C5: DOUGLAS ACA | D5: 밝은언덕의 발전과 가족을 위해 | E5: 15388600 | F5: 후원금수입(지정)

Sheet 지정후원금(시설)세입.세출
A1: 2-4. 2022년 밝은언덕노인요양원 후원금 세입 계정 별 세출 계정
A2: 1) 지정후원금 | F2: (단위 : 원)
A3: 년월일 | B3: 세출계정 | C3: 수입금액 | D3: 지출금액 | E3: 차인금액 | F3: 적요
B4: 전년이월금 | C4: 1156713 | D4: 0 | E4: =C4-D4 -> 1156713
A5: 2021.02.24 | B5: 지정후원금 | C5: 15388600 | D5: 0 | E5: =E4+C5-D5 -> 16545313
B6: 월 계 | C6: =SUM(C5) -> 15388600 | D6: 0
A7: 44692 | B7: 지정후원금 | C7: 0 | D7: 1223000 | E7: =E5+C7-D7 -> 15322313 | F7: 그린비 코퍼레이션
A8: 44797 | B8: 지정후원금 | C8: 0 | D8: 1980000 | E8: =E7+C8-D8 -> 13342313 | F8: 그린비 코퍼레이션
B9: 월 계 | C9: 0 | D9: =SUM(D7:D8) -> 3203000
B10: 소 계 | C10: =SUM(C4+C6) -> 16545313 | D10: =D9 -> 3203000

Sheet 지정사용명세서
A1: 2-4. 후원금 수입 및 사용결과 보고서
A2: 1-1) 지정후원금(금전) 사용명세서 (단위 : 원)
A3: 사용일자 | B3: 사용내역 | C3: 금액 | D3: 산출기준 | E3: 비고
A4: 43551 | B4: 밝은언덕노인요양원 | C4: 10000000 | E4: 후원금수입(지정)
A5: 43577 | B5: 밝은언덕노인요양원 | C5: 6600000 | E5: 후원금수입(지정)
A6: 44187 | B6: 밝은언덕노인요양원 | C6: 21000000 | E6: 후원금수입(지정)

Sheet 물품(시설)
B1: 3) 후원금(물품) 수입 명세서
B3: 연월 | C3: 후원물품의 종류 | D3: 후원자 | E3: 내역 | F3: 품명 | G3: 수량 | H3: 단위 | I3: 비고(원)
B4: 1월 | C4: 기타후원 | D4: 법농스님 | E4: 간식 | F4: 보리빵 | G4: 150 | H4: box | I4: 1500000
C5: 기타후원 | D5: 법농스님 | E5: 용품 | F5: 수건 | G5: 300 | H5: EA | I5: 300000 | N5: 다원 | O5: 1358000
C6: 기타후원 | D6: 평화사 | E6: 부식 | F6: 쌀 | G6: 6 | H6: 가마 | I6: 150000 | O6: 182000
B7: 2월 | C7: 기타후원 | D7: 동심 | E7: 주식 | F7: 김치 | G7: 400 | H7: kg | I7: 1200000 | O7: 98000
C8: 기타후원 | D8: 강식품 | E8: 주식 | F8: 국수 8kg | G8: 10 | H8: box | I8: 30000 | O8: 224000
C9: 기타후원 | D9: 중랑 건강 가정 · 다문화센터 | E9: 용품 | F9: 수건 | G9: 300 | H9: ea | I9: 300000 | O9: 112000
C10: 기타후원 | D10: 동원떡집 (이명구) | E10: 주식 | F10: 떡국 | G10: 10 | H10: box | I10: 100000 | O10: 140000
C11: 기타후원 | D11: 평화사 | E11: 주식 | F11: 쌀 | G11: 6 | H11: 가마 | I11: 150000 | O11: 140000
C12: 기타후원 | D12: 미타사 | E12: 주식 | F12: 쌀 | G12: 12 | H12: 가마 | I12: 300000 | O12: 252000
C13: 기타후원 | D13: 법농스님 | E13: 주식 | F13: 쌀 | G13: 6 | H13: 가마 | I13: 125000 | O13: =SUM(O5:O12) -> 2506000
C14: 기타후원 | D14: 로얄장 | E14: 주식 | F14: 쌀밥 | G14: 3 | H14: 말 | I14: 50000
C15: 기타후원 | D15: 정우숙 어르신 사위 | E15: 부식 | F15: 상추 | G15: 3 | H15: 자루 | I15: 45000
B16: 3월 | C16: 기타후원 | D16: 동심 | E16: 주식 | F16: 김치 | G16: 400 | H16: kg | I16: 1200000
C17: 기타후원 | D17: 강식품 | E17: 주식 | F17: 국수 7kg | G17: 10 | H17: box | I17: 30000
C18: 기타후원 | D18: 다원 잔기지 떡 | E18: 간식 | F18: 떡 | G18: 16 | H18: box | I18: 224000
C19: 기타후원 | D19: 장복화 | E19: 부식 | F19: 케일 | G19: 7 | H19: box | I19: 70000
B20: 4월 | C20: 기타후원 | D20: 동심 | E20: 주식 | F20: 김치 | G20: 400 | H20: kg | I20: 1200000
C21: 기타후원 | D21: 강식품 | E21: 주식 | F21: 국수 7kg | G21: 10 | H21: box | I21: 30000
C22: 기타후원 | D22: 복덕화 | E22: 부식 | F22: 케일 | G22: 10 | H22: box | I22: 50000
C23: 기타후원 | D23: 참사랑농장 | E23: 부식 | F23: 송로버섯 | G23: 10 | H23: box | I23: 1000000
B24: 5월 | C24: 기타후원 | D24: 동심 | E24: 주식 | F24: 김치 | G24: 400 | H24: kg | I24: 1200000
C25: 기타후원 | D25: 강식품 | E25: 주식 | F25: 국수 7kg | G25: 10 | H25: box | I25: 30000
C26: 기타후원 | D26: 정수스님 | E26: 간식 | F26: 바나나 | G26: 2 | H26: box | I26: 70000
C27: 기타후원 | D27: 강미자 | E27: 부식 | F27: 상추 | G27: 10 | H27: box | I27: 100000
C28: 기타후원 | D28: 복덕화 | E28: 부식 | F28: 야채 | G28: 10 | H28: box | I28: 100000
C29: 기타후원 | D29: 다원잔기지떡 | E29: 간식 | F29: 잔기지떡 | G29: 8 | H29: box | I29: 112000
B30: 6월 | C30: 기타후원 | D30: 동심 | E30: 주식 | F30: 김치 | G30: 400 | H30: kg | I30: 1200000
C31: 기타후원 | D31: 강식품 | E31: 주식 | F31: 국수 7kg | G31: 10 | H31: box | I31: 30000
C32: 기타후원 | D32: 권인숙 | E32: 간식 | F32: 떠먹는요구르트 | G32: 200 | H32: EA | I32: 200000
C33: 기타후원 | D33: 법농스님 | E33: 간식 | F33: 바나나 | G33: 2 | H33: box | I33: 30000
C34: 기타후원 | D34: 복덕화 | E34: 부식 | F34: 열무 오이 | G34: 10 | H34: box | I34: 100000
B35: 7월 | C35: 기타후원 | D35: 동심 | E35: 주식 | F35: 김치 | G35: 400 | H35: kg | I35: 1200000
C36: 기타후원 | D36: 강식품 | E36: 주식 | F36: 국수 7kg | G36: 10 | H36: box | I36: 30000
C37: 기타후원 | D37: 다원잔기지떡 | E37: 간식 | F37: 잔기지떡 | G37: 10 | H37: box | I37: 140000
C38: 기타후원 | D38: 지영수 | E38: 간식 | F38: 복숭아 | G38: 10 | H38: box | I38: 200000
C39: 기타후원 | D39: 한마음산원 | E39: 용품 | F39: EM소독약 | G39: 10 | H39: box | I39: 330000
C40: 기타후원 | D40: 장차남어르신 보호자분 | E40: 간식 | F40: 방울토마토 | G40: 4 | H40: BOX | I40: 40000
C41: 기타후원 | D41: 장복화 | E41: 부식 | F41: 오이, 아욱 | G41: 20 | H41: BOX | I41: 200000
...

Sheet 물품(시설)사용내역
A1: 4) 후원금(물품) 사용 명세서
A3: 사용 | B3: 사용내역 | C3: 사용처 | D3: 수량 | E3: 단위 | F3: 비고
A4: 1월 | B4: 바나나 | C4: 밝은언덕노인요양원 | D4: 5 | E4: box
B5: 귤 | C5: 밝은언덕노인요양원 | D5: 5 | E5: box
B6: 사탕 | C6: 밝은언덕노인요양원 | D6: 9 | E6: box
B7: 가래떡 | C7: 밝은언덕노인요양원 | D7: 1 | E7: box
B8: 귤 | C8: 밝은언덕노인요양원 | D8: 6 | E8: box
A9: 3월 | B9: 쌈채소 | C9: 밝은언덕노인요양원 | D9: 3 | E9: box
C10: 밝은언덕노인요양원 | D10: 6 | E10: EA
B11: 돈까스 | C11: 밝은언덕노인요양원 | D11: 7 | E11: Box
B12: 어묵 | C12: 밝은언덕노인요양원 | D12: 1 | E12: Box
B13: 숙주나물 | C13: 밝은언덕노인요양원 | D13: 7 | E13: Box
A14: 4월 | B14: 쌀 | C14: 밝은언덕노인요양원 | D14: 4 | E14: 가마
B15: 물티슈 | C15: 밝은언덕노인요양원 | D15: 10 | E15: BOX
B16: 손소독제 | C16: 밝은언덕노인요양원 | D16: 3 | E16: BOX
B17: 마스크 | C17: 밝은언덕노인요양원 | D17: 1 | E17: BOX
B18: 비타500 | C18: 밝은언덕노인요양원 | D18: 1 | E18: BOX
B19: 과자 | C19: 밝은언덕노인요양원 | D19: 1 | E19: BOX
B20: 요구르트 | C20: 밝은언덕노인요양원 | D20: 40 | E20: EA
A21: 5월 | B21: 바나나 | C21: 밝은언덕노인요양원 | D21: 3 | E21: box
B22: 국수 | C22: 밝은언덕노인요양원 | D22: 3 | E22: box
B23: 마시는 요구르트 | C23: 밝은언덕노인요양원 | D23: 8 | E23: box
B24: 참외 | C24: 밝은언덕노인요양원 | D24: 2 | E24: box
B25: 김치 | C25: 밝은언덕노인요양원 | D25: 400 | E25: kg
B26: 국수 7kg | C26: 밝은언덕노인요양원 | D26: 10 | E26: box
B27: 바나나 | C27: 밝은언덕노인요양원 | D27: 1 | E27: BOX
A28: 6월 | B28: 기저귀 | C28: 밝은언덕노인요양원 | D28: 3 | E28: box
B29: 김치 | C29: 밝은언덕노인요양원 | D29: 400 | E29: kg
B30: 국수 7kg | C30: 밝은언덕노인요양원 | D30: 10 | E30: box
B31: 블루베리 | C31: 밝은언덕노인요양원 | D31: 10 | E31: kg
A32: 7월 | B32: 김치 | C32: 밝은언덕노인요양원 | D32: 400 | E32: kg
B33: 국수 7kg | C33: 밝은언덕노인요양원 | D33: 10 | E33: box
B34: 복숭아 | C34: 밝은언덕노인요양원 | D34: 3 | E34: box
B35: 기저귀 | C35: 밝은언덕노인요양원 | D35: 3 | E35: box
A36: 8월 | B36: 김치 | C36: 밝은언덕노인요양원 | D36: 400 | E36: kg
B37: 국수 7kg | C37: 밝은언덕노인요양원 | D37: 10 | E37: box
B38: 삼계탕 | C38: 밝은언덕노인요양원 | D38: 20 | E38: box
A39: 9월 | B39: 김치 | C39: 밝은언덕노인요양원 | D39: 400 | E39: kg
B40: 국수 8kg | C40: 밝은언덕노인요양원 | D40: 10 | E40: box
B41: 복숭아 | C41: 밝은언덕노인요양원 | D41: 4 | E41: box
...

Sheet 후원금(법인)
A1: 1. 2022년 사회복지법인 밝은언덕 후원금 수입 · 지출 내역
A2: ( 단위 : 원 )
A3: 법인명 | B3: 후원금 수입 | H3: 후원금 지출 | AK3: 비고(잔액)
B4: 계 | C4: 이월금 | D4: 결연후원금 | E4: 지정후원금 | F4: 비지정후원금 | G4: 예금이자 | H4: 계 | I4: 결연후원금 | J4: 지정후원금 | V4: 비지정후원금 | AJ4: 기타
J5: 계 | K5: 직접비 | U5: 간접비 | V5: 계 | W5: 직접비 | AH5: 간접비
K6: 소계 | L6: 운영비 | M6: 취득비 | N6: 주식비 | O6: 부식비 | P6: 피복비 | Q6: 의료비 | R6: 난방비 | S6: 운영비 | T6: 기타 | U6: 소계 | W6: 소계 | X6: 인건비 | Y6: 사무운영비 | Z6: 운영비 | AA6: 주식비 | AB6: 부식비 | AC6: 교육비 | AD6: 수용기관경비 | AE6: 시설전출금 | AF6: 재가센터전출금 | AG6: 입금오류출금 | AH6: 소계 | AI6: 기타
A7: 사회복지법인 밝은언덕 | B7: =SUM(C7:G7) -> 2938431 | C7: ='후원금(법인)세부내역'!C9 -> 517499 | F7: ='후원금(법인)세부내역'!C5 -> 2420521 | G7: ='후원금(법인)세부내역'!C7 -> 411 | H7: =V7+AH7 -> 2000000 | J7: =SUM(K7) -> 0 | K7: =SUM(M7+S7) -> 0 | R7: 21862767 | V7: =W7 -> 2000000 | W7: =Y7+Z7+AB7+AD7+AE7+AG7+AF7 -> 2000000 | Y7: ='후원금(법인)세부내역'!C14 -> 0 | Z7: ='후원금(법인)세부내역'!C19 -> 0 | AB7: 0 | AD7: 0 | AE7: 0 | AF7: ='후원금(법인)세부내역'!C27 -> 0 | AG7: ='후원금(법인)세부내역'!H30 -> 2000000 | AH7: 0 | AK7: =SUM(B7-H7) -> 938431
A8: 후원금수입총계 | B8: =B7 -> 2938431 | H8: 후원금지출총계 | W8: =H7 -> 2000000 | AK8: =B8-W8 -> 938431
A24: 3. 2012년 밝은언덕노인요양원 후원금 수입 · 지출 내역
A27: ( 단위 : 원 )
A28: 시설명 | B28: 후원금 수입 | H28: 후원금 지출 | AK28: 비고(잔액)
B29: 계 | C29: 이월금 | D29: 결연후원금 | E29: 지정후원금 | F29: 비지정후원금 | G29: 기타 (법인전입금) | H29: 계 | I29: 결연후원금 | J29: 지정후원금 | V29: 비지정후원금 | AJ29: 기타
V30: 계 | W30: 직접비 | AH30: 간접비
W31: 소계 | X31: 인건비 | Z31: 운영비 | AA31: 주식비 | AB31: 부식비 | AC31: 교육비 | AD31: 기타사업비 | AE31: 기타 | AH31: 소계 | AI31: 기타
A32: 밝은언덕노인요양원 | B32: =SUM(C32:G32) -> 46312167 | C32: 0 | F32: 27949400 | G32: 18362767 | H32: =V32 -> 41887767 | V32: =W32+AH32 -> 41887767 | W32: =SUM(X32:AD32) -> 41887767 | X32: 41362767 | AA32: 525000 | AK32: =B32-H32 -> 4424400
A33: 후원금수입총계 | B33: =B32 -> 46312167 | H33: 후원금지출총계 | X33: =H32 -> 41887767 | AK33: =B33-X33 -> 4424400
A52: 1. 2011년 사회복지법인 밝은언덕 후원금 수입 · 지출 내역
A55: ( 단위 : 원 )
A56: 법인명 | B56: 후원금 수입 | H56: 후원금 지출 | AK56: 비고(잔액)
B57: 계 | C57: 이월금 | D57: 결연후원금 | E57: 지정후원금 | F57: 비지정후원금 | G57: 기타 | H57: 계 | I57: 결연후원금 | J57: 지정후원금 | V57: 비지정후원금 | AJ57: 기타
V58: 계 | W58: 직접비 | AH58: 간접비
W59: 소계 | X59: 인건비 | Z59: 운영비 | AA59: 주식비 | AB59: 부식비 | AC59: 교육비 | AD59: 기타사업비 | AE59: 시설전출금 | AH59: 소계 | AI59: 기타
A60: 사회복지법인 밝은언덕 | B60: =C60+F60 -> 2859927 | F60: 2859927 | H60: =V60 -> 66770 | V60: =W60+AH60 -> 66770 | W60: =SUM(X60:AE60) -> 66770 | X60: 0 | Z60: 66770 | AK60: =B60-H60 -> 2793157
A61: 후원금수입총계 | B61: =B60 -> 2859927 | H61: 후원금지출총계 | X61: =H60 -> 66770 | AK61: =B61-X61 -> 2793157
V63: 2011 지정, 비지정 후원금 차기이월금 계 | AK63: =#REF!+AK61 -> #REF!
V66: 2011 지정, 비지정 후원금 차기이월금 계 | AK66: =#REF!+#REF! -> #REF!

Sheet 후원금(법인)세부내역
A1: 1-1. 2022년 사회복지법인 밝은언덕 후원금 월별정산
A2: 수 입 | M2: (단위 : 원)
A3: 구 분 | C3: 계 | D3: 1 | E3: 2 | F3: 3 | G3: 4 | H3: 5 | I3: 6 | J3: 7 | K3: 8 | L3: 9 | M3: 10 | N3: 11 | O3: 12
A4: 2022년 | B4: 합계 | C4: =SUM(D4:O4) -> 2420932 | D4: =SUM(D5:D7) -> 35000 | E4: =SUM(E5:E7) -> 35000 | F4: =SUM(F5:F7) -> 35000 | G4: =SUM(G5:G7) -> 2035000 | H4: =SUM(H5:H7) -> 35000 | I4: =SUM(I5:I7) -> 35521 | J4: =SUM(J5:J7) -> 35000 | K4: =SUM(K5:K7) -> 35000 | ... O4: =SUM(O5:O7) -> 35411
B5: 비지정 | C5: =SUM(D5:O5) -> 2420521 | D5: 35000 | E5: 35000 | F5: 35000 | G5: 2035000 | H5: 35000 | I5: 35521 | J5: 35000 | K5: 35000 | L5: 35000 | M5: 35000 | N5: 35000 | O5: 35000
B6: 지정
B7: 예금이자 | C7: =SUM(D7:O7) -> 411 | O7: 411
A8: 2021년 이월금 | B8: 합계 | C8: =SUM(C9:C10) -> 517499
B9: 비지정 | C9: 517499
B10: 지정
A11: 총 계 | C11: =SUM(C4+C8) -> 2938431
A12: 지 출 | M12: (단위 : 원)
A13: 구 분 | C13: 계 | D13: 1 | E13: 2 | F13: 3 | G13: 4 | H13: 5 | I13: 6 | J13: 7 | K13: 8 | L13: 9 | M13: 10 | N13: 11 | O13: 12
A14: 사무운영비 | C14: =SUM(D14:O14) -> 0 | D14: =SUM(D15:D16) -> 0 | E14: =SUM(E15:E16) -> 0 | F14: =SUM(F15:F16) -> 0 | G14: =SUM(G15:G16) -> 0 | H14: =SUM(H15:H16) -> 0 | I14: =SUM(I15:I16) -> 0 | J14: 0 | K14: =SUM(K15:K16) -> 0 | L14: =SUM(L15:L16) -> 0 | M14: =SUM(M15:M16) -> 0 | N14: =SUM(N15:N16) -> 0 | O14: =SUM(O15:O16) -> 0
B15: 보험료
B16: 수수료 | J16: 0
A17: 재산조성비 | C17: =SUM(D17:O17) -> 0 | D17: =D18 -> 0 | E17: =E18 -> 0 | F17: =F18 -> 0 | G17: =G18 -> 0 | H17: =H18 -> 0 | I17: =I18 -> 0 | J17: =J18 -> 0 | K17: =K18 -> 0 | ... O17: =O18 -> 0
B18: 자산취득비 | C18: =SUM(D18:O18) -> 0
A19: 사업운영비 | C19: =SUM(D19:O19) -> 0 | D19: =SUM(D20:D26) -> 0 | E19: =SUM(E20:E26) -> 0 | F19: =SUM(F20:F26) -> 0 | G19: =SUM(G20:G26) -> 0 | H19: =SUM(H20:H26) -> 0 | I19: =SUM(I20:I26) -> 0 | J19: =SUM(J20:J26) -> 0 | K19: =SUM(K20:K26) -> 0 | ... O19: =SUM(O20:O26) -> 0
B20: 주식비 | C20: =SUM(D20:O20) -> 0
B21: 부식비 | C21: =SUM(D21:O21) -> 0
B22: 피복비 | C22: =SUM(D22:O22) -> 0
B23: 의료비 | C23: =SUM(D23:O23) -> 0
B24: 난방비 | C24: =SUM(D24:O24) -> 0
B25: 수용기관경비 | C25: =SUM(D25:O25) -> 0
B26: 운영비 | C26: =SUM(D26:O26) -> 0
A27: 시설전출금 | C27: =SUM(C28:C29) -> 0 | D27: =SUM(D28:D29) -> 0 | E27: 0 | F27: =SUM(F28:F29) -> 0 | G27: =SUM(G28:G29) -> 0 | H27: =SUM(H28:H29) -> 0 | I27: =SUM(I28:I29) -> 0 | J27: =SUM(J28:J29) -> 0 | K27: =SUM(K28:K29) -> 0 | L27: =SUM(L28:L29) -> 0 | M27: =SUM(M28:M29) -> 0 | ... O27: =SUM(O28:O29) -> 0
A28: 시설전출금 | C28: =SUM(D28:O28) -> 0
A29: 재가센터전출금 | C29: =SUM(D29:O29) -> 0
A30: 입금오류출금 | C30: =SUM(D30:O30) -> 2000000 | D30: =D31 -> 0 | E30: =E31 -> 0 | F30: =F31 -> 0 | G30: =G31 -> 0 | H30: =H31 -> 2000000 | I30: =I31 -> 0 | J30: =J31 -> 0 | K30: =K31 -> 0 | ... O30: =O31 -> 0
A31: 입금오류출금 | C31: =SUM(D31:O31) -> 2000000 | D31: 0 | E31: 0 | F31: 0 | G31: 0 | H31: 2000000 | I31: 0 | J31: 0 | L31: 0 | M31: 0 | N31: 0 | O31: 0
A32: 총 계 | C32: =C14+C17+C19+C27+C30 -> 2000000 | D32: =SUM(D14,D17,D19,D27,D30) -> 0 | E32: =SUM(E14,E17,E19,E27,E30) -> 0 | F32: =SUM(F14,F17,F19,F27,F30) -> 0 | G32: =SUM(G14,G17,G19,G27,G30) -> 0 | H32: =SUM(H14,H17,H19,H27,H30) -> 2000000 | I32: =SUM(I14,I17,I19,I27,I30) -> 0 | J32: =SUM(J14,J17,J19,J27,J30) -> 0 | K32: =SUM(K14,K17,K19,K27,K30) -> 0 | ... O32: =SUM(O14,O17,O19,O27,O30) -> 0
A33: 잔 액 | C33: =C11-C32 -> 938431

Sheet 후원금(법인)세입.세출
A1: 1-2. 2022년 사회복지법인 밝은언덕 후원금 세입 계정 별 세출 계정
A2: 1) 비지정후원금 | F2: (단위 : 원)
A3: 년월일 | B3: 세출계정 | C3: 수입금액 | D3: 지출금액 | E3: 차인금액 | F3: 적요
B4: 전년이월금 | C4: 521152 | D4: 0 | E4: =C4+D4 -> 521152
A5: 44197 | B5: 후원금수입(비지정) | C5: 30000 | E5: =E4+C5-D5 -> 551152 | F5: 권열
A6: 44207 | B6: 후원금수입(비지정) | C6: 20000 | E6: =E5+C6-D6 -> 571152 | F6: 신동수
A7: 44216 | B7: 후원금수입(비지정) | D7: 424930 | E7: =E6+C7-D7 -> 146222 | F7: 62주8961
A8: 44216 | B8: 후원금수입(비지정) | D8: 59050 | E8: =E7+C8-D8 -> 87172 | F8: 71누9169
A9: 44221 | B9: 후원금수입(비지정) | C9: 10000 | E9: =E8+C9-D9 -> 97172 | F9: 정정숙
A10: 44223 | B10: 후원금수입(비지정) | C10: 5000 | E10: =E9+C10-D10 -> 102172 | F10: 문호용
B11: 월 계 | C11: =SUM(C5:C10) -> 65000 | D11: =SUM(D5:D10) -> 483980 | E11: =E10+C11-D11 -> -316808
A12: 44237 | B12: 후원금수입(비지정) | C12: 20000 | D12: 0 | E12: =E11+C12-D12 -> -296808
A13: 44252 | B13: 후원금수입(비지정) | C13: 10000 | D13: 0 | E13: =E12+C13-D13 -> -286808
A14: 44253 | B14: 후원금수입(비지정) | C14: 30000 | D14: 0 | E14: =E13+C14-D14 -> -256808
B15: 월 계 | C15: =SUM(C12:C14) -> 60000 | D15: 0 | E15: =E14+C15-D15 -> -196808
A16: 44257 | B16: 후원금수입(비지정) | C16: 5000 | D16: 0 | E16: =E15+C16-D16 -> -191808 | F16: 문호용
A17: 44265 | B17: 후원금수입(비지정) | C17: 20000 | D17: 0 | E17: =E16+C17-D17 -> -171808 | F17: 신동수
A18: 44280 | B18: 후원금수입(비지정) | C18: 10000 | D18: 0 | E18: =E17+C18-D18 -> -161808 | F18: 정정숙
A19: 44284 | B19: 후원금수입(비지정) | C19: 5000 | D19: 0 | E19: =E18+C19-D19 -> -156808 | F19: 문호용
B20: 월 계 | C20: =SUM(C16:C19) -> 40000 | D20: 0 | E20: =E19+C20-D20 -> -116808
A21: 44298 | B21: 후원금수입(비지정) | C21: 20000 | D21: 0 | E21: =E20+C21-D21 -> -96808 | F21: 신동수
A22: 44312 | B22: 후원금수입(비지정) | C22: 10000 | D22: 0 | E22: =E21+C22-D22 -> -86808 | F22: 정정숙
A23: 44313 | B23: 후원금수입(비지정) | C23: 5000 | D23: 0 | E23: =E22+C23-D23 -> -81808 | F23: 문호용
B24: 월 계 | C24: =SUM(C21:C23) -> 35000 | D24: 0 | E24: =E23+C24-D24 -> -46808
A25: 44326 | B25: 후원금수입(비지정) | C25: 20000 | D25: 0 | E25: =E24+C25-D25 -> -26808 | F25: 신동수
A26: 44341 | B26: 후원금수입(비지정) | C26: 10000 | D26: 0 | E26: =E25+C26-D26 -> -16808 | F26: 정정숙
A27: 44343 | B27: 후원금수입(비지정) | C27: 5000 | D27: 0 | E27: =E26+C27-D27 -> -11808 | F27: 문호용
B28: 월 계 | C28: =SUM(C25:C27) -> 35000 | D28: 0 | E28: =E27+C28-D28 -> 23192
A29: 44357 | B29: 후원금수입(비지정) | C29: 20000 | D29: 0 | E29: =E28+C29-D29 -> 43192 | F29: 신동수
A30: 44372 | B30: 후원금수입(비지정) | C30: 10000 | D30: 0 | E30: =E29+C30-D30 -> 53192 | F30: 정정숙
A31: 44374 | B31: 후원금수입(비지정) | C31: 127 | D31: 0 | E31: =E30+C31-D31 -> 53319 | F31: 예금이자
A32: 44375 | B32: 후원금수입(비지정) | C32: 5000 | D32: 0 | E32: =E31+C32-D32 -> 58319 | F32: 문호용
B33: 월 계 | C33: =SUM(C29:C32) -> 35127 | D33: 0 | E33: =E32+C33-D33 -> 93446
A34: 44389 | B34: 후원금수입(비지정) | C34: 20000 | D34: 0 | E34: =E33+C34-D34 -> 113446 | F34: 신동수
A35: 44403 | B35: 후원금수입(비지정) | C35: 10000 | D35: 0 | E35: =E34+C35-D35 -> 123446 | F35: 정정숙
A36: 44404 | B36: 후원금수입(비지정) | C36: 5000 | D36: 0 | E36: =E35+C36-D36 -> 128446 | F36: 문호용
B37: 월 계 | C37: =SUM(C34:C36) -> 35000 | D37: 0 | E37: =E36+C37-D37 -> 163446
A38: 44418 | B38: 후원금수입(비지정) | C38: 20000 | E38: =E37+C38-D38 -> 183446 | F38: 신동수
A39: 44433 | B39: 후원금수입(비지정) | C39: 10000 | E39: =E38+C39-D39 -> 193446 | F39: 정정숙
A40: 44435 | B40: 후원금수입(비지정) | C40: 5000 | E40: =E39+C40-D40 -> 198446 | F40: 문호용
...

Sheet 후원금(법인)사용결과
B1: 2-4. 후원금 수입 및 사용결과 보고서
B2: (단위 : 원)
B3: 일 자 | C3: 후원금종류 | D3: 후원자 | E3: 내역 | F3: 금액 | G3: 비고
B4: 43831 | C4: 기타후원 | E4: 밝은언덕의 발전과 가족을 위해 | F4: 30000 | G4: 후원금수입(비지정)
B5: 43832 | C5: 기타후원 | E5: 밝은언덕의 발전과 가족을 위해 | F5: 50000 | G5: 후원금수입(비지정)
B6: 43840 | C6: 기타후원 | E6: 밝은언덕의 발전과 가족을 위해 | F6: 20000 | G6: 후원금수입(비지정)
B7: 43844 | C7: 기타후원 | E7: 밝은언덕의 발전과 가족을 위해 | F7: 10000 | G7: 후원금수입(비지정)
B8: 43850 | C8: 기타후원 | E8: 밝은언덕의 발전과 가족을 위해 | F8: 5000 | G8: 후원금수입(비지정)
B9: 43856 | C9: 기타후원 | E9: 밝은언덕의 발전과 가족을 위해 | F9: 20000 | G9: 후원금수입(비지정)
B10: 43858 | C10: 기타후원 | E10: 밝은언덕의 발전과 가족을 위해 | F10: 10000 | G10: 후원금수입(비지정)
B11: 43858 | C11: 기타후원 | E11: 밝은언덕의 발전과 가족을 위해 | F11: 5000 | G11: 후원금수입(비지정)
B12: 43862 | C12: 기타후원 | E12: 밝은언덕의 발전과 가족을 위해 | F12: 30000 | G12: 후원금수입(비지정)
B13: 43864 | C13: 기타후원 | E13: 밝은언덕의 발전과 가족을 위해 | F13: 50000 | G13: 후원금수입(비지정)
B14: 43871 | C14: 기타후원 | E14: 밝은언덕의 발전과 가족을 위해 | F14: 20000 | G14: 후원금수입(비지정)
B15: 43880 | C15: 기타후원 | E15: 밝은언덕의 발전과 가족을 위해 | F15: 5000 | G15: 후원금수입(비지정)
... B156: 44922 | C156: 기타후원 | E156: 밝은언덕의 발전과 가족을 위해 | F156: 5000 | G156: 후원금수입(비지정)
