Workbook

Sheet 후원금(시설)
A1: 2. 2022년 밝은언덕노인요양원 후원금 수입 · 지출 내역
A2: ( 단위 : 원 )
A3: 시설명 | B3: 후원금 수입 | L3: 후원금 지출 | AC3: 비고(잔액)
B4: 계 | C4: 지정후원금 이월금 | D4: 비지정후원금 이월금 | E4: 결연후원금 | F4: 지정후원금 | G4: 비지정후원금 | H4: 예금이자 | J4: 입금오류 | K4: 기타 (법인전입금) | L4: 계 | M4: 결연후원금 | N4: 지정후원금 | O4: 비지정후원금 | AB4: 지정후원금
I5: 결산이자 | O5: 계 | P5: 직접비 | Z5: 간접비 | AB5: 직접비
P6: 소계 | Q6: 인건비 | R6: 운영비 | S6: 주식비 | T6: 부식비 | U6: 난방비 | V6: 차량비 | W6: 입금오류 | X6: 수용기관경비 | Y6: 기타 | Z6: 소계 | AA6: 기타 | AB6: 지정후원금
A7: 밝은언덕노인요양원 | B7: =SUM(C7:K7) -> 102455083 | C7: ='후원금(시설)세부내역'!C13 -> 16545313 | D7: ='후원금(시설)세부내역'!C12 -> 17589494 | F7: ='후원금(시설)세부내역'!C6 -> 0 | G7: ='후원금(시설)세부내역'!C5 -> 68295000 | H7: ='후원금(시설)세부내역'!C7 -> 20321 | I7: ='후원금(시설)세부내역'!C8 -> 4955 | J7: ='후원금(시설)세부내역'!C9 -> 0 | K7: ='후원금(시설)세부내역'!C10 -> 0 | L7: =O7+AB7 -> 79887065 | O7: =P7 -> 76684065 | P7: =SUM(Q7:Y7) -> 76684065 | Q7: ='후원금(시설)세부내역'!C17 -> 0 | R7: ='후원금(시설)세부내역'!C19 -> 1200885 | S7: ='후원금(시설)세부내역'!C24 -> 5100000 | T7: ='후원금(시설)세부내역'!C26 -> 0 | U7: ='후원금(시설)세부내역'!C29 -> 0 | V7: ='후원금(시설)세부내역'!C27 -> 0 | W7: ='후원금(시설)세부내역'!C31 -> 0 | X7: ='후원금(시설)세부내역'!C32 -> 70383180 | AB7: ='후원금(시설)세부내역'!C34 -> 3203000 | AC7: =B8-Q8 -> 22568018
A8: 후원금수입총계 | B8: =B7 -> 102455083 | L8: 후원금지출총계 | Q8: =L7 -> 79887065 | AC8: =B8-Q8 -> 22568018
A27: 1. 2011년 사회복지법인 밝은언덕 후원금 수입 · 지출 내역
A30: ( 단위 : 원 )
A31: 법인명 | B31: 후원금 수입 | G31: 비지정후원금 | L31: 후원금 지출 | AC31: 비고(잔액)
B32: 계 | C32: 이월금 | E32: 결연후원금 | F32: 지정후원금 | K32: 기타 | L32: 계 | M32: 결연후원금 | N32: 지정후원금 | O32: 비지정후원금 | AB32: 기타
O33: 계 | P33: 직접비 | Z33: 간접비
G34: 2859927 | P34: 소계 | Q34: 인건비 | R34: 운영비 | S34: 주식비 | T34: 부식비 | U34: 교육비 | V34: 기타사업비 | Y34: 시설전출금 | Z34: 소계 | AA34: 기타
A35: 사회복지법인 밝은언덕 | B35: =C35+G34 -> 2859927 | L35: =O35 -> 66770 | O35: =P35+Z35 -> 66770 | P35: =SUM(Q35:Y35) -> 66770 | Q35: 0 | R35: 66770 | AC35: =B35-L35 -> 2793157
A36: 후원금수입총계 | B36: =B35 -> 2859927 | L36: 후원금지출총계 | Q36: =L35 -> 66770 | AC36: =B36-Q36 -> 2793157
O38: 2011 지정, 비지정 후원금 차기이월금 계 | AC38: =#REF!+AC36 -> #REF!
O41: 2011 지정, 비지정 후원금 차기이월금 계 | AC41: =#REF!+#REF! -> #REF!

Sheet 후원금(시설)세부내역
A1: 2-1. 2022년 밝은언덕 노인요양원 후원금 월별정산
A2: 수 입 | O2: (단위 : 원)
A3: 구 분 | C3: 계 | D3: 1 | E3: 2 | F3: 3 | G3: 4 | H3: 5 | I3: 6 | J3: 7 | K3: 8 | L3: 9 | M3: 10 | N3: 11 | O3: 12
A4: 2022년 | B4: 합계 | C4: =SUM(C5:C10) -> 68320276 | D4: =SUM(D5:D10) -> 5010000 | E4: =SUM(E5:E10) -> 5255000 | F4: =SUM(F5:F10) -> 7975000 | G4: =SUM(G5:G10) -> 4895000 | H4: =SUM(H5:H10) -> 9525000 | I4: =SUM(I5:I10) -> 5770497 | J4: =SUM(J5:J10) -> 5610000 | ... O4: =SUM(O5:O10) -> 5449779
B5: 비지정 | C5: =SUM(D5:O5) -> 68295000 | D5: 5010000 | E5: 5255000 | F5: 7975000 | G5: 4895000 | H5: 9525000 | I5: 5755000 | J5: 5610000 | K5: 4910000 | L5: 4410000 | M5: 4760000 | N5: 4750000 | O5: 5440000
B6: 지정 | C6: =SUM(D6:O6) -> 0
B7: 예금이자 | C7: =SUM(D7:O7) -> 20321 | I7: 10542 | O7: 9779
B8: 결산이자 | C8: =SUM(D8:O8) -> 4955 | I8: 4955
B9: 입금오류 | C9: =SUM(D9:O9) -> 0
B10: 법인전입금 | C10: =SUM(D10:O10) -> 0
A11: 2021년 이월금 | B11: 합계 | C11: =SUM(C12:C13) -> 34134807
B12: 비지정 | C12: 17589494
B13: 지정 | C13: 16545313
A14: 총 계 | C14: =SUM(C4,C11) -> 102455083
A15: 지 출 | O15: (단위 : 원)
A16: 구 분 | C16: 계 | D16: 1 | E16: 2 | F16: 3 | G16: 4 | H16: 5 | I16: 6 | J16: 7 | K16: 8 | L16: 9 | M16: 10 | N16: 11 | O16: 12
A17: 인건비 | C17: =SUM(D17:O17) -> 0 | D17: =D18 -> 0 | E17: =E18 -> 0 | F17: =F18 -> 0 | G17: =G18 -> 0 | H17: =H18 -> 0 | I17: =I18 -> 0 | J17: =J18 -> 0 | K17: =K18 -> 0 | ... O17: =O18 -> 0
B18: 인건비
A19: 사무운영비 | C19: =SUM(D19:O19) -> 1200885 | D19: =SUM(D20:D23) -> 99990 | E19: =SUM(E20:E23) -> 99990 | F19: =SUM(F20:F23) -> 103015 | G19: =SUM(G20:G23) -> 101640 | H19: =SUM(H20:H23) -> 100650 | I19: =SUM(I20:I23) -> 101490 | J19: =SUM(J20:J23) -> 100595 | K19: =SUM(K20:K23) -> 99715 | ... O19: =SUM(O20:O23) -> 98890
B20: 운영비
B21: cms사용료 | D21: 55000 | E21: 55220 | F21: 55000 | G21: 55770 | H21: 55110 | I21: 55000 | J21: 55000 | K21: 55000 | L21: 55000 | M21: 55000 | N21: 55000 | O21: 55110
B22: cms수수료 | D22: 44990 | E22: 44770 | F22: 48015 | G22: 45870 | H22: 45540 | I22: 44880 | J22: 45595 | K22: 44715 | L22: 43725 | M22: 43340 | N22: 42845 | O22: 43780
B23: 수용비및수수료 | I23: 1610
A24: 사업운영비 | C24: =SUM(D24:O24) -> 5100000 | D24: =SUM(D25:D31) -> 0 | E24: =SUM(E25:E31) -> 0 | F24: =SUM(F25:F31) -> 0 | G24: =SUM(G25:G31) -> 5000000 | H24: =SUM(H25:H31) -> 0 | I24: =SUM(I25:I31) -> 100000 | J24: =SUM(J25:J31) -> 0 | K24: =SUM(K25:K31) -> 0 | ... O24: =SUM(O25:O31) -> 0
B25: 주식비 | C25: =G25 -> 5000000 | G25: 5000000
B26: 부식비 | C26: =G26 -> 0
B27: 차량비 | C27: =G27 -> 0
B28: 의료비 | C28: =G28 -> 0
B29: 난방비 | C29: =G29 -> 0
B30: 수도광열비 | C30: =G30 -> 0
B31: 입금오류환불금 | C31: =G31 -> 0 | I31: 100000
A32: 입소자수용경비 | C32: =SUM(D32:O32) -> 70383180 | D32: =D33 -> 7026000 | E32: =E33 -> 0 | F32: =F33 -> 5188000 | G32: =G33 -> 16320000 | H32: =H33 -> 4814000 | I32: =I33 -> 8765880 | J32: =J33 -> 4824000 | K32: =K33 -> 8089000 | ... O32: =O33 -> 4738800
B33: 수용기관경비 | D33: 7026000 | F33: 5188000 | G33: 16320000 | H33: 4814000 | I33: 8765880 | J33: 4824000 | K33: 8089000 | L33: 5798500 | M33: 3379000 | N33: 1440000 | O33: 4738800
A34: 지정후원금 | C34: =SUM(D34:O34) -> 3203000 | D34: =D35 -> 0 | E34: =E35 -> 0 | F34: =F35 -> 0 | G34: =G35 -> 0 | H34: =H35 -> 1223000 | I34: =I35 -> 0 | J34: =J35 -> 0 | K34: =K35 -> 1980000 | ... O34: =O35 -> 0
B35: 지정후원금 | H35: 1223000 | K35: 1980000
A36: 총 계 | C36: =SUM(C17,C19,C24,C32,C34) -> 79887065 | D36: =SUM(D17,D19,D24,D32,D34) -> 7125990 | E36: =SUM(E17,E19,E24,E32,E34) -> 99990 | F36: =SUM(F17,F19,F24,F32,F34) -> 5291015 | G36: =SUM(G17,G19,G24,G32,G34) -> 21421640 | H36: =SUM(H17,H19,H24,H32,H34) -> 6137650 | I36: =SUM(I17,I19,I24,I32,I34) -> 8967370 | J36: =SUM(J17,J19,J24,J32,J34) -> 4924595 | ... O36: =SUM(O17,O19,O24,O32,O34) -> 4837690
A37: 잔 액 | C37: =C14-C36 -> 22568018 | O37: =A1:O37 -> 0

Sheet 비지정후원금(시설)세입.세출
A1: 2-2. 2022년 밝은언덕노인요양원 후원금 세입 계정 별 세출 계정
A2: 1) 비지정후원금 | F2: (단위 : 원)
A3: 년월일 | B3: 세출계정 | C3: 수입금액 | D3: 지출금액 | E3: 차인금액 | F3: 적요
B4: 전년이월금 | C4: 8401474 | D4: 0 | E4: =C4-D4 -> 8401474
A5: 44198 | B5: 비지정후원금 | C5: 10000 | E5: =E4+C5-D5 -> 8411474 | F5: 김분례
A6: 44200 | B6: 비지정후원금 | C6: 40000 | E6: =E5+C6-D6 -> 8451474 | F6: CMS등록후원자
A7: 44201 | B7: 비지정후원금 | C7: 100000 | E7: =E6+C7-D7 -> 8551474 | F7: 주석진레미콘
A8: 44201 | B8: 비지정후원금 | C8: 100000 | E8: =E7+C8-D8 -> 8651474 | F8: 김홍태
A9: 44201 | B9: 비지정후원금 | C9: 50000 | E9: =E8+C9-D9 -> 8701474 | F9: 김명옥
A10: 44202 | B10: 비지정후원금 | C10: 325000 | E10: =E9+C10-D10 -> 9026474 | F10: CMS등록후원자
A11: 44203 | B11: 비지정후원금 | C11: 475000 | E11: =E10+C11-D11 -> 9501474 | F11: CMS등록후원자
A12: 44203 | B12: 수용비및수수료 | D12: 55000 | E12: =E11+C12-D12 -> 9446474 | F12: cms사용료
A13: 44204 | B13: 비지정후원금 | C13: 20000 | E13: =E12+C13-D13 -> 9466474 | F13: 배경달
A14: 44207 | B14: 비지정후원금 | C14: 10000 | E14: =E13+C14-D14 -> 9476474 | F14: 배정열
A15: 44207 | B15: 비지정후원금 | C15: 10000 | E15: =E14+C15-D15 -> 9486474 | F15: 임만빈
A16: 44207 | B16: 비지정후원금 | C16: 30000 | E16: =E15+C16-D16 -> 9516474 | F16: CMS등록후원자
A17: 44209 | B17: 비지정후원금 | C17: 80000 | E17: =E16+C17-D17 -> 9596474 | F17: CMS등록후원자
A18: 44210 | B18: 비지정후원금 | C18: 5000 | E18: =E17+C18-D18 -> 9601474 | F18: CMS등록후원자
A19: 44210 | B19: 비지정후원금 | C19: 633 | E19: =E18+C19-D19 -> 9602107 | F19: 밝은언덕노인요양원
A20: 44214 | B20: 비지정후원금 | C20: 1115000 | E20: =E19+C20-D20 -> 10717107 | F20: CMS등록후원자
A21: 44215 | B21: 비지정후원금 | C21: 100000 | E21: =E20+C21-D21 -> 10817107 | F21: 임광재
A22: 44216 | B22: 비지정후원금 | C22: 30000 | E22: =E21+C22-D22 -> 10847107 | F22: 김종욱
A23: 44216 | B23: 비지정후원금 | C23: 10000 | E23: =E22+C23-D23 -> 10857107 | F23: 한경희
A24: 44216 | B24: 비지정후원금 | C24: 10000 | E24: =E23+C24-D24 -> 10867107 | F24: CMS등록후원자
... A36: 44225 | B36: 비지정후원금 | C36: 10000 | E36: =E35+C36-D36 -> 15912107 | F36: CMS등록후원자
A37: 44225 | B37: 수용기관경비 | D37: 4648950 | E37: =E36+C37-D37 -> 11263157 | F37: 조인푸드기저귀
A38: 44227 | B38: 수용비및수수료 | D38: 47850 | E38: =E37+C38-D38 -> 11215307 | F38: CMS총수수료
B39: 월 계 | C39: =SUM(C5:C38) -> 7565633 | D39: =SUM(D5:D38) -> 4751800
A40: 44228 | B40: 비지정후원금 | C40: 30000 | E40: =E38+C40-D40 -> 11245307 | F40: 권열
A41: 44228 | B41: 비지정후원금 | C41: 50000 | E41: =E40+C41-D41 -> 11295307 | F41: 강성용
A42: 44228 | B42: 비지정후원금 | C42: 10000 | E42: =E41+C42-D42 -> 11305307 | F42: 이경기
A43: 44228 | B43: 비지정후원금 | C43: 10000 | E43: =E42+C43-D43 -> 11315307 | F43: CMS등록후원자
A44: 44228 | B44: 비지정후원금 | C44: 10000 | E44: =E43+C44-D44 -> 11325307 | F44: 김분례
A45: 44230 | B45: 비지정후원금 | C45: 310000 | E45: =E44+C45-D45 -> 11635307 | F45: CMS등록후원자
A46: 44232 | B46: 비지정후원금 | C46: 100000 | E46: =E45+C46-D46 -> 11735307 | F46: 주석진레미콘
A47: 44232 | B47: 비지정후원금 | C47: 100000 | E47: =E46+C47-D47 -> 11835307 | F47: 김홍태
A48: 44232 | B48: 수용비및수수료 | D48: 55110 | E48: =E47+C48-D48 -> 11780197 | F48: CMS사용료
A49: 44235 | B49: 비지정후원금 | C49: 495000 | E49: =E48+C49-D49 -> 12275197 | F49: CMS등록후원자
A50: 44237 | B50: 비지정후원금 | C50: 10000 | E50: =E49+C50-D50 -> 12285197 | F50: 배정열
A51: 44237 | B51: 비지정후원금 | C51: 50000 | E51: =E50+C51-D51 -> 12335197 | F51: 김명옥
A52: 44237 | B52: 비지정후원금 | C52: 20000 | E52: =E51+C52-D52 -> 12355197 | F52: 장한미
A53: 44237 | B53: 비지정후원금 | C53: 20000 | E53: =E52+C53-D53 -> 12375197 | F53: 배경달
A54: 44237 | B54: 비지정후원금 | C54: 10000 | E54: =E53+C54-D54 -> 12385197 | F54: 임만빈
A55: 44237 | B55: 비지정후원금 | C55: 40000 | E55: =E54+C55-D55 -> 12425197 | F55: CMS등록후원자
A56: 44242 | B56: 비지정후원금 | C56: 90000 | E56: =E55+C56-D56 -> 12515197 | F56: CMS등록후원자
A57: 44244 | B57: 비지정후원금 | C57: 1120000 | E57: =E56+C57-D57 -> 13635197 | F57: CMS등록후원자
A58: 44245 | B58: 비지정후원금 | C58: 10000 | E58: =E57+C58-D58 -> 13645197 | F58: CMS등록후원자
A59: 44245 | B59: 비지정후원금 | C59: 1000000 | E59: =E58+C59-D59 -> 14645197 | F59: 대한불교조계종미타사
A60: 44247 | B60: 비지정후원금 | C60: 50000 | E60: =E59+C60-D60 -> 14695197 | F60: 최진영
... A69: 44255 | B69: 비지정후원금 | C69: 50000 | E69: =E68+C69-D69 -> 30703797 | F69: 이현주
A70: 44255 | B70: 수용비및수수료 | D70: 27720 | E70: =E69+C70-D70 -> 30676077 | F70: CMS총수수료
B71: 월 계 | C71: =SUM(C40:C70) -> 19543600 | D71: =SUM(D40:D70) -> 82830
A72: 44256 | B72: 비지정후원금 | C72: 30000 | E72: =E70+C72-D72 -> 30706077 | F72: 권열
A73: 44257 | B73: 비지정후원금 | C73: 50000 | E73: =E72+C73-D73 -> 30756077 | F73: 강성용
A74: 44257 | B74: 비지정후원금 | C74: 10000 | E74: =E73+C74-D74 -> 30766077 | F74: 이경기
A75: 44257 | B75: 비지정후원금 | C75: 10000 | E75: =E74+C75-D75 -> 30776077 | F75: 정인숙
A76: 44257 | B76: 수용기관경비 | D76: 5974000 | E76: =E75+C76-D76 -> 24802077 | F76: 조인푸드기저귀
A77: 44257 | B77: 비지정후원금 | C77: 1190000 | E77: =E76+C77-D77 -> 25992077 | F77: CMS등록후원자
A78: 44259 | B78: 비지정후원금 | C78: 410000 | E78: =E77+C78-D78 -> 26402077 | F78: CMS등록후원자
A79: 44260 | B79: 비지정후원금 | C79: 100000 | E79: =E78+C79-D79 -> 26502077 | F79: 주석진레미콘
A80: 44260 | B80: 비지정후원금 | C80: 20000 | E80: =E79+C80-D80 -> 26522077 | F80: CMS등록후원자
A81: 44260 | B81: 비지정후원금 | C81: 100000 | E81: =E80+C81-D81 -> 26622077 | F81: 김홍태
A82: 44260 | B82: 수용비및수수료 | D82: 55000 | E82: =E81+C82-D82 -> 26567077 | F82: CMS사용료
A83: 44263 | B83: 비지정후원금 | C83: 505000 | E83: =E82+C83-D83 -> 27072077 | F83: CMS등록후원자
A84: 44265 | B84: 비지정후원금 | C84: 10000 | E84: =E83+C84-D84 -> 27082077 | F84: 배정열
A85: 44265 | B85: 비지정후원금 | C85: 50000 | E85: =E84+C85-D85 -> 27132077 | F85: 김명옥
A86: 44265 | B86: 비지정후원금 | C86: 20000 | E86: =E85+C86-D86 -> 27152077 | F86: 배경달
A87: 44265 | B87: 비지정후원금 | C87: 10000 | E87: =E86+C87-D87 -> 27162077 | F87: 임만빈
A88: 44265 | B88: 비지정후원금 | C88: 40000 | E88: =E87+C88-D88 -> 27202077 | F88: CMS등록후원자
A89: 44267 | B89: 비지정후원금 | C89: 80000 | E89: =E88+C89-D89 -> 27282077 | F89: CMS등록후원자
A90: 44270 | B90: 비지정후원금 | C90: 5000 | E90: =E89+C90-D90 -> 27287077 | F90: CMS등록후원자
A91: 44272 | B91: 비지정후원금 | C91: 1095000 | E91: =E90+C91-D91 -> 28382077 | F91: CMS등록후원자
A92: 44273 | B92: 비지정후원금 | C92: 10000 | E92: =E91+C92-D92 -> 28392077 | F92: CMS등록후원자
A93: 44277 | B93: 비지정후원금 | C93: 30000 | E93: =E92+C93-D93 -> 28422077 | F93: 김종욱
A94: 44277 | B94: 비지정후원금 | C94: 10000 | E94: =E93+C94-D94 -> 28432077 | F94: 한경희
... A106: 44286 | B106: 비지정후원금 | C106: 20000 | E106: =E105+C106-D106 -> 30387077 | F106: CMS등록후원자
A107: 44286 | B107: 수용비및수수료 | D107: 66440 | E107: =E106+C107-D107 -> 30320637 | F107: 총CMS수수료
B108: 월 계 | C108: =SUM(C72:C107) -> 5740000 | D108: =SUM(D72:D107) -> 6095440
A109: 44287 | B109: 비지정후원금 | C109: 30000 | E109: =E107+C109-D109 -> 30350637 | F109: 권열
A110: 44287 | B110: 비지정후원금 | C110: 40000 | E110: =E109+C110-D110 -> 30390637 | F110: CMS등록후원자
A111: 44287 | B111: 비지정후원금 | C111: 10000 | E111: =E110+C111-D111 -> 30400637 | F111: 김분례
A112: 44291 | B112: 비지정후원금 | C112: 100000 | E112: =E111+C112-D112 -> 30500637 | F112: 주석진레미콘
A113: 44291 | B113: 비지정후원금 | C113: 270000 | E113: =E112+C113-D113 -> 30770637 | F113: CMS등록후원자
A114: 44291 | B114: 비지정후원금 | C114: 100000 | E114: =E113+C114-D114 -> 30870637 | F114: 김홍태
A115: 44291 | B115: 수용기관경비 | D115: 4205400 | E115: =E114+C115-D115 -> 26665237 | F115: 조인푸드기저귀
A116: 44291 | B116: 비지정후원금 | C116: 1000000 | E116: =E115+C116-D116 -> 27665237 | F116: 정수스님
A117: 44291 | B117: 비지정후원금 | C117: 300000 | E117: =E116+C117-D117 -> 27965237 | F117: 윤주희
A118: 44291 | B118: 비지정후원금 | C118: 50000 | E118: =E117+C118-D118 -> 28015237 | F118: 송명섭
A119: 44292 | B119: 비지정후원금 | C119: 10000 | E119: =E118+C119-D119 -> 28025237 | F119: 김우영
A120: 44292 | B120: 수용비및수수료 | D120: 55000 | E120: =E119+C120-D120 -> 27970237 | F120: CMS사용료
A121: 44293 | B121: 비지정후원금 | C121: 505000 | E121: =E120+C121-D121 -> 28475237 | F121: CMS등록후원자
A122: 44294 | B122: 비지정후원금 | C122: 20000 | E122: =E121+C122-D122 -> 28495237 | F122: CMS등록후원자
A123: 44295 | B123: 비지정후원금 | C123: 20000 | E123: =E122+C123-D123 -> 28515237 | F123: CMS등록후원자
A124: 44295 | B124: 비지정후원금 | C124: 20000 | E124: =E123+C124-D124 -> 28535237 | F124: 배경달
A125: 44298 | B125: 비지정후원금 | C125: 50000 | E125: =E124+C125-D125 -> 28585237 | F125: 김명옥
A126: 44298 | B126: 비지정후원금 | C126: 10000 | E126: =E125+C126-D126 -> 28595237 | F126: 배정열
A127: 44298 | B127: 비지정후원금 | C127: 10000 | E127: =E126+C127-D127 -> 28605237 | F127: 임만빈
A128: 44298 | B128: 비지정후원금 | C128: 2000000 | E128: =E127+C128-D128 -> 30605237 | F128: 상명스님
A129: 44300 | B129: 비지정후원금 | C129: 85000 | E129: =E128+C129-D129 -> 30690237 | F129: CMS등록후원자
A130: 44305 | B130: 비지정후원금 | C130: 1135000 | E130: =E129+C130-D130 -> 31825237 | F130: CMS등록후원자
...

Sheet 후원금(시설)사용결과
B1: 2-3. 후원금 수입 및 사용결과 보고서
B2: 1) 비지정후원금(금전) 수입 명세서 (단위 : 원)
B3: 일 자 | C3: 후원금종류 | D3: 후원자 | E3: 내역 | F3: 금액 | G3: 비고
B4: 43832 | C4: 기타후원 | E4: 밝은언덕의 발전과 가족을 위해 | F4: 90000 | G4: 후원금수입(비지정)
B5: 43836 | C5: 기타후원 | E5: 밝은언덕의 발전과 가족을 위해 | F5: 100000 | G5: 후원금수입(비지정)
B6: 43836 | C6: 기타후원 | E6: 밝은언덕의 발전과 가족을 위해 | F6: 30000 | G6: 후원금수입(비지정)
B7: 43836 | C7: 기타후원 | E7: 밝은언덕의 발전과 가족을 위해 | F7: 10000 | G7: 후원금수입(비지정)
B8: 43836 | C8: 기타후원 | E8: 밝은언덕의 발전과 가족을 위해 | F8: 270000 | G8: 후원금수입(비지정)
B9: 43836 | C9: 기타후원 | E9: 밝은언덕의 발전과 가족을 위해 | F9: 400000 | G9: 후원금수입(비지정)
B10: 43836 | C10: 기타후원 | E10: 밝은언덕의 발전과 가족을 위해 | F10: 1000000 | G10: 후원금수입(비지정)
B11: 43838 | C11: 기타후원 | E11: 밝은언덕의 발전과 가족을 위해 | F11: 550000 | G11: 후원금수입(비지정)
B12: 43838 | C12: 기타후원 | E12: 밝은언덕의 발전과 가족을 위해 | F12: 1000000 | G12: 후원금수입(비지정)
B13: 43839 | C13: 기타후원 | E13: 밝은언덕의 발전과 가족을 위해 | F13: 10000 | G13: 후원금수입(비지정)
B14: 43839 | C14: 기타후원 | E14: 밝은언덕의 발전과 가족을 위해 | F14: 20000 | G14: 후원금수입(비지정)
B15: 43840 | C15: 기타후원 | E15: 밝은언덕의 발전과 가족을 위해 | F15: 10000 | G15: 후원금수입(비지정)
... B711: 44499 | C711: 기타후원 | E711: 밝은언덕의 발전과 가족을 위해 | F711: 100000 | G711: 후원금수입(비지정)
B712: 2021/11/01 | C712: 기타후원 | E712: 밝은언덕의 발전과 가족을 위해 | F712: 30000 | G712: 후원금수입(비지정)
B713: 2021/11/01 | C713: 기타후원 | E713: 밝은언덕의 발전과 가족을 위해 | F713: 10000 | G713: 후원금수입(비지정)
B714: 2021/11/01 | C714: 기타후원 | E714: 밝은언덕의 발전과 가족을 위해 | F714: 50000 | G714: 후원금수입(비지정)
B715: 2021/11/01 | C715: 기타후원 | E715: 밝은언덕의 발전과 가족을 위해 | F715: 14065 | G715: 후원금수입(비지정)
B716: 2021/11/01 | C716: 기타후원 | E716: 밝은언덕의 발전과 가족을 위해 | F716: 30000 | G716: 후원금수입(비지정)
B717: 2021/11/01 | C717: 기타후원 | E717: 밝은언덕의 발전과 가족을 위해 | F717: 10000 | G717: 후원금수입(비지정)
B718: 2021/11/01 | C718: 기타후원 | E718: 밝은언덕의 발전과 가족을 위해 | F718: 20000 | G718: 후원금수입(비지정)
B719: 2021/11/03 | C719: 기타후원 | E719: 밝은언덕의 발전과 가족을 위해 | F719: 325765 | G719: 후원금수입(비지정)
B720: 2021/11/05 | C720: 기타후원 | E720: 밝은언덕의 발전과 가족을 위해 | F720: 100000 | G720: 후원금수입(비지정)
B721: 2021/11/05 | C721: 기타후원 | E721: 밝은언덕의 발전과 가족을 위해 | F721: 100000 | G721: 후원금수입(비지정)
B722: 2021/11/06 | C722: 기타후원 | E722: 밝은언덕의 발전과 가족을 위해 | F722: 10000 | G722: 후원금수입(비지정)
B723: 2021/11/08 | C723: 기타후원 | E723: 밝은언덕의 발전과 가족을 위해 | F723: 489775 | G723: 후원금수입(비지정)
... B751: 2021/11/30 | C751: 기타후원 | E751: 밝은언덕의 발전과 가족을 위해 | F751: 30000 | G751: 후원금수입(비지정)
B752: 44531 | C752: 기타후원 | E752: 밝은언덕의 발전과 가족을 위해 | F752: 30000 | G752: 후원금수입(비지정)
B753: 44531 | C753: 기타후원 | E753: 밝은언덕의 발전과 가족을 위해 | F753: 68790 | G753: 후원금수입(비지정)
B754: 44532 | C754: 기타후원 | E754: 밝은언덕의 발전과 가족을 위해 | F754: 59175 | G754: 후원금수입(비지정)
B755: 44532 | C755: 기타후원 | E755: 밝은언덕의 발전과 가족을 위해 | F755: 10000 | G755: 후원금수입(비지정)
B756: 44533 | C756: 기타후원 | E756: 밝은언덕의 발전과 가족을 위해 | F756: 60000 | G756: 후원금수입(비지정)
B757: 44533 | C757: 기타후원 | E757: 밝은언덕의 발전과 가족을 위해 | F757: 10000 | G757: 후원금수입(비지정)
B758: 44533 | C758: 기타후원 | E758: 밝은언덕의 발전과 가족을 위해 | F758: 300000 | G758: 후원금수입(비지정)
B759: 44533 | C759: 기타후원 | E759: 밝은언덕의 발전과 가족을 위해 | F759: 291095 | G759: 후원금수입(비지정)
B760: 44535 | C760: 기타후원 | E760: 밝은언덕의 발전과 가족을 위해 | F760: 100000 | G760: 후원금수입(비지정)
B761: 44536 | C761: 기타후원 | E761: 밝은언덕의 발전과 가족을 위해 | F761: 10000 | G761: 후원금수입(비지정)
B762: 44536 | C762: 기타후원 | E762: 밝은언덕의 발전과 가족을 위해 | F762: 100000 | G762: 후원금수입(비지정)
B763: 44538 | C763: 기타후원 | E763: 밝은언덕의 발전과 가족을 위해 | F763: 489775 | G763: 후원금수입(비지정)
... B1286: 44926 | C1286: 비지정후원금 | E1286: 밝은언덕의 발전과 가족을 위해 | F1286: 200000 | G1286: 후원금수입(비지정)

Sheet 사용명세서
B1: 2-3. 후원금 수입 및 사용결과 보고서
B2: 1-1) 비지정후원금(금전) 사용명세서 (단위 : 원)
B3: 사용일자 | C3: 사용내역 | D3: 금액 | E3: 산출기준 | F3: 비고
B4: 43836 | C4: 수용비및수수료 | D4: 55000 | E4: 사무운영비 | F4: 후원금수입(비지정)
B5: 43861 | C5: 수용비및수수료 | D5: 51700 | E5: 사무운영비 | F5: 후원금수입(비지정)
B6: 43866 | C6: 수용비및수수료 | D6: 55000 | E6: 사무운영비 | F6: 후원금수입(비지정)
B7: 43867 | C7: 수용기관경비 | D7: 4784000 | E7: 입소자수용경비 | F7: 후원금수입(비지정)
B8: 43868 | C8: 수용기관경비 | D8: 891000 | E8: 입소자수용경비 | F8: 후원금수입(비지정)
B9: 43876 | C9: 수용기관경비 | D9: 150000 | E9: 입소자수용경비 | F9: 후원금수입(비지정)
B10: 43876 | C10: 수용기관경비 | D10: 300000 | E10: 입소자수용경비 | F10: 후원금수입(비지정)
B11: 43876 | C11: 수용기관경비 | D11: 360000 | E11: 입소자수용경비 | F11: 후원금수입(비지정)
B12: 43876 | C12: 수용기관경비 | D12: 150000 | E12: 입소자수용경비 | F12: 후원금수입(비지정)
B13: 43876 | C13: 수용기관경비 | D13: 300000 | E13: 입소자수용경비 | F13: 후원금수입(비지정)
B14: 43876 | C14: 수용기관경비 | D14: 360000 | E14: 입소자수용경비 | F14: 후원금수입(비지정)
B15: 43895 | C15: 수용비및수수료 | D15: 55000 | E15: 사무운영비 | F15: 후원금수입(비지정)
... B106: 44499 | C106: CMS수수료 | D106: 47410 | E106: 사무운영비 | F106: 후원금수입(비지정)
B107: 2021/11/05 | C107: 수용기관경비 | D107: 4000000 | E107: 수용기관경비 | F107: 후원금수입(비지정)
B108: 2021/11/05 | C108: 수용비및수수료 | D108: 55000 | E108: 사무운영비 | F108: 후원금수입(비지정)
B109: 2021/11/05 | C109: 수용기관경비 | D109: 365500 | E109: 수용기관경비 | F109: 후원금수입(비지정)
B110: 2021/11/12 | C110: 수용기관경비 | D110: 1471000 | E110: 수용기관경비 | F110: 후원금수입(비지정)
B111: 44536 | C111: 수용비및수수료 | D111: 55000 | E111: 사무운영비 | F111: 후원금수입(비지정)
B112: 44555 | C112: 수용비및수수료 | D112: 1210 | E112: 사무운영비 | F112: 후원금수입(비지정)
B113: 44555 | C113: 수용비및수수료 | D113: 120 | E113: 사무운영비 | F113: 후원금수입(비지정)
B114: 44566 | C114: 수용비및수수료 | D114: 55000 | E114: 사무운영비 | F114: 후원금수입(비지정)
B115: 44578 | C115: 입소자수용경비 | D115: 500000 | E115: 수용기관경비 | F115: 후원금수입(비지정)
B116: 44587 | C116: 입소자수용경비 | D116: 3236000 | E116: 수용기관경비 | F116: 후원금수입(비지정)
B117: 44587 | C117: 입소자수용경비 | D117: 3290000 | E117: 수용기관경비 | F117: 후원금수입(비지정)
B118: 44589 | C118: 수용비및수수료 | D118: 44990 | E118: 사무운영비 | F118: 후원금수입(비지정)
B119: 44599 | C119: 수용비및수수료 | D119: 55220 | E119: 사무운영비 | F119: 후원금수입(비지정)
B120: 44620 | C120: 수용비및수수료 | D120: 44770 | E120: 사무운영비 | F120: 후원금수입(비지정)
B121: 44627 | C121: 입소자수용경비 | D121: 4188000 | E121: 수용기관경비 | F121: 후원금수입(비지정)
B122: 44627 | C122: 수용비및수수료 | D122: 55000 | E122: 사무운영비 | F122: 후원금수입(비지정)
... B161: 44926 | C161: 수용비및수수료 | D161: 43780 | E161: 사무운영비 | F161: 후원금수입(비지정)

Sheet 지정후원금(시설)사용결과
A1: 2-4. 후원금 수입 및 사용결과 보고서
A2: 1) 지정후원금(금전) 수입 명세서 (단위 : 원)
A3: 일 자 | B3: 후원금종류 | C3: 후원자 | D3: 내역 | E3: 금액 | F3: 비고
A4: 43865 | B4: 지정후원 | C4: DOUGLAS ACA | D4: 밝은언덕의 발전과 가족을 위해 | E4: 17627000 | F4: 후원금수입(지정)
A5: 44251 | B5: 지정후원 | C5: DOUGLAS ACA | D5: 밝은언덕의 발전과 가족을 위해 | E5: 15388600 | F5: 후원금수입(지정)

Sheet 지정후원금(시설)세입.세출
A1: 2-4. 2022년 밝은언덕노인요양원 후원금 세입 계정 별 세출 계정
A2: 1) 지정후원금 | F2: (단위 : 원)
A3: 년월일 | B3: 세출계정 | C3: 수입금액 | D3: 지출금액 | E3: 차인금액 | F3: 적요
B4: 전년이월금 | C4: 1156713 | D4: 0 | E4: =C4-D4 -> 1156713
A5: 2021.02.24 | B5: 지정후원금 | C5: 15388600 | D5: 0 | E5: =E4+C5-D5 -> 16545313
B6: 월 계 | C6: =SUM(C5) -> 15388600 | D6: 0
A7: 44692 | B7: 지정후원금 | C7: 0 | D7: 1223000 | E7: =E5+C7-D7 -> 15322313 | F7: 그린비 코퍼레이션
A8: 44797 | B8: 지정후원금 | C8: 0 | D8: 1980000 | E8: =E7+C8-D8 -> 13342313 | F8: 그린비 코퍼레이션
B9: 월 계 | C9: 0 | D9: =SUM(D7:D8) -> 3203000
B10: 소 계 | C10: =SUM(C4+C6) -> 16545313 | D10: =D9 -> 3203000

Sheet 지정사용명세서
A1: 2-4. 후원금 수입 및 사용결과 보고서
A2: 1-1) 지정후원금(금전) 사용명세서 (단위 : 원)
A3: 사용일자 | B3: 사용내역 | C3: 금액 | D3: 산출기준 | E3: 비고
A4: 43551 | B4: 밝은언덕노인요양원 | C4: 10000000 | E4: 후원금수입(지정)
A5: 43577 | B5: 밝은언덕노인요양원 | C5: 6600000 | E5: 후원금수입(지정)
A6: 44187 | B6: 밝은언덕노인요양원 | C6: 21000000 | E6: 후원금수입(지정)

Sheet 물품(시설)
B1: 3) 후원금(물품) 수입 명세서
B3: 연월 | C3: 후원물품의 종류 | D3: 후원자 | E3: 내역 | F3: 품명 | G3: 수량 | H3: 단위 | I3: 비고(원)
B4: 1월 | C4: 기타후원 | D4: 법농스님 | E4: 간식 | F4: 보리빵 | G4: 150 | H4: box | I4: 1500000
C5: 기타후원 | D5: 법농스님 | E5: 용품 | F5: 수건 | G5: 300 | H5: EA | I5: 300000 | N5: 다원 | O5: 1358000
C6: 기타후원 | D6: 평화사 | E6: 부식 | F6: 쌀 | G6: 6 | H6: 가마 | I6: 150000 | O6: 182000
B7: 2월 | C7: 기타후원 | D7: 동심 | E7: 주식 | F7: 김치 | G7: 400 | H7: kg | I7: 1200000 | O7: 98000
C8: 기타후원 | D8: 강식품 | E8: 주식 | F8: 국수 8kg | G8: 10 | H8: box | I8: 30000 | O8: 224000
C9: 기타후원 | D9: 중랑 건강 가정 · 다문화센터 | E9: 용품 | F9: 수건 | G9: 300 | H9: ea | I9: 300000 | O9: 112000
C10: 기타후원 | D10: 동원떡집 (이명구) | E10: 주식 | F10: 떡국 | G10: 10 | H10: box | I10: 100000 | O10: 140000
C11: 기타후원 | D11: 평화사 | E11: 주식 | F11: 쌀 | G11: 6 | H11: 가마 | I11: 150000 | O11: 140000
C12: 기타후원 | D12: 미타사 | E12: 주식 | F12: 쌀 | G12: 12 | H12: 가마 | I12: 300000 | O12: 252000
C13: 기타후원 | D13: 법농스님 | E13: 주식 | F13: 쌀 | G13: 6 | H13: 가마 | I13: 125000 | O13: =SUM(O5:O12) -> 2506000
C14: 기타후원 | D14: 로얄장 | E14: 주식 | F14: 쌀밥 | G14: 3 | H14: 말 | I14: 50000
C15: 기타후원 | D15: 정우숙 어르신 사위 | E15: 부식 | F15: 상추 | G15: 3 | H15: 자루 | I15: 45000
B16: 3월 | C16: 기타후원 | D16: 동심 | E16: 주식 | F16: 김치 | G16: 400 | H16: kg | I16: 1200000
C17: 기타후원 | D17: 강식품 | E17: 주식 | F17: 국수 7kg | G17: 10 | H17: box | I17: 30000
C18: 기타후원 | D18: 다원 잔기지 떡 | E18: 간식 | F18: 떡 | G18: 16 | H18: box | I18: 224000
C19: 기타후원 | D19: 장복화 | E19: 부식 | F19: 케일 | G19: 7 | H19: box | I19: 70000
B20: 4월 | C20: 기타후원 | D20: 동심 | E20: 주식 | F20: 김치 | G20: 400 | H20: kg | I20: 1200000
C21: 기타후원 | D21: 강식품 | E21: 주식 | F21: 국수 7kg | G21: 10 | H21: box | I21: 30000
C22: 기타후원 | D22: 복덕화 | E22: 부식 | F22: 케일 | G22: 10 | H22: box | I22: 50000
C23: 기타후원 | D23: 참사랑농장 | E23: 부식 | F23: 송로버섯 | G23: 10 | H23: box | I23: 1000000
B24: 5월 | C24: 기타후원 | D24: 동심 | E24: 주식 | F24: 김치 | G24: 400 | H24: kg | I24: 1200000
C25: 기타후원 | D25: 강식품 | E25: 주식 | F25: 국수 7kg | G25: 10 | H25: box | I25: 30000
C26: 기타후원 | D26: 정수스님 | E26: 간식 | F26: 바나나 | G26: 2 | H26: box | I26: 70000
C27: 기타후원 | D27: 강미자 | E27: 부식 | F27: 상추 | G27: 10 | H27: box | I27: 100000
C28: 기타후원 | D28: 복덕화 | E28: 부식 | F28: 야채 | G28: 10 | H28: box | I28: 100000
C29: 기타후원 | D29: 다원잔기지떡 | E29: 간식 | F29: 잔기지떡 | G29: 8 | H29: box | I29: 112000
B30: 6월 | C30: 기타후원 | D30: 동심 | E30: 주식 | F30: 김치 | G30: 400 | H30: kg | I30: 1200000
C31: 기타후원 | D31: 강식품 | E31: 주식 | F31: 국수 7kg | G31: 10 | H31: box | I31: 30000
C32: 기타후원 | D32: 권인숙 | E32: 간식 | F32: 떠먹는요구르트 | G32: 200 | H32: EA | I32: 200000
C33: 기타후원 | D33: 법농스님 | E33: 간식 | F33: 바나나 | G33: 2 | H33: box | I33: 30000
C34: 기타후원 | D34: 복덕화 | E34: 부식 | F34: 열무 오이 | G34: 10 | H34: box | I34: 100000
B35: 7월 | C35: 기타후원 | D35: 동심 | E35: 주식 | F35: 김치 | G35: 400 | H35: kg | I35: 1200000
C36: 기타후원 | D36: 강식품 | E36: 주식 | F36: 국수 7kg | G36: 10 | H36: box | I36: 30000
C37: 기타후원 | D37: 다원잔기지떡 | E37: 간식 | F37: 잔기지떡 | G37: 10 | H37: box | I37: 140000
C38: 기타후원 | D38: 지영수 | E38: 간식 | F38: 복숭아 | G38: 10 | H38: box | I38: 200000
C39: 기타후원 | D39: 한마음산원 | E39: 용품 | F39: EM소독약 | G39: 10 | H39: box | I39: 330000
C40: 기타후원 | D40: 장차남어르신 보호자분 | E40: 간식 | F40: 방울토마토 | G40: 4 | H40: BOX | I40: 40000
C41: 기타후원 | D41: 장복화 | E41: 부식 | F41: 오이, 아욱 | G41: 20 | H41: BOX | I41: 200000
C42: 기타후원 | D42: 장교순요양보호사선생님 지인 | E42: 간식 | F42: 수박 | G42: 10 | H42: box | I42: 200000
C43: 기타후원 | D43: 이천분어르신 보호자분 | E43: 간식 | F43: 복숭아 | G43: 1 | H43: box | I43: 20000
C44: 기타후원 | D44: 김영아 | E44: 주식 | F44: 삼계탕 | G44: 200 | H44: EA | I44: 600000
B45: 8월 | C45: 기타후원 | D45: 동심 | E45: 주식 | F45: 김치 | G45: 400 | H45: kg | I45: 1200000
C46: 기타후원 | D46: 강식품 | E46: 주식 | F46: 국수 7kg | G46: 10 | H46: box | I46: 30000
C47: 기타후원 | D47: 다원잔기지떡 | E47: 간식 | F47: 잔기지떡 | G47: 10 | H47: box | I47: 140000
C48: 기타후원 | D48: 지영수 | E48: 간식 | F48: 복숭아 | G48: 10 | H48: box | I48: 200000
C49: 기타후원 | D49: 연광수 | E49: 부식 | F49: 깻잎 | G49: 3 | H49: 자루 | I49: 60000
B50: 9월 | C50: 기타후원 | D50: 동심 | E50: 주식 | F50: 김치 | G50: 400 | H50: kg | I50: 1200000
C51: 기타후원 | D51: 강식품 | E51: 주식 | F51: 국수 7kg | G51: 10 | H51: box | I51: 30000
C52: 기타후원 | D52: 지영수 | E52: 간식 | F52: 복숭아 | G52: 10 | H52: box | I52: 200000
C53: 기타후원 | D53: 약산사 법정스님 | E53: 주식 | F53: 쌀국수 300ea | G53: 25 | H53: box | I53: 1500000
C54: 기타후원 | D54: 태백청과 | E54: 간식 | F54: 파인애플 | G54: 30 | H54: box | I54: 975000
B55: 10월 | C55: 기타후원 | D55: 동심 | E55: 주식 | F55: 김치 | G55: 400 | H55: kg | I55: 1200000
C56: 기타후원 | D56: 강식품 | E56: 주식 | F56: 국수 7kg | G56: 10 | H56: box | I56: 30000
C57: 기타후원 | D57: 잔기지떡 | E57: 간식 | F57: 잔기지떡 | G57: 18 | H57: box | I57: 252000
C58: 기타후원 | D58: 메디웰아이엔씨 | E58: 부식 | F58: 당뇨식 | G58: 41 | H58: box | I58: 1640000
C59: 기타후원 | F59: 프로틴 | G59: 6 | H59: box | I59: 203400
C60: 기타후원 | F60: 구수한맛 | G60: 5 | H60: box | I60: 124500
C61: 기타후원 | F61: 화이바 플러스 | G61: 5 | H61: box | I61: 124500
C62: 기타후원 | F62: 티에프 | G62: 31 | H62: box | I62: 1178000
B63: 11월 | C63: 기타후원 | D63: 동심 | E63: 주식 | F63: 김치 | G63: 400 | H63: kg | I63: 1200000
C64: 기타후원 | D64: 강식품 | E64: 주식 | F64: 국수 7kg | G64: 10 | H64: box | I64: 30000
C65: 기타후원 | D65: 애터미 주식회사 | E65: 부식 | F65: 두유 | G65: 6 | H65: box | I65: 90000
C66: 기타후원 | D66: 강미자 | E66: 주식 | F66: 쌀 | G66: 1 | H66: 가마니 | I66: 50000
E67: 부식 | F67: 표고버섯 | G67: 1 | H67: box | I67: 40000
C68: 기타후원 | D68: 도인순 | E68: 부식 | F68: 배추 | G68: 10 | H68: box | I68: 100000
F69: 무 | G69: 10 | H69: box | I69: 100000
C70: 기타후원 | D70: 장복화 | E70: 부식 | F70: 열무 | G70: 10 | H70: 자루 | I70: 100000
C71: 기타후원 | D71: 감곡연화보살 | E71: 간식 | F71: 사과 | G71: 7 | H71: box | I71: 118300
B72: 12월 | C72: 기타후원 | D72: 동심 | E72: 주식 | F72: 김치 | G72: 400 | H72: kg | I72: 1200000
C73: 기타후원 | D73: 강식품 | E73: 주식 | F73: 국수 7kg | G73: 10 | H73: box | I73: 30000
C74: 기타후원 | D74: 동완모친 | E74: 부식 | F74: 두부 | G74: 2 | H74: 말 | I74: 50000
E75: 부식 | F75: 비지 | G75: 10 | H75: kg | I75: 70000
C76: 기타후원 | D76: 연화보살 | E76: 간식 | F76: 사과 | G76: 7 | H76: box | I76: 100000
C77: 기타후원 | D77: 이완우 | E77: 주식 | F77: 쌀 | G77: 1 | H77: 포대 | I77: 30000
C78: 기타후원 | D78: 제주도 보살님 | E78: 간식 | F78: 귤 | G78: 8 | H78: box | I78: 80000
B79: 1월 | C79: 기타후원 | D79: 동심 | E79: 주식 | F79: 김치 | G79: 400 | H79: kg | I79: 1200000
C80: 기타후원 | D80: 강식품 | E80: 주식 | F80: 국수 8kg | G80: 10 | H80: box | I80: 30000
C81: 기타후원 | D81: 충북도청 후원품 | E81: 용품 | F81: 휴지 10롤 | G81: 115 | H81: ea | I81: 2250000
C82: 기타후원 | D82: 홍인표 | E82: 용품 | F82: 기저귀 | G82: 180 | H82: ea | I82: 300000
C83: 기타후원 | D83: 최홍식어르신보호자분 | E83: 용품 | F83: 기저귀 | G83: 180 | H83: ea | I83: 300000
C84: 기타후원 | D84: 더불어민주당 임호선 국회의원 | E84: 주식 | F84: 쌀 | G84: 100 | H84: kg | I84: 500000
B85: 2월 | C85: 기타후원 | D85: 동심 | E85: 주식 | F85: 김치 | G85: 400 | H85: kg | I85: 1200000
C86: 기타후원 | D86: 강식품 | E86: 주식 | F86: 국수 8kg | G86: 10 | H86: box | I86: 30000
C87: 기타후원 | D87: 복덕화 | E87: 부식 | F87: 시금치 | G87: 13 | H87: 자루 | I87: 130000
C88: 기타후원 | D88: 청주 평화사 | E88: 주식 | F88: 쌀 | G88: 6 | H88: 가마 | I88: 390000
C89: 기타후원 | D89: 형운스님 | E89: 주식 | F89: 쌀 | G89: 1 | H89: 가마 | I89: 65000
F90: 찹쌀모찌 | G90: 5 | H90: 박스 | I90: 55000
C91: 기타후원 | D91: 사무장님 | E91: 부식 | F91: 무 | G91: 5 | H91: 박스 | I91: 75000
C92: 기타후원 | D92: 완주 안심사 주지스님 | E92: 주식 | F92: 쌀 | G92: 10 | H92: 가마 | I92: 650000
B93: 3월 | C93: 기타후원 | D93: 동심 | E93: 주식 | F93: 김치 | G93: 400 | H93: kg | I93: 1200000
C94: 기타후원 | D94: 강식품 | E94: 주식 | F94: 국수 8kg | G94: 10 | H94: box | I94: 30000
C95: 기타후원 | D95: 장복화 | E95: 부식 | F95: 시금치 | G95: 10 | H95: kg | I95: 60000
F96: 적근대 | G96: 10 | H96: kg | I96: 99000
F97: 상추 | G97: 10 | H97: kg | I97: 80000
B98: 4월 | C98: 기타후원 | D98: 동심 | E98: 주식 | F98: 김치 | G98: 400 | H98: kg | I98: 1200000
C99: 기타후원 | D99: 강식품 | E99: 주식 | F99: 국수 8kg | G99: 10 | H99: box | I99: 30000
C100: 기타후원 | D100: 한벌리 2구 이장님 | E100: 부식 | F100: 콩나물 | G100: 3 | H100: box | I100: 30000
C101: 기타후원 | D101: 김동진 어르신 보호자분 | E101: 간식 | F101: 대추빵 | G101: 2 | H101: box | I101: 60000
...

Sheet 물품(시설)사용내역
A1: 4) 후원금(물품) 사용 명세서
A3: 사용 | B3: 사용내역 | C3: 사용처 | D3: 수량 | E3: 단위 | F3: 비고
A4: 1월 | B4: 바나나 | C4: 밝은언덕노인요양원 | D4: 5 | E4: box
B5: 귤 | C5: 밝은언덕노인요양원 | D5: 5 | E5: box
B6: 사탕 | C6: 밝은언덕노인요양원 | D6: 9 | E6: box
B7: 가래떡 | C7: 밝은언덕노인요양원 | D7: 1 | E7: box
B8: 귤 | C8: 밝은언덕노인요양원 | D8: 6 | E8: box
A9: 3월 | B9: 쌈채소 | C9: 밝은언덕노인요양원 | D9: 3 | E9: box
C10: 밝은언덕노인요양원 | D10: 6 | E10: EA
B11: 돈까스 | C11: 밝은언덕노인요양원 | D11: 7 | E11: Box
B12: 어묵 | C12: 밝은언덕노인요양원 | D12: 1 | E12: Box
B13: 숙주나물 | C13: 밝은언덕노인요양원 | D13: 7 | E13: Box
A14: 4월 | B14: 쌀 | C14: 밝은언덕노인요양원 | D14: 4 | E14: 가마
B15: 물티슈 | C15: 밝은언덕노인요양원 | D15: 10 | E15: BOX
B16: 손소독제 | C16: 밝은언덕노인요양원 | D16: 3 | E16: BOX
B17: 마스크 | C17: 밝은언덕노인요양원 | D17: 1 | E17: BOX
B18: 비타500 | C18: 밝은언덕노인요양원 | D18: 1 | E18: BOX
B19: 과자 | C19: 밝은언덕노인요양원 | D19: 1 | E19: BOX
B20: 요구르트 | C20: 밝은언덕노인요양원 | D20: 40 | E20: EA
A21: 5월 | B21: 바나나 | C21: 밝은언덕노인요양원 | D21: 3 | E21: box
B22: 국수 | C22: 밝은언덕노인요양원 | D22: 3 | E22: box
B23: 마시는 요구르트 | C23: 밝은언덕노인요양원 | D23: 8 | E23: box
B24: 참외 | C24: 밝은언덕노인요양원 | D24: 2 | E24: box
B25: 김치 | C25: 밝은언덕노인요양원 | D25: 400 | E25: kg
B26: 국수 7kg | C26: 밝은언덕노인요양원 | D26: 10 | E26: box
B27: 바나나 | C27: 밝은언덕노인요양원 | D27: 1 | E27: BOX
A28: 6월 | B28: 기저귀 | C28: 밝은언덕노인요양원 | D28: 3 | E28: box
B29: 김치 | C29: 밝은언덕노인요양원 | D29: 400 | E29: kg
B30: 국수 7kg | C30: 밝은언덕노인요양원 | D30: 10 | E30: box
B31: 블루베리 | C31: 밝은언덕노인요양원 | D31: 10 | E31: kg
A32: 7월 | B32: 김치 | C32: 밝은언덕노인요양원 | D32: 400 | E32: kg
B33: 국수 7kg | C33: 밝은언덕노인요양원 | D33: 10 | E33: box
B34: 복숭아 | C34: 밝은언덕노인요양원 | D34: 3 | E34: box
B35: 기저귀 | C35: 밝은언덕노인요양원 | D35: 3 | E35: box
A36: 8월 | B36: 김치 | C36: 밝은언덕노인요양원 | D36: 400 | E36: kg
B37: 국수 7kg | C37: 밝은언덕노인요양원 | D37: 10 | E37: box
B38: 삼계탕 | C38: 밝은언덕노인요양원 | D38: 20 | E38: box
A39: 9월 | B39: 김치 | C39: 밝은언덕노인요양원 | D39: 400 | E39: kg
B40: 국수 8kg | C40: 밝은언덕노인요양원 | D40: 10 | E40: box
B41: 복숭아 | C41: 밝은언덕노인요양원 | D41: 4 | E41: box
B42: 숙주나물 | C42: 밝은언덕노인요양원 | D42: 7 | E42: box
B43: 복숭아 | C43: 밝은언덕노인요양원 | D43: 4 | E43: box
B44: 쌀20kg | C44: 밝은언덕노인요양원 | D44: 5 | E44: 포대
A45: 10월 | B45: 김치 | C45: 밝은언덕노인요양원 | D45: 400 | E45: kg
B46: 국수 8kg | C46: 밝은언덕노인요양원 | D46: 10 | E46: box
B47: 떡 | C47: 밝은언덕노인요양원 | D47: 97 | E47: box
B48: 에어매트 | C48: 밝은언덕노인요양원 | D48: 2 | E48: ea
A49: 11월 | B49: 김치 | C49: 밝은언덕노인요양원 | D49: 400 | E49: kg
B50: 국수 8kg | C50: 밝은언덕노인요양원 | D50: 10 | E50: box
B51: 떡 | C51: 밝은언덕노인요양원 | D51: 13 | E51: box
B52: 마스크 | C52: 밝은언덕노인요양원 | D52: 2 | E52: box
B53: 쌀 | C53: 밝은언덕노인요양원 | D53: 20 | E53: kg
B54: 공진단 | C54: 밝은언덕노인요양원 | D54: 200 | E54: ea
B55: 파스 | C55: 밝은언덕노인요양원 | D55: 100 | E55: ea
B56: 소체환 | C56: 밝은언덕노인요양원 | D56: 30 | E56: ea
B57: 쌍패탕 | C57: 밝은언덕노인요양원 | D57: 60 | E57: ea
A58: 12월 | B58: 김치 | C58: 밝은언덕노인요양원 | D58: 400 | E58: kg
B59: 국수 8kg | C59: 밝은언덕노인요양원 | D59: 10 | E59: box
B60: 떡 | C60: 밝은언덕노인요양원 | D60: 7 | E60: box
B61: 소화기 받침대 | C61: 밝은언덕노인요양원 | D61: 50 | E61: ea
B62: 팥 | C62: 밝은언덕노인요양원 | D62: 2 | E62: 되
B63: 찹쌀 | C63: 밝은언덕노인요양원 | D63: 2 | E63: 되
B64: 나물 | C64: 밝은언덕노인요양원 | D64: 50 | E64: box
B65: 얼갈이 | C65: 밝은언덕노인요양원 | D65: 20 | E65: box
B66: 보리빵 | C66: 밝은언덕노인요양원 | D66: 150 | E66: ea
B67: 무 | C67: 밝은언덕노인요양원 | D67: 50 | E67: box
A68: 1월 | B68: 보리빵 | C68: 밝은언덕노인요양원 | D68: 150 | E68: box
B69: 수건 | C69: 밝은언덕노인요양원 | D69: 300 | E69: EA
B70: 쌀 | C70: 밝은언덕노인요양원 | D70: 6 | E70: 가마
A71: 2월 | B71: 김치 | C71: 밝은언덕노인요양원 | D71: 400 | E71: kg
B72: 국수 8kg | C72: 밝은언덕노인요양원 | D72: 10 | E72: box
B73: 수건 | C73: 밝은언덕노인요양원 | D73: 300 | E73: ea
B74: 떡국 | C74: 밝은언덕노인요양원 | D74: 10 | E74: box
B75: 쌀 | C75: 밝은언덕노인요양원 | D75: 6 | E75: 가마
B76: 쌀 | C76: 밝은언덕노인요양원 | D76: 12 | E76: 가마
B77: 쌀 | C77: 밝은언덕노인요양원 | D77: 6 | E77: 가마
B78: 쌀밥 | C78: 밝은언덕노인요양원 | D78: 3 | E78: 말
B79: 상추 | C79: 밝은언덕노인요양원 | D79: 3 | E79: 자루
A80: 3월 | B80: 김치 | C80: 밝은언덕노인요양원 | D80: 400 | E80: kg
B81: 국수 7kg | C81: 밝은언덕노인요양원 | D81: 10 | E81: box
B82: 떡 | C82: 밝은언덕노인요양원 | D82: 16 | E82: box
B83: 케일 | C83: 밝은언덕노인요양원 | D83: 7 | E83: box
A84: 4월 | B84: 김치 | C84: 밝은언덕노인요양원 | D84: 400 | E84: kg
B85: 국수 7kg | C85: 밝은언덕노인요양원 | D85: 10 | E85: box
B86: 케일 | C86: 밝은언덕노인요양원 | D86: 10 | E86: box
B87: 송로버섯 | C87: 밝은언덕노인요양원 | D87: 10 | E87: box
A88: 5월 | B88: 김치 | C88: 밝은언덕노인요양원 | D88: 400 | E88: kg
B89: 국수 7kg | C89: 밝은언덕노인요양원 | D89: 10 | E89: box
B90: 바나나 | C90: 밝은언덕노인요양원 | D90: 2 | E90: box
B91: 상추 | C91: 밝은언덕노인요양원 | D91: 10 | E91: box
B92: 야채 | C92: 밝은언덕노인요양원 | D92: 10 | E92: box
B93: 잔기지떡 | C93: 밝은언덕노인요양원 | D93: 8 | E93: box
A94: 6월 | B94: 김치 | C94: 밝은언덕노인요양원 | D94: 400 | E94: kg
B95: 국수 7kg | C95: 밝은언덕노인요양원 | D95: 10 | E95: box
B96: 바나나 | C96: 밝은언덕노인요양원 | D96: 2 | E96: box
B97: 수퍼백 | C97: 밝은언덕노인요양원 | D97: 200 | E97: EA
B98: 오이 열무 | C98: 밝은언덕노인요양원 | D98: 10 | E98: box
A99: 7월 | B99: 김치 | C99: 밝은언덕노인요양원 | D99: 400 | E99: kg
B100: 국수 7kg | C100: 밝은언덕노인요양원 | D100: 10 | E100: box
B101: 잔기지떡 | C101: 밝은언덕노인요양원 | D101: 10 | E101: box
...

Sheet 후원금(법인)
A1: 1. 2022년 사회복지법인 밝은언덕 후원금 수입 · 지출 내역
A2: ( 단위 : 원 )
A3: 법인명 | B3: 후원금 수입 | H3: 후원금 지출 | AK3: 비고(잔액)
B4: 계 | C4: 이월금 | D4: 결연후원금 | E4: 지정후원금 | F4: 비지정후원금 | G4: 예금이자 | H4: 계 | I4: 결연후원금 | J4: 지정후원금 | V4: 비지정후원금 | AJ4: 기타
J5: 계 | K5: 직접비 | U5: 간접비 | V5: 계 | W5: 직접비 | AH5: 간접비
K6: 소계 | L6: 운영비 | M6: 취득비 | N6: 주식비 | O6: 부식비 | P6: 피복비 | Q6: 의료비 | R6: 난방비 | S6: 운영비 | T6: 기타 | U6: 소계 | W6: 소계 | X6: 인건비 | Y6: 사무운영비 | Z6: 운영비 | AA6: 주식비 | AB6: 부식비 | AC6: 교육비 | AD6: 수용기관경비 | AE6: 시설전출금 | AF6: 재가센터전출금 | AG6: 입금오류출금 | AH6: 소계 | AI6: 기타
A7: 사회복지법인 밝은언덕 | B7: =SUM(C7:G7) -> 2938431 | C7: ='후원금(법인)세부내역'!C9 -> 517499 | F7: ='후원금(법인)세부내역'!C5 -> 2420521 | G7: ='후원금(법인)세부내역'!C7 -> 411 | H7: =V7+AH7 -> 2000000 | J7: =SUM(K7) -> 0 | K7: =SUM(M7+S7) -> 0 | R7: 21862767 | V7: =W7 -> 2000000 | W7: =Y7+Z7+AB7+AD7+AE7+AG7+AF7 -> 2000000 | Y7: ='후원금(법인)세부내역'!C14 -> 0 | Z7: ='후원금(법인)세부내역'!C19 -> 0 | AB7: 0 | AD7: 0 | AE7: 0 | AF7: ='후원금(법인)세부내역'!C27 -> 0 | AG7: ='후원금(법인)세부내역'!H30 -> 2000000 | AH7: 0 | AK7: =SUM(B7-H7) -> 938431
A8: 후원금수입총계 | B8: =B7 -> 2938431 | H8: 후원금지출총계 | W8: =H7 -> 2000000 | AK8: =B8-W8 -> 938431
A24: 3. 2012년 밝은언덕노인요양원 후원금 수입 · 지출 내역
A27: ( 단위 : 원 )
A28: 시설명 | B28: 후원금 수입 | H28: 후원금 지출 | AK28: 비고(잔액)
B29: 계 | C29: 이월금 | D29: 결연후원금 | E29: 지정후원금 | F29: 비지정후원금 | G29: 기타 (법인전입금) | H29: 계 | I29: 결연후원금 | J29: 지정후원금 | V29: 비지정후원금 | AJ29: 기타
V30: 계 | W30: 직접비 | AH30: 간접비
W31: 소계 | X31: 인건비 | Z31: 운영비 | AA31: 주식비 | AB31: 부식비 | AC31: 교육비 | AD31: 기타사업비 | AE31: 기타 | AH31: 소계 | AI31: 기타
A32: 밝은언덕노인요양원 | B32: =SUM(C32:G32) -> 46312167 | C32: 0 | F32: 27949400 | G32: 18362767 | H32: =V32 -> 41887767 | V32: =W32+AH32 -> 41887767 | W32: =SUM(X32:AD32) -> 41887767 | X32: 41362767 | AA32: 525000 | AK32: =B32-H32 -> 4424400
A33: 후원금수입총계 | B33: =B32 -> 46312167 | H33: 후원금지출총계 | X33: =H32 -> 41887767 | AK33: =B33-X33 -> 4424400
A52: 1. 2011년 사회복지법인 밝은언덕 후원금 수입 · 지출 내역
A55: ( 단위 : 원 )
A56: 법인명 | B56: 후원금 수입 | H56: 후원금 지출 | AK56: 비고(잔액)
B57: 계 | C57: 이월금 | D57: 결연후원금 | E57: 지정후원금 | F57: 비지정후원금 | G57: 기타 | H57: 계 | I57: 결연후원금 | J57: 지정후원금 | V57: 비지정후원금 | AJ57: 기타
V58: 계 | W58: 직접비 | AH58: 간접비
W59: 소계 | X59: 인건비 | Z59: 운영비 | AA59: 주식비 | AB59: 부식비 | AC59: 교육비 | AD59: 기타사업비 | AE59: 시설전출금 | AH59: 소계 | AI59: 기타
A60: 사회복지법인 밝은언덕 | B60: =C60+F60 -> 2859927 | F60: 2859927 | H60: =V60 -> 66770 | V60: =W60+AH60 -> 66770 | W60: =SUM(X60:AE60) -> 66770 | X60: 0 | Z60: 66770 | AK60: =B60-H60 -> 2793157
A61: 후원금수입총계 | B61: =B60 -> 2859927 | H61: 후원금지출총계 | X61: =H60 -> 66770 | AK61: =B61-X61 -> 2793157
V63: 2011 지정, 비지정 후원금 차기이월금 계 | AK63: =#REF!+AK61 -> #REF!
V66: 2011 지정, 비지정 후원금 차기이월금 계 | AK66: =#REF!+#REF! -> #REF!

Sheet 후원금(법인)세부내역
A1: 1-1. 2022년 사회복지법인 밝은언덕 후원금 월별정산
A2: 수 입 | M2: (단위 : 원)
A3: 구 분 | C3: 계 | D3: 1 | E3: 2 | F3: 3 | G3: 4 | H3: 5 | I3: 6 | J3: 7 | K3: 8 | L3: 9 | M3: 10 | N3: 11 | O3: 12
A4: 2022년 | B4: 합계 | C4: =SUM(D4:O4) -> 2420932 | D4: =SUM(D5:D7) -> 35000 | E4: =SUM(E5:E7) -> 35000 | F4: =SUM(F5:F7) -> 35000 | G4: =SUM(G5:G7) -> 2035000 | H4: =SUM(H5:H7) -> 35000 | I4: =SUM(I5:I7) -> 35521 | J4: =SUM(J5:J7) -> 35000 | K4: =SUM(K5:K7) -> 35000 | ... O4: =SUM(O5:O7) -> 35411
B5: 비지정 | C5: =SUM(D5:O5) -> 2420521 | D5: 35000 | E5: 35000 | F5: 35000 | G5: 2035000 | H5: 35000 | I5: 35521 | J5: 35000 | K5: 35000 | L5: 35000 | M5: 35000 | N5: 35000 | O5: 35000
B6: 지정
B7: 예금이자 | C7: =SUM(D7:O7) -> 411 | O7: 411
A8: 2021년 이월금 | B8: 합계 | C8: =SUM(C9:C10) -> 517499
B9: 비지정 | C9: 517499
B10: 지정
A11: 총 계 | C11: =SUM(C4+C8) -> 2938431
A12: 지 출 | M12: (단위 : 원)
A13: 구 분 | C13: 계 | D13: 1 | E13: 2 | F13: 3 | G13: 4 | H13: 5 | I13: 6 | J13: 7 | K13: 8 | L13: 9 | M13: 10 | N13: 11 | O13: 12
A14: 사무운영비 | C14: =SUM(D14:O14) -> 0 | D14: =SUM(D15:D16) -> 0 | E14: =SUM(E15:E16) -> 0 | F14: =SUM(F15:F16) -> 0 | G14: =SUM(G15:G16) -> 0 | H14: =SUM(H15:H16) -> 0 | I14: =SUM(I15:I16) -> 0 | J14: 0 | K14: =SUM(K15:K16) -> 0 | L14: =SUM(L15:L16) -> 0 | M14: =SUM(M15:M16) -> 0 | N14: =SUM(N15:N16) -> 0 | O14: =SUM(O15:O16) -> 0
B15: 보험료
B16: 수수료 | J16: 0
A17: 재산조성비 | C17: =SUM(D17:O17) -> 0 | D17: =D18 -> 0 | E17: =E18 -> 0 | F17: =F18 -> 0 | G17: =G18 -> 0 | H17: =H18 -> 0 | I17: =I18 -> 0 | J17: =J18 -> 0 | K17: =K18 -> 0 | ... O17: =O18 -> 0
B18: 자산취득비 | C18: =SUM(D18:O18) -> 0
A19: 사업운영비 | C19: =SUM(D19:O19) -> 0 | D19: =SUM(D20:D26) -> 0 | E19: =SUM(E20:E26) -> 0 | F19: =SUM(F20:F26) -> 0 | G19: =SUM(G20:G26) -> 0 | H19: =SUM(H20:H26) -> 0 | I19: =SUM(I20:I26) -> 0 | J19: =SUM(J20:J26) -> 0 | K19: =SUM(K20:K26) -> 0 | ... O19: =SUM(O20:O26) -> 0
B20: 주식비 | C20: =SUM(D20:O20) -> 0
B21: 부식비 | C21: =SUM(D21:O21) -> 0
B22: 피복비 | C22: =SUM(D22:O22) -> 0
B23: 의료비 | C23: =SUM(D23:O23) -> 0
B24: 난방비 | C24: =SUM(D24:O24) -> 0
B25: 수용기관경비 | C25: =SUM(D25:O25) -> 0
B26: 운영비 | C26: =SUM(D26:O26) -> 0
A27: 시설전출금 | C27: =SUM(C28:C29) -> 0 | D27: =SUM(D28:D29) -> 0 | E27: 0 | F27: =SUM(F28:F29) -> 0 | G27: =SUM(G28:G29) -> 0 | H27: =SUM(H28:H29) -> 0 | I27: =SUM(I28:I29) -> 0 | J27: =SUM(J28:J29) -> 0 | K27: =SUM(K28:K29) -> 0 | L27: =SUM(L28:L29) -> 0 | M27: =SUM(M28:M29) -> 0 | ... O27: =SUM(O28:O29) -> 0
A28: 시설전출금 | C28: =SUM(D28:O28) -> 0
A29: 재가센터전출금 | C29: =SUM(D29:O29) -> 0
A30: 입금오류출금 | C30: =SUM(D30:O30) -> 2000000 | D30: =D31 -> 0 | E30: =E31 -> 0 | F30: =F31 -> 0 | G30: =G31 -> 0 | H30: =H31 -> 2000000 | I30: =I31 -> 0 | J30: =J31 -> 0 | K30: =K31 -> 0 | ... O30: =O31 -> 0
A31: 입금오류출금 | C31: =SUM(D31:O31) -> 2000000 | D31: 0 | E31: 0 | F31: 0 | G31: 0 | H31: 2000000 | I31: 0 | J31: 0 | L31: 0 | M31: 0 | N31: 0 | O31: 0
A32: 총 계 | C32: =C14+C17+C19+C27+C30 -> 2000000 | D32: =SUM(D14,D17,D19,D27,D30) -> 0 | E32: =SUM(E14,E17,E19,E27,E30) -> 0 | F32: =SUM(F14,F17,F19,F27,F30) -> 0 | G32: =SUM(G14,G17,G19,G27,G30) -> 0 | H32: =SUM(H14,H17,H19,H27,H30) -> 2000000 | I32: =SUM(I14,I17,I19,I27,I30) -> 0 | J32: =SUM(J14,J17,J19,J27,J30) -> 0 | K32: =SUM(K14,K17,K19,K27,K30) -> 0 | ... O32: =SUM(O14,O17,O19,O27,O30) -> 0
A33: 잔 액 | C33: =C11-C32 -> 938431

Sheet 후원금(법인)세입.세출
A1: 1-2. 2022년 사회복지법인 밝은언덕 후원금 세입 계정 별 세출 계정
A2: 1) 비지정후원금 | F2: (단위 : 원)
A3: 년월일 | B3: 세출계정 | C3: 수입금액 | D3: 지출금액 | E3: 차인금액 | F3: 적요
B4: 전년이월금 | C4: 521152 | D4: 0 | E4: =C4+D4 -> 521152
A5: 44197 | B5: 후원금수입(비지정) | C5: 30000 | E5: =E4+C5-D5 -> 551152 | F5: 권열
A6: 44207 | B6: 후원금수입(비지정) | C6: 20000 | E6: =E5+C6-D6 -> 571152 | F6: 신동수
A7: 44216 | B7: 후원금수입(비지정) | D7: 424930 | E7: =E6+C7-D7 -> 146222 | F7: 62주8961
A8: 44216 | B8: 후원금수입(비지정) | D8: 59050 | E8: =E7+C8-D8 -> 87172 | F8: 71누9169
A9: 44221 | B9: 후원금수입(비지정) | C9: 10000 | E9: =E8+C9-D9 -> 97172 | F9: 정정숙
A10: 44223 | B10: 후원금수입(비지정) | C10: 5000 | E10: =E9+C10-D10 -> 102172 | F10: 문호용
B11: 월 계 | C11: =SUM(C5:C10) -> 65000 | D11: =SUM(D5:D10) -> 483980 | E11: =E10+C11-D11 -> -316808
A12: 44237 | B12: 후원금수입(비지정) | C12: 20000 | D12: 0 | E12: =E11+C12-D12 -> -296808
A13: 44252 | B13: 후원금수입(비지정) | C13: 10000 | D13: 0 | E13: =E12+C13-D13 -> -286808
A14: 44253 | B14: 후원금수입(비지정) | C14: 30000 | D14: 0 | E14: =E13+C14-D14 -> -256808
B15: 월 계 | C15: =SUM(C12:C14) -> 60000 | D15: 0 | E15: =E14+C15-D15 -> -196808
A16: 44257 | B16: 후원금수입(비지정) | C16: 5000 | D16: 0 | E16: =E15+C16-D16 -> -191808 | F16: 문호용
A17: 44265 | B17: 후원금수입(비지정) | C17: 20000 | D17: 0 | E17: =E16+C17-D17 -> -171808 | F17: 신동수
A18: 44280 | B18: 후원금수입(비지정) | C18: 10000 | D18: 0 | E18: =E17+C18-D18 -> -161808 | F18: 정정숙
A19: 44284 | B19: 후원금수입(비지정) | C19: 5000 | D19: 0 | E19: =E18+C19-D19 -> -156808 | F19: 문호용
B20: 월 계 | C20: =SUM(C16:C19) -> 40000 | D20: 0 | E20: =E19+C20-D20 -> -116808
A21: 44298 | B21: 후원금수입(비지정) | C21: 20000 | D21: 0 | E21: =E20+C21-D21 -> -96808 | F21: 신동수
A22: 44312 | B22: 후원금수입(비지정) | C22: 10000 | D22: 0 | E22: =E21+C22-D22 -> -86808 | F22: 정정숙
A23: 44313 | B23: 후원금수입(비지정) | C23: 5000 | D23: 0 | E23: =E22+C23-D23 -> -81808 | F23: 문호용
B24: 월 계 | C24: =SUM(C21:C23) -> 35000 | D24: 0 | E24: =E23+C24-D24 -> -46808
A25: 44326 | B25: 후원금수입(비지정) | C25: 20000 | D25: 0 | E25: =E24+C25-D25 -> -26808 | F25: 신동수
A26: 44341 | B26: 후원금수입(비지정) | C26: 10000 | D26: 0 | E26: =E25+C26-D26 -> -16808 | F26: 정정숙
A27: 44343 | B27: 후원금수입(비지정) | C27: 5000 | D27: 0 | E27: =E26+C27-D27 -> -11808 | F27: 문호용
B28: 월 계 | C28: =SUM(C25:C27) -> 35000 | D28: 0 | E28: =E27+C28-D28 -> 23192
A29: 44357 | B29: 후원금수입(비지정) | C29: 20000 | D29: 0 | E29: =E28+C29-D29 -> 43192 | F29: 신동수
A30: 44372 | B30: 후원금수입(비지정) | C30: 10000 | D30: 0 | E30: =E29+C30-D30 -> 53192 | F30: 정정숙
A31: 44374 | B31: 후원금수입(비지정) | C31: 127 | D31: 0 | E31: =E30+C31-D31 -> 53319 | F31: 예금이자
A32: 44375 | B32: 후원금수입(비지정) | C32: 5000 | D32: 0 | E32: =E31+C32-D32 -> 58319 | F32: 문호용
B33: 월 계 | C33: =SUM(C29:C32) -> 35127 | D33: 0 | E33: =E32+C33-D33 -> 93446
A34: 44389 | B34: 후원금수입(비지정) | C34: 20000 | D34: 0 | E34: =E33+C34-D34 -> 113446 | F34: 신동수
A35: 44403 | B35: 후원금수입(비지정) | C35: 10000 | D35: 0 | E35: =E34+C35-D35 -> 123446 | F35: 정정숙
A36: 44404 | B36: 후원금수입(비지정) | C36: 5000 | D36: 0 | E36: =E35+C36-D36 -> 128446 | F36: 문호용
B37: 월 계 | C37: =SUM(C34:C36) -> 35000 | D37: 0 | E37: =E36+C37-D37 -> 163446
A38: 44418 | B38: 후원금수입(비지정) | C38: 20000 | E38: =E37+C38-D38 -> 183446 | F38: 신동수
A39: 44433 | B39: 후원금수입(비지정) | C39: 10000 | E39: =E38+C39-D39 -> 193446 | F39: 정정숙
A40: 44435 | B40: 후원금수입(비지정) | C40: 5000 | E40: =E39+C40-D40 -> 198446 | F40: 문호용
B41: 월 계 | C41: =SUM(C38:C40) -> 35000 | E41: =E40+C41-D41 -> 233446
A42: 44449 | B42: 후원금수입(비지정) | C42: 20000 | E42: =E41+C42-D42 -> 253446 | F42: 신동수
A43: 44466 | B43: 후원금수입(비지정) | C43: 10000 | E43: =E42+C43-D43 -> 263446 | F43: 정정숙
A44: 44466 | B44: 후원금수입(비지정) | C44: 5000 | E44: =E43+C44-D44 -> 268446 | F44: 문호용
B45: 월 계 | C45: =SUM(C42:C44) -> 35000 | E45: =E44+C45-D45 -> 303446
A46: 44481 | B46: 후원금수입(비지정) | C46: 20000 | E46: =E45+C46-D46 -> 323446 | F46: 신동수
A47: 44494 | B47: 후원금수입(비지정) | C47: 10000 | E47: =E46+C47-D47 -> 333446 | F47: 정정숙
A48: 44496 | B48: 후원금수입(비지정) | C48: 5000 | E48: =E47+C48-D48 -> 338446 | F48: 문호용
B49: 월 계 | C49: =SUM(C46:C48) -> 35000 | E49: =E48+C49-D49 -> 373446
A50: 44510 | B50: 후원금수입(비지정) | C50: 20000 | E50: =E49+C50-D50 -> 393446 | F50: 신동수
A51: 44525 | B51: 후원금수입(비지정) | C51: 10000 | E51: =E50+C51-D51 -> 403446 | F51: 정정숙
A52: 44529 | B52: 후원금수입(비지정) | C52: 5000 | E52: =E51+C52-D52 -> 408446 | F52: 문호용
B53: 월 계 | C53: =SUM(C46:C48) -> 35000 | E53: =E52+C53-D53 -> 443446
A54: 44540 | B54: 후원금수입(비지정) | C54: 20000 | E54: =E53+C54-D54 -> 463446 | F54: 신동수
A55: 44555 | B55: 후원금수입(비지정) | C55: 10000 | E55: =E54+C55-D55 -> 473446 | F55: 정정숙
A56: 44557 | B56: 후원금수입(비지정) | C56: 5000 | E56: =E55+C56-D56 -> 478446 | F56: 문호용
A57: 44557 | B57: 후원금수입(비지정) | C57: 200 | E57: =E56+C57-D57 -> 478646 | F57: 예금이자
B58: 월 계 | C58: =SUM(C50:C52) -> 35000
A59: 44571 | B59: 후원금수입(비지정) | C59: 20000 | E59: =E4+C59-D59 -> 541152 | F59: 신동수
A60: 44586 | B60: 후원금수입(비지정) | C60: 10000 | E60: =E59+C60-D60 -> 551152 | F60: 정정숙
A61: 44588 | B61: 후원금수입(비지정) | C61: 5000 | E61: =E60+C61-D61 -> 556152 | F61: 문호용
B62: 월 계 | C62: =SUM(C59:C61) -> 35000
A63: 44602 | B63: 후원금수입(비지정) | C63: 20000 | D63: 0 | E63: =E61+C63-D63 -> 576152 | F63: 신동수
A64: 44617 | B64: 후원금수입(비지정) | C64: 10000 | D64: 0 | E64: =E63+C64-D64 -> 586152 | F64: 정정숙
A65: 44620 | B65: 후원금수입(비지정) | C65: 5000 | D65: 0 | E65: =E64+C65-D65 -> 591152 | F65: 문호용
B66: 월 계 | C66: =SUM(C63:C65) -> 35000 | D66: 0
A67: 44630 | B67: 후원금수입(비지정) | C67: 20000 | D67: 0 | E67: =E65+C67-D67 -> 611152 | F67: 신동수
A68: 44645 | B68: 후원금수입(비지정) | C68: 10000 | D68: 0 | E68: =E67+C68-D68 -> 621152 | F68: 정정숙
A69: 44648 | B69: 후원금수입(비지정) | C69: 5000 | D69: 0 | E69: =E68+C69-D69 -> 626152 | F69: 문호용
B70: 월 계 | C70: =SUM(C67:C69) -> 35000
A71: 44662 | B71: 후원금수입(비지정) | C71: 20000 | E71: =E69+C71-D71 -> 646152 | F71: 신동수
A72: 44665 | B72: 후원금수입(비지정) | C72: 2000000 | E72: =E71+C72-D72 -> 2646152 | F72: 대한불교조계종미타사
A73: 44676 | B73: 후원금수입(비지정) | C73: 10000 | E73: =E72+C73-D73 -> 2656152 | F73: 정정숙
A74: 44678 | B74: 후원금수입(비지정) | C74: 5000 | E74: =E73+C74-D74 -> 2661152 | F74: 문호용
B75: 월 계 | C75: =SUM(C71:C74) -> 2035000
A76: 44691 | B76: 후원금수입(비지정) | C76: 20000 | E76: =E74+C76-D76 -> 2681152 | F76: 신동수
A77: 44704 | B77: 착오반환금 | D77: 2000000 | E77: =E76+C77-D77 -> 681152 | F77: 대한불교조계종미타사
A78: 44706 | B78: 후원금수입(비지정) | C78: 10000 | E78: =E77+C78-D78 -> 691152 | F78: 정정숙
A79: 44708 | B79: 후원금수입(비지정) | C79: 5000 | E79: =E78+C79-D79 -> 696152 | F79: 문호용
B80: 월 계 | C80: =SUM(C76:C79) -> 35000 | D80: =SUM(D76:D79) -> 2000000
A81: 44722 | B81: 후원금수입(비지정) | C81: 20000 | E81: =E79+C81-D81 -> 716152 | F81: 신동수
A82: 44738 | B82: 예금이자 | C82: 521 | E82: =E81+C82-D82 -> 716673 | F82: 예금이자
A83: 44739 | B83: 후원금수입(비지정) | C83: 10000 | E83: =E82+C83-D83 -> 726673 | F83: 정정숙
A84: 44739 | B84: 후원금수입(비지정) | C84: 5000 | E84: =E83+C84-D84 -> 731673 | F84: 문호용
B85: 월 계 | C85: =SUM(C81:C84) -> 35521 | D85: =SUM(D81:D84) -> 0
A86: 44753 | B86: 후원금수입(비지정) | C86: 20000 | E86: =E84+C86-D86 -> 751673 | F86: 신동수
A87: 44767 | B87: 후원금수입(비지정) | C87: 10000 | E87: =E86+C87-D87 -> 761673 | F87: 정정숙
A88: 44769 | B88: 후원금수입(비지정) | C88: 5000 | E88: =E87+C88-D88 -> 766673 | F88: 문호용
B89: 월 계 | C89: =SUM(C86:C88) -> 35000
A90: 44783 | B90: 후원금수입(비지정) | C90: 20000 | E90: =E88+C90-D90 -> 786673 | F90: 신동수
A91: 44798 | B91: 후원금수입(비지정) | C91: 10000 | E91: =E90+C91-D91 -> 796673 | F91: 정정숙
A92: 44802 | B92: 후원금수입(비지정) | C92: 5000 | E92: =E91+C92-D92 -> 801673 | F92: 문호용
B93: 월 계 | C93: =SUM(C90:C92) -> 35000
A94: 44817 | B94: 후원금수입(비지정) | C94: 20000 | E94: =E92+C94-D94 -> 821673 | F94: 신동수
A95: 44830 | B95: 후원금수입(비지정) | C95: 10000 | E95: =E94+C95-D95 -> 831673 | F95: 정정숙
A96: 44831 | B96: 후원금수입(비지정) | C96: 5000 | E96: =E95+C96-D96 -> 836673 | F96: 문호용
B97: 월 계 | C97: =SUM(C94:C96) -> 35000
A98: 44845 | B98: 후원금수입(비지정) | C98: 20000 | E98: =E96+C98-D98 -> 856673
A99: 44859 | B99: 후원금수입(비지정) | C99: 10000 | E99: =E98+C99-D99 -> 866673
A100: 44861 | B100: 후원금수입(비지정) | C100: 5000 | E100: =E99+C100-D100 -> 871673
...

Sheet 후원금(법인)사용결과
B1: 2-4. 후원금 수입 및 사용결과 보고서
B2: (단위 : 원)
B3: 일 자 | C3: 후원금종류 | D3: 후원자 | E3: 내역 | F3: 금액 | G3: 비고
B4: 43831 | C4: 기타후원 | E4: 밝은언덕의 발전과 가족을 위해 | F4: 30000 | G4: 후원금수입(비지정)
B5: 43832 | C5: 기타후원 | E5: 밝은언덕의 발전과 가족을 위해 | F5: 50000 | G5: 후원금수입(비지정)
B6: 43840 | C6: 기타후원 | E6: 밝은언덕의 발전과 가족을 위해 | F6: 20000 | G6: 후원금수입(비지정)
B7: 43844 | C7: 기타후원 | E7: 밝은언덕의 발전과 가족을 위해 | F7: 10000 | G7: 후원금수입(비지정)
B8: 43850 | C8: 기타후원 | E8: 밝은언덕의 발전과 가족을 위해 | F8: 5000 | G8: 후원금수입(비지정)
B9: 43856 | C9: 기타후원 | E9: 밝은언덕의 발전과 가족을 위해 | F9: 20000 | G9: 후원금수입(비지정)
B10: 43858 | C10: 기타후원 | E10: 밝은언덕의 발전과 가족을 위해 | F10: 10000 | G10: 후원금수입(비지정)
B11: 43858 | C11: 기타후원 | E11: 밝은언덕의 발전과 가족을 위해 | F11: 5000 | G11: 후원금수입(비지정)
B12: 43862 | C12: 기타후원 | E12: 밝은언덕의 발전과 가족을 위해 | F12: 30000 | G12: 후원금수입(비지정)
B13: 43864 | C13: 기타후원 | E13: 밝은언덕의 발전과 가족을 위해 | F13: 50000 | G13: 후원금수입(비지정)
B14: 43871 | C14: 기타후원 | E14: 밝은언덕의 발전과 가족을 위해 | F14: 20000 | G14: 후원금수입(비지정)
B15: 43880 | C15: 기타후원 | E15: 밝은언덕의 발전과 가족을 위해 | F15: 5000 | G15: 후원금수입(비지정)
... B156: 44922 | C156: 기타후원 | E156: 밝은언덕의 발전과 가족을 위해 | F156: 5000 | G156: 후원금수입(비지정)
